BEGIN:VCALENDAR
VERSION:2.0
PRODID:-//L&#039;Orée de la Brie - ECPv6.5.1.4//NONSGML v1.0//EN
CALSCALE:GREGORIAN
METHOD:PUBLISH
X-ORIGINAL-URL:https://www.loreedelabrie.fr
X-WR-CALDESC:Évènements pour L&#039;Orée de la Brie
REFRESH-INTERVAL;VALUE=DURATION:PT1H
X-Robots-Tag:noindex
X-PUBLISHED-TTL:PT1H
BEGIN:VTIMEZONE
TZID:Europe/Paris
BEGIN:DAYLIGHT
TZOFFSETFROM:+0100
TZOFFSETTO:+0200
TZNAME:CEST
DTSTART:20260329T010000
END:DAYLIGHT
BEGIN:STANDARD
TZOFFSETFROM:+0200
TZOFFSETTO:+0100
TZNAME:CET
DTSTART:20261025T010000
END:STANDARD
END:VTIMEZONE
BEGIN:VEVENT
DTSTART;TZID=Europe/Paris:20260916T190000
DTEND;TZID=Europe/Paris:20260916T200000
DTSTAMP:20260420T000305
CREATED:20260115T160442Z
LAST-MODIFIED:20260115T160442Z
UID:16566-1789585200-1789588800@www.loreedelabrie.fr
SUMMARY:[CCOB] Conseil Communautaire
DESCRIPTION:[CCOB] Conseil Communautaire \n  \n \n 
URL:https://www.loreedelabrie.fr/evenement/ccob-conseil-communautaire-21/
LOCATION:L’Orée de la Brie\, 1 rue Léonard de Vinci\, Brie-Comte-Robert\, 77170\, France
CATEGORIES:Conseil communautaire
ATTACH;FMTTYPE=image/jpeg:https://www.loreedelabrie.fr/wp-content/uploads/tribe_events/conseil.jpg
END:VEVENT
END:VCALENDAR