BEGIN:VCALENDAR
VERSION:2.0
PRODID:-//L&#039;Orée de la Brie - ECPv6.5.1.4//NONSGML v1.0//EN
CALSCALE:GREGORIAN
METHOD:PUBLISH
X-WR-CALNAME:L&#039;Orée de la Brie
X-ORIGINAL-URL:https://www.loreedelabrie.fr
X-WR-CALDESC:Évènements pour L&#039;Orée de la Brie
REFRESH-INTERVAL;VALUE=DURATION:PT1H
X-Robots-Tag:noindex
X-PUBLISHED-TTL:PT1H
BEGIN:VTIMEZONE
TZID:Europe/Paris
BEGIN:DAYLIGHT
TZOFFSETFROM:+0100
TZOFFSETTO:+0200
TZNAME:CEST
DTSTART:20260329T010000
END:DAYLIGHT
BEGIN:STANDARD
TZOFFSETFROM:+0200
TZOFFSETTO:+0100
TZNAME:CET
DTSTART:20261025T010000
END:STANDARD
END:VTIMEZONE
BEGIN:VEVENT
DTSTART;TZID=Europe/Paris:20260607T153000
DTEND;TZID=Europe/Paris:20260607T153000
DTSTAMP:20260419T210132
CREATED:20260323T130817Z
LAST-MODIFIED:20260323T130919Z
UID:17107-1780846200-1780846200@www.loreedelabrie.fr
SUMMARY:[CHEVRY-COSSIGNY] Max et le grand magicien
DESCRIPTION:  \nSpectacle jeune public MAX ET LE GRAND MAGICIEN \n\nToujours présent dans son atelier tel l’homme invisible\, le professeur Spank va partager les secrets de ses tours les plus mythiques avec Max\, un jeune aventurier. \nMax réussira t-il à relever le plus étonnant des défis ? Une incroyable aventure ! \n\nDès 4 ans. \n  \nRéservation : reservationspectacle@chevry-cossigny.fr\n01 83 85 98 21
URL:https://www.loreedelabrie.fr/evenement/chevry-cossigny-max-et-le-grand-magicien/
LOCATION:La Marmite – Chevry-Cossigny\, rue Jean Delsol\, Chevry-Cossigny\, 77173\, France
CATEGORIES:Spectacle
ATTACH;FMTTYPE=image/jpeg:https://www.loreedelabrie.fr/wp-content/uploads/tribe_events/spectacle.jpg
END:VEVENT
BEGIN:VEVENT
DTSTART;TZID=Europe/Paris:20260614T093000
DTEND;TZID=Europe/Paris:20260614T093000
DTSTAMP:20260419T210132
CREATED:20260416T142736Z
LAST-MODIFIED:20260416T142736Z
UID:17570-1781429400-1781429400@www.loreedelabrie.fr
SUMMARY:[CHEVRY-COSSIGNY] Tournoi de Beach-Volley
DESCRIPTION:  \nPrêt(s) à plonger dans l’ambiance de l’été? \nUn filet\, du sable et de la bonne humeur\, le tournoi de Beach-Volley du BVB t’attend ! \nPas besoin d’être pro pour y participer\, juste avoir plus de 18 ans\, l’envie de bouger et de partager un moment convivial dans une ambiance détente. \nVenez nous affronter dimanche 14 juin à partir de 9h30 au parc des sports Albert Dauvergne\, à Chevry Cossigny ! \nFormez votre équipe (4 joueurs minimum dont une femme) et inscrivez-vous par mail : bvbchevry@gmail.com\, ou sur la page FB (inscriptions obligatoires\, 20€ par équipe) \nRestauration sur place . \n  \nAttention\, les places sont limitées\, ne tardez pas !
URL:https://www.loreedelabrie.fr/evenement/chevry-cossigny-tournoi-de-beach-volley/
LOCATION:Parc Albert Dauvergne\, Rue Albert Dauvergne\, Brie-Comte-Robert\, 77170\, France
CATEGORIES:Jeux,Sport
ATTACH;FMTTYPE=image/jpeg:https://www.loreedelabrie.fr/wp-content/uploads/tribe_events/forum-des-associations.jpg
END:VEVENT
BEGIN:VEVENT
DTSTART;TZID=Europe/Paris:20260623T203000
DTEND;TZID=Europe/Paris:20260623T203000
DTSTAMP:20260419T210132
CREATED:20260323T131256Z
LAST-MODIFIED:20260323T131256Z
UID:17111-1782246600-1782246600@www.loreedelabrie.fr
SUMMARY:[CHEVRY-COSSIGNY] JEREMY CHARBONEL "Seul tout"
DESCRIPTION:  \nSpectacle JEREMY CHARBONEL \n\nMais où est-ce que ça a merdé ? Jérémy Charbonnel livre ses galères de papa célibataire qui se bat pour ne pas finir comme son père… Mais pas que ! \n\nInfos pratiques\nPlein tarif : 15 €\nTarif réduit : 8 € \n\nRéservation : reservationspectacle@chevry-cossigny.fr\n01 83 85 98 21
URL:https://www.loreedelabrie.fr/evenement/chevry-cossigny-jeremy-charbonel-seul-tout/
LOCATION:La Marmite – Chevry-Cossigny\, rue Jean Delsol\, Chevry-Cossigny\, 77173\, France
CATEGORIES:Spectacle
ATTACH;FMTTYPE=image/jpeg:https://www.loreedelabrie.fr/wp-content/uploads/tribe_events/spectacle.jpg
END:VEVENT
BEGIN:VEVENT
DTSTART;TZID=Europe/Paris:20260624T190000
DTEND;TZID=Europe/Paris:20260624T200000
DTSTAMP:20260419T210132
CREATED:20260115T160315Z
LAST-MODIFIED:20260115T160315Z
UID:16564-1782327600-1782331200@www.loreedelabrie.fr
SUMMARY:[CCOB] Conseil Communautaire
DESCRIPTION:[CCOB] Conseil Communautaire
URL:https://www.loreedelabrie.fr/evenement/ccob-conseil-communautaire-20/
LOCATION:L’Orée de la Brie\, 1 rue Léonard de Vinci\, Brie-Comte-Robert\, 77170\, France
CATEGORIES:Conseil communautaire
ATTACH;FMTTYPE=image/jpeg:https://www.loreedelabrie.fr/wp-content/uploads/tribe_events/conseil.jpg
END:VEVENT
END:VCALENDAR