BEGIN:VCALENDAR
VERSION:2.0
PRODID:-//L&#039;Orée de la Brie - ECPv6.5.1.4//NONSGML v1.0//EN
CALSCALE:GREGORIAN
METHOD:PUBLISH
X-ORIGINAL-URL:https://www.loreedelabrie.fr
X-WR-CALDESC:Évènements pour L&#039;Orée de la Brie
REFRESH-INTERVAL;VALUE=DURATION:PT1H
X-Robots-Tag:noindex
X-PUBLISHED-TTL:PT1H
BEGIN:VTIMEZONE
TZID:Europe/Paris
BEGIN:DAYLIGHT
TZOFFSETFROM:+0100
TZOFFSETTO:+0200
TZNAME:CEST
DTSTART:20250330T010000
END:DAYLIGHT
BEGIN:STANDARD
TZOFFSETFROM:+0200
TZOFFSETTO:+0100
TZNAME:CET
DTSTART:20251026T010000
END:STANDARD
BEGIN:DAYLIGHT
TZOFFSETFROM:+0100
TZOFFSETTO:+0200
TZNAME:CEST
DTSTART:20260329T010000
END:DAYLIGHT
BEGIN:STANDARD
TZOFFSETFROM:+0200
TZOFFSETTO:+0100
TZNAME:CET
DTSTART:20261025T010000
END:STANDARD
END:VTIMEZONE
BEGIN:VEVENT
DTSTART;VALUE=DATE:20251129
DTEND;VALUE=DATE:20260104
DTSTAMP:20260421T184740
CREATED:20251210T084109Z
LAST-MODIFIED:20251210T084109Z
UID:16394-1764374400-1767484799@www.loreedelabrie.fr
SUMMARY:[BRIE-COMTE-ROBERT] Brie Conte Noël
DESCRIPTION:
URL:https://www.loreedelabrie.fr/evenement/brie-comte-robert-brie-conte-noel-2/
LOCATION:Brie-Comte-Robert\, Brie-Comte-Robert\, 77170\, France
CATEGORIES:Culture,Enfance,Festivités de fin d'année,Lecture,Marché de noël,Micro-folie,Noël,Spectacle,Théâtre
ATTACH;FMTTYPE=image/jpeg:https://www.loreedelabrie.fr/wp-content/uploads/tribe_events/Programme-Brie-Conte-Noel_Page_1.jpg
END:VEVENT
BEGIN:VEVENT
DTSTART;VALUE=DATE:20251213
DTEND;VALUE=DATE:20260209
DTSTAMP:20260421T184740
CREATED:20251210T085650Z
LAST-MODIFIED:20251210T085650Z
UID:16400-1765584000-1770595199@www.loreedelabrie.fr
SUMMARY:[BRIE-COMTE-ROBERT] Exposition Marylou
DESCRIPTION:Vernissage samedi 13 décembre à 11h30 en présence de l’artiste avec un concert/performance\n\nMarylou est une artiste plasticienne\, sonore et hackeuse ! Son travail se déploie à la fois dans les champs de la sculpture\, l’installation\, la performance et la musique. Passionnée d’écologie et d’électronique\, elle s’épanouit aujourd’hui dans la création de synthétiseurs\, d’installations\, de compositions et de performances atypiques donnant une nouvelle dimension poétique à l’étude de la biosphère et du changement climatique. \nHoraires des expositions : mercredi de 15h00 à 18h00\, samedi et dimanche de 10h00 à 13h00 et de 15h00 à 18h00. \nVisites commentées et accueil de groupes possibles sur rendez-vous \n  \nhttps://www.briecomterobert.fr/agenda/exposition-marylou/
URL:https://www.loreedelabrie.fr/evenement/brie-comte-robert-exposition-marylou/
LOCATION:centre d’art Hôtel-Dieu\, 2 place des Halles\, Brie-Comte-Robert\, 77170\, France
CATEGORIES:Exposition
ATTACH;FMTTYPE=image/jpeg:https://www.loreedelabrie.fr/wp-content/uploads/tribe_events/Exposition.jpg
END:VEVENT
BEGIN:VEVENT
DTSTART;VALUE=DATE:20251220
DTEND;VALUE=DATE:20260104
DTSTAMP:20260421T184740
CREATED:20251014T150404Z
LAST-MODIFIED:20251223T134018Z
UID:16011-1766188800-1767484799@www.loreedelabrie.fr
SUMMARY:[CCOB] Festivité de fin d'année
DESCRIPTION:  \nActivités payantes : 2 € par activité
URL:https://www.loreedelabrie.fr/evenement/ccob-festivite-de-fin-dannee/
LOCATION:L’Orée de la Brie\, 1 rue Léonard de Vinci\, Brie-Comte-Robert\, 77170\, France
CATEGORIES:Festivités de fin d'année,Micro-folie
ATTACH;FMTTYPE=image/jpeg:https://www.loreedelabrie.fr/wp-content/uploads/tribe_events/Noel.jpg
ORGANIZER;CN="L'Or%C3%A9e de la Brie":MAILTO:communaute@loreedelabrie.fr
END:VEVENT
BEGIN:VEVENT
DTSTART;TZID=Europe/Paris:20260107T100000
DTEND;TZID=Europe/Paris:20260107T120000
DTSTAMP:20260421T184740
CREATED:20260107T144238Z
LAST-MODIFIED:20260107T144238Z
UID:16514-1767780000-1767787200@www.loreedelabrie.fr
SUMMARY:[CCOB][MICRO-FOLIE] Venez découvrir les casques de réalité virtuelle
DESCRIPTION:
URL:https://www.loreedelabrie.fr/evenement/ccobmicro-folie-venez-decouvrir-les-casques-de-realite-virtuelle/
LOCATION:L’Orée de la Brie\, 1 rue Léonard de Vinci\, Brie-Comte-Robert\, 77170\, France
CATEGORIES:Culture,Micro-folie
ATTACH;FMTTYPE=image/png:https://www.loreedelabrie.fr/wp-content/uploads/tribe_events/micro-folie.jpg-2.png
ORGANIZER;CN="L'Or%C3%A9e de la Brie":MAILTO:communaute@loreedelabrie.fr
END:VEVENT
BEGIN:VEVENT
DTSTART;TZID=Europe/Paris:20260107T143000
DTEND;TZID=Europe/Paris:20260107T160000
DTSTAMP:20260421T184740
CREATED:20260107T142051Z
LAST-MODIFIED:20260107T142051Z
UID:16505-1767796200-1767801600@www.loreedelabrie.fr
SUMMARY:[CCOB][MICRO-FOLIE] L'art urbain
DESCRIPTION:  \n📍 Venez découvrir la Micro-Folie à L’Orée de la Brie\n  \nLa Micro-Folie vous accueille dans un espace entièrement dédié\, au siège de l’intercommunalité.\nInstallez-vous confortablement\, prenez une tablette et laissez-vous transporter au cœur des plus grands musées du monde. \nChaque semaine\, place aux Mercredis Culture !\n🕹️ Le matin\, enfilez un casque de réalité virtuelle pour vivre une expérience immersive unique au plus près des chefs-d’œuvre.\n🎨 L’après-midi\, explorez le musée interactif : partez à la découverte d’œuvres fascinantes grâce aux tablettes et à la grande projection. \nUn rendez-vous régulier pour apprendre\, s’émerveiller et partager la culture autrement — seul\, en famille ou entre amis ! \n  \n🤝 Vous souhaitez accueillir la Micro-Folie ?\n  \nÉcoles\, centres de loisirs\, associations ou collectivités :\ncontactez-nous pour organiser une escale culturelle dans votre structure. \n📩 microfolie@loreedelabrie.fr\n📞 07 88 74 36 07
URL:https://www.loreedelabrie.fr/evenement/ccobmicro-folie-lart-urbain/
LOCATION:L’Orée de la Brie\, 1 rue Léonard de Vinci\, Brie-Comte-Robert\, 77170\, France
CATEGORIES:Culture,Micro-folie
ATTACH;FMTTYPE=image/png:https://www.loreedelabrie.fr/wp-content/uploads/tribe_events/micro-folie.jpg-2.png
ORGANIZER;CN="L'Or%C3%A9e de la Brie":MAILTO:communaute@loreedelabrie.fr
END:VEVENT
BEGIN:VEVENT
DTSTART;TZID=Europe/Paris:20260110T100000
DTEND;TZID=Europe/Paris:20260110T170000
DTSTAMP:20260421T184740
CREATED:20251222T141034Z
LAST-MODIFIED:20251222T141034Z
UID:16472-1768039200-1768064400@www.loreedelabrie.fr
SUMMARY:[CHEVRY-COSSIGNY] Bourse aux jouets
DESCRIPTION:
URL:https://www.loreedelabrie.fr/evenement/chevry-cossigny-bourse-aux-jouets/
LOCATION:Gymnase du parc des sports Chevry-Cossigny\, 19 rue Albert Dauvergne\, Chevry-Cossigny\, 77173\, France
CATEGORIES:Associatif,Enfance
ATTACH;FMTTYPE=image/png:https://www.loreedelabrie.fr/wp-content/uploads/tribe_events/bourse-aux-jouets.png
END:VEVENT
BEGIN:VEVENT
DTSTART;TZID=Europe/Paris:20260110T140000
DTEND;TZID=Europe/Paris:20260110T180000
DTSTAMP:20260421T184740
CREATED:20260107T151503Z
LAST-MODIFIED:20260107T151503Z
UID:16525-1768053600-1768068000@www.loreedelabrie.fr
SUMMARY:[SERVON] Forum de l'orientation
DESCRIPTION:
URL:https://www.loreedelabrie.fr/evenement/servon-forum-de-lorientation/
LOCATION:Salle Roger Coudert – Servon\, 15 rue de la Poste\, Servon\, 77170\, France
CATEGORIES:Forum,Orientation jeunesse
ATTACH;FMTTYPE=image/jpeg:https://www.loreedelabrie.fr/wp-content/uploads/tribe_events/orientation.jpg
END:VEVENT
BEGIN:VEVENT
DTSTART;TZID=Europe/Paris:20260114T100000
DTEND;TZID=Europe/Paris:20260114T120000
DTSTAMP:20260421T184740
CREATED:20260107T145341Z
LAST-MODIFIED:20260107T145341Z
UID:16516-1768384800-1768392000@www.loreedelabrie.fr
SUMMARY:[CCOB][MICRO-FOLIE] Venez découvrir les casques de réalité virtuelle
DESCRIPTION:
URL:https://www.loreedelabrie.fr/evenement/ccobmicro-folie-venez-decouvrir-les-casques-de-realite-virtuelle-2/
LOCATION:L’Orée de la Brie\, 1 rue Léonard de Vinci\, Brie-Comte-Robert\, 77170\, France
CATEGORIES:Culture,Micro-folie
ATTACH;FMTTYPE=image/png:https://www.loreedelabrie.fr/wp-content/uploads/tribe_events/micro-folie.jpg-2.png
ORGANIZER;CN="L'Or%C3%A9e de la Brie":MAILTO:communaute@loreedelabrie.fr
END:VEVENT
BEGIN:VEVENT
DTSTART;TZID=Europe/Paris:20260114T143000
DTEND;TZID=Europe/Paris:20260114T160000
DTSTAMP:20260421T184740
CREATED:20260107T142539Z
LAST-MODIFIED:20260107T142539Z
UID:16507-1768401000-1768406400@www.loreedelabrie.fr
SUMMARY:[CCOB][MICRO-FOLIE] L'art urbain
DESCRIPTION:  \n  \n📍 Venez découvrir la Micro-Folie à L’Orée de la Brie\n  \nLa Micro-Folie vous accueille dans un espace entièrement dédié\, au siège de l’intercommunalité.\nInstallez-vous confortablement\, prenez une tablette et laissez-vous transporter au cœur des plus grands musées du monde. \nChaque semaine\, place aux Mercredis Culture !\n🕹️ Le matin\, enfilez un casque de réalité virtuelle pour vivre une expérience immersive unique au plus près des chefs-d’œuvre.\n🎨 L’après-midi\, explorez le musée interactif : partez à la découverte d’œuvres fascinantes grâce aux tablettes et à la grande projection. \nUn rendez-vous régulier pour apprendre\, s’émerveiller et partager la culture autrement — seul\, en famille ou entre amis ! \n  \n🤝 Vous souhaitez accueillir la Micro-Folie ?\n  \nÉcoles\, centres de loisirs\, associations ou collectivités :\ncontactez-nous pour organiser une escale culturelle dans votre structure. \n📩 microfolie@loreedelabrie.fr\n📞 07 88 74 36 07
URL:https://www.loreedelabrie.fr/evenement/ccobmicro-folie-lart-urbain-2/
LOCATION:L’Orée de la Brie\, 1 rue Léonard de Vinci\, Brie-Comte-Robert\, 77170\, France
CATEGORIES:Culture,Micro-folie
ATTACH;FMTTYPE=image/png:https://www.loreedelabrie.fr/wp-content/uploads/tribe_events/micro-folie.jpg-2.png
ORGANIZER;CN="L'Or%C3%A9e de la Brie":MAILTO:communaute@loreedelabrie.fr
END:VEVENT
BEGIN:VEVENT
DTSTART;TZID=Europe/Paris:20260117T150000
DTEND;TZID=Europe/Paris:20260117T150000
DTSTAMP:20260421T184740
CREATED:20260107T141453Z
LAST-MODIFIED:20260107T141453Z
UID:16502-1768662000-1768662000@www.loreedelabrie.fr
SUMMARY:[BRIE-COMTE-ROBERT] Conférence sur Lavau : l'incroyable tombeau d'un prince celte
DESCRIPTION:  \n \n  \nA Lavau\, près de Troyes\, les archéologues ont mis au jour un tumulus immense\, scellant une chambre funéraire de 14 mètres carrés : la tombe de ce riche celte mort au Vème siècle avant notre ère\, surnommé « le prince de Lavau »\, est l’une des découvertes les plus importantes que l’archéologie européenne ait connu ces dernières années. Le défunt\, richement paré\, repose sur son char et est entouré d’objets luxueux\, dont un service de vaisselle composé de magnifiques pièces grecques et étrusques en or et en argent. Qui est ce haut dignitaire ? Les études et analyses déployées pour l’appréhender\, marquent un grand pas pour la connaissance d’une civilisation celte à une époque charnière de son histoire. \nSur réservation par téléphone au 01 64 05 63 31 ou par mail à mediation.publics@amisduvieuxchateau.org
URL:https://www.loreedelabrie.fr/evenement/brie-comte-robert-conference-sur-lavau-lincroyable-tombeau-dun-prince-celte/
LOCATION:Vieux Château\, Brie-Comte-Robert\, 77170\, France
CATEGORIES:Associatif,Conférence
ATTACH;FMTTYPE=image/jpeg:https://www.loreedelabrie.fr/wp-content/uploads/tribe_events/conference.jpg
ORGANIZER;CN="Les Amis du Vieux Ch%C3%A2teau":MAILTO:contact@amisduvieuxchateau.org
END:VEVENT
BEGIN:VEVENT
DTSTART;TZID=Europe/Paris:20260121T100000
DTEND;TZID=Europe/Paris:20260121T120000
DTSTAMP:20260421T184740
CREATED:20260107T145543Z
LAST-MODIFIED:20260107T145543Z
UID:16518-1768989600-1768996800@www.loreedelabrie.fr
SUMMARY:[CCOB][MICRO-FOLIE] Venez découvrir les casques de réalité virtuelle
DESCRIPTION:
URL:https://www.loreedelabrie.fr/evenement/ccobmicro-folie-venez-decouvrir-les-casques-de-realite-virtuelle-3/
LOCATION:L’Orée de la Brie\, 1 rue Léonard de Vinci\, Brie-Comte-Robert\, 77170\, France
CATEGORIES:Culture,Micro-folie
ATTACH;FMTTYPE=image/png:https://www.loreedelabrie.fr/wp-content/uploads/tribe_events/micro-folie.jpg-2.png
ORGANIZER;CN="L'Or%C3%A9e de la Brie":MAILTO:communaute@loreedelabrie.fr
END:VEVENT
BEGIN:VEVENT
DTSTART;TZID=Europe/Paris:20260121T143000
DTEND;TZID=Europe/Paris:20260121T160000
DTSTAMP:20260421T184740
CREATED:20260107T142745Z
LAST-MODIFIED:20260107T142745Z
UID:16509-1769005800-1769011200@www.loreedelabrie.fr
SUMMARY:[CCOB][MICRO-FOLIE] L'art urbain
DESCRIPTION:  \n📍 Venez découvrir la Micro-Folie à L’Orée de la Brie\n  \nLa Micro-Folie vous accueille dans un espace entièrement dédié\, au siège de l’intercommunalité.\nInstallez-vous confortablement\, prenez une tablette et laissez-vous transporter au cœur des plus grands musées du monde. \nChaque semaine\, place aux Mercredis Culture !\n🕹️ Le matin\, enfilez un casque de réalité virtuelle pour vivre une expérience immersive unique au plus près des chefs-d’œuvre.\n🎨 L’après-midi\, explorez le musée interactif : partez à la découverte d’œuvres fascinantes grâce aux tablettes et à la grande projection. \nUn rendez-vous régulier pour apprendre\, s’émerveiller et partager la culture autrement — seul\, en famille ou entre amis ! \n  \n🤝 Vous souhaitez accueillir la Micro-Folie ?\n  \nÉcoles\, centres de loisirs\, associations ou collectivités :\ncontactez-nous pour organiser une escale culturelle dans votre structure. \n📩 microfolie@loreedelabrie.fr\n📞 07 88 74 36 07
URL:https://www.loreedelabrie.fr/evenement/ccobmicro-folie-lart-urbain-3/
LOCATION:L’Orée de la Brie\, 1 rue Léonard de Vinci\, Brie-Comte-Robert\, 77170\, France
CATEGORIES:Culture,Micro-folie
ATTACH;FMTTYPE=image/png:https://www.loreedelabrie.fr/wp-content/uploads/tribe_events/micro-folie.jpg-2.png
ORGANIZER;CN="L'Or%C3%A9e de la Brie":MAILTO:communaute@loreedelabrie.fr
END:VEVENT
BEGIN:VEVENT
DTSTART;VALUE=DATE:20260124
DTEND;VALUE=DATE:20260202
DTSTAMP:20260421T184740
CREATED:20260119T104907Z
LAST-MODIFIED:20260119T104929Z
UID:16579-1769212800-1769990399@www.loreedelabrie.fr
SUMMARY:[CHEVRY-COSSIGNY] Salon des beaux-arts
DESCRIPTION:  \n  \n Salon des Beaux-Arts 2026 \n Du 24 janvier au 1er février\, rejoignez-nous pour un rendez-vous artistique incontournable ! Une semaine exceptionnelle où la créativité et le talent s’exposent sous toutes leurs formes. \n Au programme :\n Vernissage : Samedi 24 janvier à 10h\n Nocturne & Live Painting : Mardi 27 janvier à 19h
URL:https://www.loreedelabrie.fr/evenement/chevry-cossigny-salon-des-beaux-arts-2/
LOCATION:La Marmite – Chevry-Cossigny\, rue Jean Delsol\, Chevry-Cossigny\, 77173\, France
CATEGORIES:Culture,Exposition,Salon
ATTACH;FMTTYPE=image/jpeg:https://www.loreedelabrie.fr/wp-content/uploads/tribe_events/Exposition.jpg
END:VEVENT
BEGIN:VEVENT
DTSTART;TZID=Europe/Paris:20260125T140000
DTEND;TZID=Europe/Paris:20260125T140000
DTSTAMP:20260421T184740
CREATED:20260119T144838Z
LAST-MODIFIED:20260119T144838Z
UID:16596-1769349600-1769349600@www.loreedelabrie.fr
SUMMARY:[VARENNES-JARCY] Dictée
DESCRIPTION:
URL:https://www.loreedelabrie.fr/evenement/varennes-jarcy-dictee-4/
LOCATION:Salle des fêtes Gérard Josselin\, 14 rue de la Libération\, Varennes-Jarcy\, 91480
CATEGORIES:Dictée
ATTACH;FMTTYPE=image/png:https://www.loreedelabrie.fr/wp-content/uploads/tribe_events/dictee.png
END:VEVENT
BEGIN:VEVENT
DTSTART;TZID=Europe/Paris:20260128T100000
DTEND;TZID=Europe/Paris:20260128T120000
DTSTAMP:20260421T184740
CREATED:20260107T145928Z
LAST-MODIFIED:20260107T145928Z
UID:16520-1769594400-1769601600@www.loreedelabrie.fr
SUMMARY:[CCOB][MICRO-FOLIE] Venez découvrir les casques de réalité virtuelle
DESCRIPTION:
URL:https://www.loreedelabrie.fr/evenement/ccobmicro-folie-venez-decouvrir-les-casques-de-realite-virtuelle-4/
LOCATION:L’Orée de la Brie\, 1 rue Léonard de Vinci\, Brie-Comte-Robert\, 77170\, France
CATEGORIES:Culture,Micro-folie
ATTACH;FMTTYPE=image/png:https://www.loreedelabrie.fr/wp-content/uploads/tribe_events/micro-folie.jpg-2.png
ORGANIZER;CN="L'Or%C3%A9e de la Brie":MAILTO:communaute@loreedelabrie.fr
END:VEVENT
BEGIN:VEVENT
DTSTART;TZID=Europe/Paris:20260128T143000
DTEND;TZID=Europe/Paris:20260128T160000
DTSTAMP:20260421T184740
CREATED:20260107T142938Z
LAST-MODIFIED:20260107T145733Z
UID:16511-1769610600-1769616000@www.loreedelabrie.fr
SUMMARY:[CCOB][MICRO-FOLIE] L'art urbain
DESCRIPTION:  \n📍 Venez découvrir la Micro-Folie à L’Orée de la Brie\n  \nLa Micro-Folie vous accueille dans un espace entièrement dédié\, au siège de l’intercommunalité.\nInstallez-vous confortablement\, prenez une tablette et laissez-vous transporter au cœur des plus grands musées du monde. \nChaque semaine\, place aux Mercredis Culture !\n🕹️ Le matin\, enfilez un casque de réalité virtuelle pour vivre une expérience immersive unique au plus près des chefs-d’œuvre.\n🎨 L’après-midi\, explorez le musée interactif : partez à la découverte d’œuvres fascinantes grâce aux tablettes et à la grande projection. \nUn rendez-vous régulier pour apprendre\, s’émerveiller et partager la culture autrement — seul\, en famille ou entre amis ! \n  \n🤝 Vous souhaitez accueillir la Micro-Folie ?\n  \nÉcoles\, centres de loisirs\, associations ou collectivités :\ncontactez-nous pour organiser une escale culturelle dans votre structure. \n📩 microfolie@loreedelabrie.fr\n📞 07 88 74 36 07
URL:https://www.loreedelabrie.fr/evenement/ccobmicro-folie-lart-urbain-4/
LOCATION:L’Orée de la Brie\, 1 rue Léonard de Vinci\, Brie-Comte-Robert\, 77170\, France
CATEGORIES:Culture,Micro-folie
ATTACH;FMTTYPE=image/png:https://www.loreedelabrie.fr/wp-content/uploads/tribe_events/micro-folie.jpg-2.png
ORGANIZER;CN="L'Or%C3%A9e de la Brie":MAILTO:communaute@loreedelabrie.fr
END:VEVENT
BEGIN:VEVENT
DTSTART;TZID=Europe/Paris:20260131T203000
DTEND;TZID=Europe/Paris:20260131T203000
DTSTAMP:20260421T184740
CREATED:20260114T141349Z
LAST-MODIFIED:20260114T141349Z
UID:16546-1769891400-1769891400@www.loreedelabrie.fr
SUMMARY:[BRIE-COMTE-ROBERT] Les bouffons
DESCRIPTION:  \n  \nPièce de théâtre proposée par la Compagnie Chien de Pique\, associée à la Compagnie Pipo en résidence sur la ville pour 3 ans.
URL:https://www.loreedelabrie.fr/evenement/brie-comte-robert-les-bouffons/
LOCATION:salle de spectacles Le Safran\, 80 avenue Victor Hugo\, Brie-Comte-Robert\, 77170\, France
CATEGORIES:Théâtre
ATTACH;FMTTYPE=image/jpeg:https://www.loreedelabrie.fr/wp-content/uploads/tribe_events/Theatre.jpg
END:VEVENT
END:VCALENDAR