BEGIN:VCALENDAR
VERSION:2.0
PRODID:-//L&#039;Orée de la Brie - ECPv6.5.1.4//NONSGML v1.0//EN
CALSCALE:GREGORIAN
METHOD:PUBLISH
X-ORIGINAL-URL:https://www.loreedelabrie.fr
X-WR-CALDESC:Évènements pour L&#039;Orée de la Brie
REFRESH-INTERVAL;VALUE=DURATION:PT1H
X-Robots-Tag:noindex
X-PUBLISHED-TTL:PT1H
BEGIN:VTIMEZONE
TZID:Europe/Paris
BEGIN:DAYLIGHT
TZOFFSETFROM:+0100
TZOFFSETTO:+0200
TZNAME:CEST
DTSTART:20260329T010000
END:DAYLIGHT
BEGIN:STANDARD
TZOFFSETFROM:+0200
TZOFFSETTO:+0100
TZNAME:CET
DTSTART:20261025T010000
END:STANDARD
END:VTIMEZONE
BEGIN:VEVENT
DTSTART;TZID=Europe/Paris:20260426T080000
DTEND;TZID=Europe/Paris:20260426T180000
DTSTAMP:20260421T093418
CREATED:20260323T130056Z
LAST-MODIFIED:20260323T130056Z
UID:17103-1777190400-1777226400@www.loreedelabrie.fr
SUMMARY:[CHEVRY-COSSIGNY] Brocante de printemps
DESCRIPTION:  \nTéléchargez le dossier d’inscription Dossier-dinscription-Brocante-Avril-2026
URL:https://www.loreedelabrie.fr/evenement/chevry-cossigny-brocante-de-printemps-2/
LOCATION:Centre-ville Chevry-Cossigny
CATEGORIES:Vide Grenier et Brocante
ATTACH;FMTTYPE=image/jpeg:https://www.loreedelabrie.fr/wp-content/uploads/tribe_events/vide-greniers-brocante.jpg
END:VEVENT
END:VCALENDAR