BEGIN:VCALENDAR
VERSION:2.0
PRODID:-//L&#039;Orée de la Brie - ECPv6.5.1.4//NONSGML v1.0//EN
CALSCALE:GREGORIAN
METHOD:PUBLISH
X-ORIGINAL-URL:https://www.loreedelabrie.fr
X-WR-CALDESC:Évènements pour L&#039;Orée de la Brie
REFRESH-INTERVAL;VALUE=DURATION:PT1H
X-Robots-Tag:noindex
X-PUBLISHED-TTL:PT1H
BEGIN:VTIMEZONE
TZID:Europe/Paris
BEGIN:DAYLIGHT
TZOFFSETFROM:+0100
TZOFFSETTO:+0200
TZNAME:CEST
DTSTART:20260329T010000
END:DAYLIGHT
BEGIN:STANDARD
TZOFFSETFROM:+0200
TZOFFSETTO:+0100
TZNAME:CET
DTSTART:20261025T010000
END:STANDARD
END:VTIMEZONE
BEGIN:VEVENT
DTSTART;TZID=Europe/Paris:20260411T203000
DTEND;TZID=Europe/Paris:20260411T203000
DTSTAMP:20260419T225315
CREATED:20260317T101037Z
LAST-MODIFIED:20260317T101037Z
UID:17031-1775939400-1775939400@www.loreedelabrie.fr
SUMMARY:[VARENNES-JARCY] Cabaret
DESCRIPTION:
URL:https://www.loreedelabrie.fr/evenement/varennes-jarcy-cabaret/
LOCATION:La Grange\, 2 rue de la Ferme\, Varennes-Jarcy\, 91480\, France
CATEGORIES:Musique,Show,Spectacle
ATTACH;FMTTYPE=image/jpeg:https://www.loreedelabrie.fr/wp-content/uploads/tribe_events/spectacle.jpg
END:VEVENT
END:VCALENDAR