BEGIN:VCALENDAR
VERSION:2.0
PRODID:-//L&#039;Orée de la Brie - ECPv6.5.1.4//NONSGML v1.0//EN
CALSCALE:GREGORIAN
METHOD:PUBLISH
X-WR-CALNAME:L&#039;Orée de la Brie
X-ORIGINAL-URL:https://www.loreedelabrie.fr
X-WR-CALDESC:Évènements pour L&#039;Orée de la Brie
REFRESH-INTERVAL;VALUE=DURATION:PT1H
X-Robots-Tag:noindex
X-PUBLISHED-TTL:PT1H
BEGIN:VTIMEZONE
TZID:Europe/Paris
BEGIN:DAYLIGHT
TZOFFSETFROM:+0100
TZOFFSETTO:+0200
TZNAME:CEST
DTSTART:20250330T010000
END:DAYLIGHT
BEGIN:STANDARD
TZOFFSETFROM:+0200
TZOFFSETTO:+0100
TZNAME:CET
DTSTART:20251026T010000
END:STANDARD
END:VTIMEZONE
BEGIN:VEVENT
DTSTART;VALUE=DATE:20250401
DTEND;VALUE=DATE:20251201
DTSTAMP:20260426T033544
CREATED:20250520T130044Z
LAST-MODIFIED:20251126T082101Z
UID:15117-1743465600-1764547199@www.loreedelabrie.fr
SUMMARY:[CCOB] Prise en charge de la destruction des nids de frelons asiatiques
DESCRIPTION:La Communauté de communes de l’Orée de la Brie est consciente des enjeux sanitaires et environnementaux liés au développement des colonies de frelons asiatiques et du risque pour ses habitants et souhaite faciliter la destruction des nids de frelons asiatiques présents sur son territoire.\n\nLes élus du bureau communautaire ont décidé de maintenir et de renouveler pour l’année 2025 la convention avec l’association Groupement Sanitaire Apicole de Seine-et-Marne du 77\, qui sera effective du 1er avril 2025 au 31 décembre 2025.\nAussi\, la CCOB prend en charge les frais de destruction engagés par le GDSA 77.\n(50 € pour un nid embryon\, 80 € pour un nid à hauteur d’homme\, 150 € pour un nid en hauteur).\n\nComment en bénéficier : vous constatez un nid de frelons actif à votre domicile ou dans votre entreprise situé sur une des 4 communes de notre territoire\, vous êtes invités à contacter la CCOB au 01 60 62 15 81 puis à envoyer un mail à communaute@loreedelabrie.fr comprenant votre adresse postale\, votre numéro de téléphone portable\, la localisation du nid et dans la mesure du possible des photos du nid. La CCOB contactera le GDSA 77 qui se rapprochera de vous pour convenir d’un rdv de destruction.\n\nBon à savoir : si ce nid de frelons se situe sur le chemin des roses\, merci de contacter le syndicat du chemin des roses basé à Grisy-Suisnes. 
URL:https://www.loreedelabrie.fr/evenement/ccob-prise-en-charge-de-la-destruction-des-nids-de-frelons-asiatiques/
LOCATION:L’Orée de la Brie\, 1 rue Léonard de Vinci\, Brie-Comte-Robert\, 77170\, France
CATEGORIES:Autre,Prévention
ATTACH;FMTTYPE=image/jpeg:https://www.loreedelabrie.fr/wp-content/uploads/2018/11/Logo-CCOB-seul-2016.jpg
ORGANIZER;CN="L'Or%C3%A9e de la Brie":MAILTO:communaute@loreedelabrie.fr
END:VEVENT
BEGIN:VEVENT
DTSTART;VALUE=DATE:20251001
DTEND;VALUE=DATE:20251101
DTSTAMP:20260426T033544
CREATED:20251001T102500Z
LAST-MODIFIED:20251001T102500Z
UID:15901-1759276800-1761955199@www.loreedelabrie.fr
SUMMARY:[CCOB/OCTOBRE ROSE] Vente goodies et bracelets pour l'accès au village rose
DESCRIPTION:Comme tous les ans\, à l’occasion d’octobre rose\, la CCOB vous propose des goodies à la vente dont le bénéfice est remis à une association qui lutte contre le cancer du sein. Cette année\, ce sera une association locale et très dynamique : @assoadonis Association Adonis !\n\n\nÀ la vente à partir du 1er octobre à la CCOB (1 rue Léonard de Vinci – Brie) :\n> T-shirt : 7 € – Nouveau modèle cette année !\n> Gourdes rose ou blanche : 5 €\n> Tote Bag : 5 €\n> Pin’s : 3 €\n> Bracelets donnant accès à la marche rose et au village rose du 19/10 : 5 €\n\n \nUn stand de prévention sera installé à Hyper U le samedi 18/10 de 10h00 à 12h30.\n \nVous pourrez aussi faire vos achats le jour de la marche le 19/10.\n 
URL:https://www.loreedelabrie.fr/evenement/ccob-octobre-rose-vente-goodies-et-bracelets-pour-lacces-au-village-rose/
LOCATION:L’Orée de la Brie\, 1 rue Léonard de Vinci\, Brie-Comte-Robert\, 77170\, France
CATEGORIES:Bien-être,Prévention
ATTACH;FMTTYPE=image/jpeg:https://www.loreedelabrie.fr/wp-content/uploads/tribe_events/Prevention.jpg
ORGANIZER;CN="L'Or%C3%A9e de la Brie":MAILTO:communaute@loreedelabrie.fr
END:VEVENT
BEGIN:VEVENT
DTSTART;TZID=Europe/Paris:20251012T090000
DTEND;TZID=Europe/Paris:20251012T170000
DTSTAMP:20260426T033544
CREATED:20250925T070829Z
LAST-MODIFIED:20250925T070829Z
UID:15850-1760259600-1760288400@www.loreedelabrie.fr
SUMMARY:[CHEVRY-COSSIGNY] Salon du mieux-être
DESCRIPTION:
URL:https://www.loreedelabrie.fr/evenement/chevry-cossigny-salon-du-mieux-etre/
LOCATION:La Marmite – Chevry-Cossigny\, rue Jean Delsol\, Chevry-Cossigny\, 77173\, France
CATEGORIES:Bien-être,Prévention,Salon
ATTACH;FMTTYPE=image/jpeg:https://www.loreedelabrie.fr/wp-content/uploads/tribe_events/Prevention.jpg
END:VEVENT
BEGIN:VEVENT
DTSTART;TZID=Europe/Paris:20251015T160000
DTEND;TZID=Europe/Paris:20251015T170000
DTSTAMP:20260426T033544
CREATED:20251001T093642Z
LAST-MODIFIED:20251001T093642Z
UID:15890-1760544000-1760547600@www.loreedelabrie.fr
SUMMARY:[CCOB/OCTOBRE ROSE] Zumba rose
DESCRIPTION:
URL:https://www.loreedelabrie.fr/evenement/ccob-octobre-rose-zumba-rose/
LOCATION:Parking Hyper U\, Rue Gustave Eiffel ZI DE LA HAIE PASSART\, Brie-Comte-Robert\, 77170\, France
CATEGORIES:Bien-être,Danse,Prévention
ATTACH;FMTTYPE=image/jpeg:https://www.loreedelabrie.fr/wp-content/uploads/tribe_events/zumba-rose.jpg
ORGANIZER;CN="L'Or%C3%A9e de la Brie":MAILTO:communaute@loreedelabrie.fr
END:VEVENT
BEGIN:VEVENT
DTSTART;TZID=Europe/Paris:20251016T183000
DTEND;TZID=Europe/Paris:20251016T200000
DTSTAMP:20260426T033544
CREATED:20251001T123530Z
LAST-MODIFIED:20251001T123530Z
UID:15906-1760639400-1760644800@www.loreedelabrie.fr
SUMMARY:[BRIE-COMTE-ROBERT/OCTOBRE ROSE] Initiation au self-defense
DESCRIPTION:Dans le cadre d’Octobre Rose\, rejoignez-nous pour deux sessions gratuites d’initiation au self-défense organisées par la ville de Brie-Comte-Robert – un événement ouvert à tous ! \n 
URL:https://www.loreedelabrie.fr/evenement/brie-comte-robert-octobre-rose-initiation-au-self-defense/
LOCATION:Salle de boxe Espace sportif Maurice Bony\, 1 rue des écoles\, Brie-Comte-Robert\, 77170\, France
CATEGORIES:Octobre Rose,Prévention,Sport
ATTACH;FMTTYPE=image/jpeg:https://www.loreedelabrie.fr/wp-content/uploads/tribe_events/Prevention.jpg
END:VEVENT
BEGIN:VEVENT
DTSTART;TZID=Europe/Paris:20251018T140000
DTEND;TZID=Europe/Paris:20251018T150000
DTSTAMP:20260426T033544
CREATED:20251001T094811Z
LAST-MODIFIED:20251001T101654Z
UID:15892-1760796000-1760799600@www.loreedelabrie.fr
SUMMARY:[CCOB/OCTOBRE ROSE] Zumba rose
DESCRIPTION:Venez participer à la Zumba rose à Eden coté cerf à 14h00.
URL:https://www.loreedelabrie.fr/evenement/ccob-octobre-rose-zumba-rose-2/
LOCATION:Eden Cerf\, 1 rue d'Iverny\, Le Noyer aux Perdrix\, Servon\, 77170\, France
CATEGORIES:Bien-être,Danse,Prévention
ATTACH;FMTTYPE=image/jpeg:https://www.loreedelabrie.fr/wp-content/uploads/tribe_events/zumba-rose.jpg
ORGANIZER;CN="L'Or%C3%A9e de la Brie":MAILTO:communaute@loreedelabrie.fr
END:VEVENT
BEGIN:VEVENT
DTSTART;TZID=Europe/Paris:20251019T090000
DTEND;TZID=Europe/Paris:20251019T130000
DTSTAMP:20260426T033544
CREATED:20251001T115557Z
LAST-MODIFIED:20251001T115557Z
UID:15904-1760864400-1760878800@www.loreedelabrie.fr
SUMMARY:[CCOB/OCTOBRE ROSE] Marche caritative et village rose
DESCRIPTION:MARCHE SOLIDAIRE : parcours de 5 km dans les rues de Brie-Comte-Robert. Départ 10h00 depuis le siège de la CCOB. 5 €. Petit-déjeuner et apéritif offert sur le village rose. \nVillage rose de la marche : accès 5€. Petit déjeuner offert par Hyper U de Brie et apéritif offert par Episol. Cette année les dons seront reversés à l’association locale Adonis : https://assoadonis.fr/. Vente de goodies. Présence de plusieurs stands d’information et de prévention :\n– Hôpital de Forcilles présentant son centre de sénologie\, le 1er en Seine-et-Marne : sensibilisation à l’autopalpation et dépistage. \n– La Ligue contre le cancer de Seine-et-Marne ;\n– la Maison Zen-et-Marne et la Maison Sport Santé de Forcilles présentant des ateliers proposés dans le cadre de la consolidation de la maladie ;\n– l’association ADONIS qui propose de la prévention\, de l’information sur le cancer du sein avec un buste d’autopalpation ;\n– la Ressource’Brie qui proposera à la vente des objets roses dont les fonds seront reversés à l’association Adonis ;\n– l’Association solidaire Alerte Rose ; \nMais également des stands en :\n– Socio-esthétique et socio-coiffure\n– Eye Care cosmetiques\n– Meli Mélo Bijoux\n– Hair Institut prothésiste capillaire\n– Réfléxologie \n– Spécialisés dans le maquillage permanent et la pigmentation correctrice : Dermonya\n– Spécialisés en turbans conforts et modernes : Suzeanne  \nMais aussi : \n> La Micro-Folie\, le musée numérique de la CCOB\, vous accueille à la CCOB pour découvrir une collection “Les femmes peintres”.
URL:https://www.loreedelabrie.fr/evenement/ccob-octobre-rose-marche-caritative-et-village-rose/
LOCATION:L’Orée de la Brie\, 1 rue Léonard de Vinci\, Brie-Comte-Robert\, 77170\, France
CATEGORIES:Bien-être,Marche solidaire,Prévention
ATTACH;FMTTYPE=image/jpeg:https://www.loreedelabrie.fr/wp-content/uploads/tribe_events/Prevention.jpg
ORGANIZER;CN="L'Or%C3%A9e de la Brie":MAILTO:communaute@loreedelabrie.fr
END:VEVENT
END:VCALENDAR