BEGIN:VCALENDAR
VERSION:2.0
PRODID:-//L&#039;Orée de la Brie - ECPv6.5.1.4//NONSGML v1.0//EN
CALSCALE:GREGORIAN
METHOD:PUBLISH
X-ORIGINAL-URL:https://www.loreedelabrie.fr
X-WR-CALDESC:Évènements pour L&#039;Orée de la Brie
REFRESH-INTERVAL;VALUE=DURATION:PT1H
X-Robots-Tag:noindex
X-PUBLISHED-TTL:PT1H
BEGIN:VTIMEZONE
TZID:Europe/Paris
BEGIN:DAYLIGHT
TZOFFSETFROM:+0100
TZOFFSETTO:+0200
TZNAME:CEST
DTSTART:20260329T010000
END:DAYLIGHT
BEGIN:STANDARD
TZOFFSETFROM:+0200
TZOFFSETTO:+0100
TZNAME:CET
DTSTART:20261025T010000
END:STANDARD
END:VTIMEZONE
BEGIN:VEVENT
DTSTART;TZID=Europe/Paris:20260401T143000
DTEND;TZID=Europe/Paris:20260401T160000
DTSTAMP:20260420T210403
CREATED:20260326T101253Z
LAST-MODIFIED:20260326T101253Z
UID:17150-1775053800-1775059200@www.loreedelabrie.fr
SUMMARY:[CCOB] Micro-Folie
DESCRIPTION:
URL:https://www.loreedelabrie.fr/evenement/ccob-micro-folie-8/
LOCATION:L’Orée de la Brie\, 1 rue Léonard de Vinci\, Brie-Comte-Robert\, 77170\, France
CATEGORIES:Culture,Exposition,Micro-folie
ATTACH;FMTTYPE=image/png:https://www.loreedelabrie.fr/wp-content/uploads/tribe_events/micro-folie.jpg-2.png
ORGANIZER;CN="L'Or%C3%A9e de la Brie":MAILTO:communaute@loreedelabrie.fr
END:VEVENT
END:VCALENDAR