BEGIN:VCALENDAR
VERSION:2.0
PRODID:-//L&#039;Orée de la Brie - ECPv6.5.1.4//NONSGML v1.0//EN
CALSCALE:GREGORIAN
METHOD:PUBLISH
X-ORIGINAL-URL:https://www.loreedelabrie.fr
X-WR-CALDESC:Évènements pour L&#039;Orée de la Brie
REFRESH-INTERVAL;VALUE=DURATION:PT1H
X-Robots-Tag:noindex
X-PUBLISHED-TTL:PT1H
BEGIN:VTIMEZONE
TZID:Europe/Paris
BEGIN:DAYLIGHT
TZOFFSETFROM:+0100
TZOFFSETTO:+0200
TZNAME:CEST
DTSTART:20240331T010000
END:DAYLIGHT
BEGIN:STANDARD
TZOFFSETFROM:+0200
TZOFFSETTO:+0100
TZNAME:CET
DTSTART:20241027T010000
END:STANDARD
END:VTIMEZONE
BEGIN:VEVENT
DTSTART;TZID=Europe/Paris:20240619T140000
DTEND;TZID=Europe/Paris:20240619T180000
DTSTAMP:20260422T074134
CREATED:20240424T104024Z
LAST-MODIFIED:20240424T104024Z
UID:13106-1718805600-1718820000@www.loreedelabrie.fr
SUMMARY:[CCOB] Séances de casque de réalité virtuelle
DESCRIPTION:  \nLes mercredis 5 et 19 juin : musée numérique\, découvrez les casques de réalité virtuelle de la Micro-Folie permettant aux habitants de la Communauté de communes de l’Orée de la Brie de vivre une expérience d’immersion et de mener une activité senso-motrice. \n\nAdmirez le Mont Blanc ou Pompéi comme si vous y étiez ! Venez tester gratuitement des séances de casques de réalité virtuelle. Vous pourrez également profiter d’une nage avec les dauphins\, visiter Notre-Dame\, découvrir les œuvres de Paul Gauguin ou les vestiges de Teotihuacan au Mexique. \n\nLa session dure 45 minutes et peut accueillir jusqu’à 8 personnes. \nInfos et inscription : microfolie@loreedelabrie.fr ou 07.88.74.36.07 – Bâtiment les Bains douches (BCR) – de 14h00 à 18h00. Gratuit
URL:https://www.loreedelabrie.fr/evenement/ccob-seances-de-casque-de-realite-virtuelle-2/
LOCATION:Bains douches\, Place Jeanne d'Evreux\, Brie-Comte-Robert\, 77170\, France
CATEGORIES:Micro-folie
ATTACH;FMTTYPE=image/png:https://www.loreedelabrie.fr/wp-content/uploads/tribe_events/micro-folie.jpg-2.png
ORGANIZER;CN="L'Or%C3%A9e de la Brie":MAILTO:communaute@loreedelabrie.fr
END:VEVENT
END:VCALENDAR