BEGIN:VCALENDAR
VERSION:2.0
PRODID:-//L&#039;Orée de la Brie - ECPv6.5.1.4//NONSGML v1.0//EN
CALSCALE:GREGORIAN
METHOD:PUBLISH
X-ORIGINAL-URL:https://www.loreedelabrie.fr
X-WR-CALDESC:Évènements pour L&#039;Orée de la Brie
REFRESH-INTERVAL;VALUE=DURATION:PT1H
X-Robots-Tag:noindex
X-PUBLISHED-TTL:PT1H
BEGIN:VTIMEZONE
TZID:Europe/Paris
BEGIN:DAYLIGHT
TZOFFSETFROM:+0100
TZOFFSETTO:+0200
TZNAME:CEST
DTSTART:20240331T010000
END:DAYLIGHT
BEGIN:STANDARD
TZOFFSETFROM:+0200
TZOFFSETTO:+0100
TZNAME:CET
DTSTART:20241027T010000
END:STANDARD
END:VTIMEZONE
BEGIN:VEVENT
DTSTART;VALUE=DATE:20240222
DTEND;VALUE=DATE:20240225
DTSTAMP:20260424T160806
CREATED:20231226T102334Z
LAST-MODIFIED:20240209T105120Z
UID:12163-1708560000-1708819199@www.loreedelabrie.fr
SUMMARY:[CCOB] La Micro-Folie de l'Orée de la Brie à EDEN Servon
DESCRIPTION:  \n  \n \n  \n  \n  \n  \nLa Communauté de communes de l’Orée de la Brie s’implique dans le domaine de la culture. avec la Micro-Folie. Elle est déployée sur tout le territoire de l’intercommunalité. \nIl s’agit d’un dispositif culturel innovant au service des territoires. La culture s’ouvre aux citoyens directement dans leur ville en proposant des collections d’œuvres d’art sous forme numérique. \nDotés d’une tablette et connectés à un grand écran\, vous pourrez voir\, revoir ou découvrir\, des tableaux\, des sculptures et toute autre œuvre d’art en exposition dans les grands musées de France. \nLa CCOB a adhéré au projet en fin d’année 2022 et bénéficie de subventions pour sa mise en place sur le territoire. \nCe musée itinérant et numérique propose\, entre autres\, les collections de La Villette et sera destiné aux écoles\, centres de loisirs\, associations ou encore collectivités de la CCOB et au grand public. \nPROGRAMMATION : \n> La Micro-Folie s’installe à Eden Cerf\, Servon : \n– Du 22 au 24 février 2024 \n– Et du 18 au 20 avril 2024 \n  \nInfos auprès d’Agnès Laviolette : microfolie@loreedelabrie.fr / 07 88 74 36 07
URL:https://www.loreedelabrie.fr/evenement/ccob-la-micro-folie-de-loree-de-la-brie-2/
LOCATION:Eden Cerf\, 1 rue d'Iverny\, Le Noyer aux Perdrix\, Servon\, 77170\, France
CATEGORIES:Micro-folie
ATTACH;FMTTYPE=image/jpeg:https://www.loreedelabrie.fr/wp-content/uploads/2023/04/logoMFCCOB-miseenavantsite.jpg
ORGANIZER;CN="L'Or%C3%A9e de la Brie":MAILTO:communaute@loreedelabrie.fr
END:VEVENT
END:VCALENDAR