BEGIN:VCALENDAR
VERSION:2.0
PRODID:-//L&#039;Orée de la Brie - ECPv6.5.1.4//NONSGML v1.0//EN
CALSCALE:GREGORIAN
METHOD:PUBLISH
X-WR-CALNAME:L&#039;Orée de la Brie
X-ORIGINAL-URL:https://www.loreedelabrie.fr
X-WR-CALDESC:Évènements pour L&#039;Orée de la Brie
REFRESH-INTERVAL;VALUE=DURATION:PT1H
X-Robots-Tag:noindex
X-PUBLISHED-TTL:PT1H
BEGIN:VTIMEZONE
TZID:Europe/Paris
BEGIN:DAYLIGHT
TZOFFSETFROM:+0100
TZOFFSETTO:+0200
TZNAME:CEST
DTSTART:20230326T010000
END:DAYLIGHT
BEGIN:STANDARD
TZOFFSETFROM:+0200
TZOFFSETTO:+0100
TZNAME:CET
DTSTART:20231029T010000
END:STANDARD
END:VTIMEZONE
BEGIN:VEVENT
DTSTART;TZID=Europe/Paris:20231206T100000
DTEND;TZID=Europe/Paris:20231209T103000
DTSTAMP:20260424T184523
CREATED:20231117T110607Z
LAST-MODIFIED:20231117T111735Z
UID:11874-1701856800-1702117800@www.loreedelabrie.fr
SUMMARY:[CCOB] Micro-folie conférence sur Notre-Dame de Paris
DESCRIPTION:  \nMercredi 6 décembre : 10h00 – 14h00 – 16h00 \nSamedi 9 décembre : 10h30 \nTout public. \nSur réservation : microfolie@loreedelabrie.fr ou 0788743607 \nConférences données à l’office du tourisme et de commerce de Brie-Comte-Robert.
URL:https://www.loreedelabrie.fr/evenement/ccob-micro-folie-conference-sur-notre-dame-de-paris/
LOCATION:Bains douches\, Place Jeanne d'Evreux\, Brie-Comte-Robert\, 77170\, France
CATEGORIES:Micro-folie
ATTACH;FMTTYPE=image/png:https://www.loreedelabrie.fr/wp-content/uploads/tribe_events/Logo_LaVillette_Culture_LOree-de-la-Brie.png
ORGANIZER;CN="L'Or%C3%A9e de la Brie":MAILTO:communaute@loreedelabrie.fr
END:VEVENT
END:VCALENDAR