BEGIN:VCALENDAR
VERSION:2.0
PRODID:-//L&#039;Orée de la Brie - ECPv6.5.1.4//NONSGML v1.0//EN
CALSCALE:GREGORIAN
METHOD:PUBLISH
X-WR-CALNAME:L&#039;Orée de la Brie
X-ORIGINAL-URL:https://www.loreedelabrie.fr
X-WR-CALDESC:Évènements pour L&#039;Orée de la Brie
REFRESH-INTERVAL;VALUE=DURATION:PT1H
X-Robots-Tag:noindex
X-PUBLISHED-TTL:PT1H
BEGIN:VTIMEZONE
TZID:Europe/Paris
BEGIN:DAYLIGHT
TZOFFSETFROM:+0100
TZOFFSETTO:+0200
TZNAME:CEST
DTSTART:20250330T010000
END:DAYLIGHT
BEGIN:STANDARD
TZOFFSETFROM:+0200
TZOFFSETTO:+0100
TZNAME:CET
DTSTART:20251026T010000
END:STANDARD
END:VTIMEZONE
BEGIN:VEVENT
DTSTART;TZID=Europe/Paris:20250424T140000
DTEND;TZID=Europe/Paris:20250424T140000
DTSTAMP:20260421T154823
CREATED:20250411T083151Z
LAST-MODIFIED:20250411T083151Z
UID:14944-1745503200-1745503200@www.loreedelabrie.fr
SUMMARY:[CCOB] Micro-Folie Comics & Mangas
DESCRIPTION:  \n\nVenir profiter d’une programmation du musée numérique de la CCOB\, évidemment ! \nC’est gratuit ! Ouvert à tous !\n \n\n\nAvec ce nouvel exposé intitulé « Comics & Manga » la CCOB vous propose de voyager dans les univers fantastiques et foisonnants des comics et des mangas\, à la rencontre de leurs héros et héroïnes…\n \nVous y découvrirez des personnages aux aventures et aux destins extraordinaires. Vous y rencontrerez les artistes qui les ont créés\, le contexte historique dans lequel ils ont été imaginés\, les multiples genres qu’ils ont générés.\n \nVous analyserez aussi les raisons de leur formidable succès international et comprendrez comment ils sont devenus des outils de « soft power » culturel particulièrement efficaces\, qui font évoluer depuis des décennies le visage de la pop culture.\n \nFilms\, séries\, dessins animés\, jeux-vidéos… L’omniprésence des univers des comics et des mangas dans la culture populaire nous en ferait presque oublier qu’ils sont d’abord apparus sous forme de bandes dessinées !\n \n\n\nPour en savoir plus : rendez-vous les 24 et 25 avril 2025.\n \nInfos et résa : microfolie@loreedelabrie.fr
URL:https://www.loreedelabrie.fr/evenement/ccob-micro-folie-comics-mangas/
LOCATION:L’Orée de la Brie\, 1 rue Léonard de Vinci\, Brie-Comte-Robert\, 77170\, France
CATEGORIES:Jeux,Micro-folie
ATTACH;FMTTYPE=image/jpeg:https://www.loreedelabrie.fr/wp-content/uploads/tribe_events/casque-realite-micro-folie.jpg
ORGANIZER;CN="L'Or%C3%A9e de la Brie":MAILTO:communaute@loreedelabrie.fr
END:VEVENT
BEGIN:VEVENT
DTSTART;TZID=Europe/Paris:20250425T170000
DTEND;TZID=Europe/Paris:20250425T170000
DTSTAMP:20260421T154823
CREATED:20250415T092400Z
LAST-MODIFIED:20250415T092400Z
UID:14960-1745600400-1745600400@www.loreedelabrie.fr
SUMMARY:[CCOB] Micro-Folie Comics & Mangas
DESCRIPTION:  \n\nVenir profiter d’une programmation du musée numérique de la CCOB\, évidemment ! \nC’est gratuit ! Ouvert à tous !\n \n\n\nAvec ce nouvel exposé intitulé « Comics & Manga » la CCOB vous propose de voyager dans les univers fantastiques et foisonnants des comics et des mangas\, à la rencontre de leurs héros et héroïnes…\n \nVous y découvrirez des personnages aux aventures et aux destins extraordinaires. Vous y rencontrerez les artistes qui les ont créés\, le contexte historique dans lequel ils ont été imaginés\, les multiples genres qu’ils ont générés.\n \nVous analyserez aussi les raisons de leur formidable succès international et comprendrez comment ils sont devenus des outils de « soft power » culturel particulièrement efficaces\, qui font évoluer depuis des décennies le visage de la pop culture.\n \nFilms\, séries\, dessins animés\, jeux-vidéos… L’omniprésence des univers des comics et des mangas dans la culture populaire nous en ferait presque oublier qu’ils sont d’abord apparus sous forme de bandes dessinées !\n \n\n\nPour en savoir plus : rendez-vous les 24 et 25 avril 2025.\n \nInfos et résa : microfolie@loreedelabrie.fr
URL:https://www.loreedelabrie.fr/evenement/ccob-micro-folie-comics-mangas-2/
LOCATION:L’Orée de la Brie\, 1 rue Léonard de Vinci\, Brie-Comte-Robert\, 77170\, France
CATEGORIES:Jeux,Micro-folie
ATTACH;FMTTYPE=image/jpeg:https://www.loreedelabrie.fr/wp-content/uploads/tribe_events/casque-realite-micro-folie.jpg
ORGANIZER;CN="L'Or%C3%A9e de la Brie":MAILTO:communaute@loreedelabrie.fr
END:VEVENT
END:VCALENDAR