BEGIN:VCALENDAR
VERSION:2.0
PRODID:-//L&#039;Orée de la Brie - ECPv6.5.1.4//NONSGML v1.0//EN
CALSCALE:GREGORIAN
METHOD:PUBLISH
X-WR-CALNAME:L&#039;Orée de la Brie
X-ORIGINAL-URL:https://www.loreedelabrie.fr
X-WR-CALDESC:Évènements pour L&#039;Orée de la Brie
REFRESH-INTERVAL;VALUE=DURATION:PT1H
X-Robots-Tag:noindex
X-PUBLISHED-TTL:PT1H
BEGIN:VTIMEZONE
TZID:Europe/Paris
BEGIN:DAYLIGHT
TZOFFSETFROM:+0100
TZOFFSETTO:+0200
TZNAME:CEST
DTSTART:20250330T010000
END:DAYLIGHT
BEGIN:STANDARD
TZOFFSETFROM:+0200
TZOFFSETTO:+0100
TZNAME:CET
DTSTART:20251026T010000
END:STANDARD
END:VTIMEZONE
BEGIN:VEVENT
DTSTART;TZID=Europe/Paris:20250315T103000
DTEND;TZID=Europe/Paris:20250315T103000
DTSTAMP:20260421T171513
CREATED:20250306T155511Z
LAST-MODIFIED:20250306T155511Z
UID:14709-1742034600-1742034600@www.loreedelabrie.fr
SUMMARY:[CCOB] Microfolie - Découvrez la grotte de Chauvet
DESCRIPTION:  \nInfo et réservation : microfolie@loreedelabrie.fr ou 07 88 74 36 07
URL:https://www.loreedelabrie.fr/evenement/ccob-microfolie-decouvrez-la-grotte-de-chauvet-2/
LOCATION:L’Orée de la Brie\, 1 rue Léonard de Vinci\, Brie-Comte-Robert\, 77170\, France
CATEGORIES:Micro-folie
ATTACH;FMTTYPE=image/jpeg:https://www.loreedelabrie.fr/wp-content/uploads/tribe_events/casque-realite-micro-folie.jpg
ORGANIZER;CN="L'Or%C3%A9e de la Brie":MAILTO:communaute@loreedelabrie.fr
END:VEVENT
BEGIN:VEVENT
DTSTART;TZID=Europe/Paris:20250322T143000
DTEND;TZID=Europe/Paris:20250322T143000
DTSTAMP:20260421T171513
CREATED:20250306T155506Z
LAST-MODIFIED:20250306T155506Z
UID:14711-1742653800-1742653800@www.loreedelabrie.fr
SUMMARY:[CCOB] Microfolie - Découvrez la grotte de Chauvet
DESCRIPTION:  \nInfo et réservation : microfolie@loreedelabrie.fr ou 07 88 74 36 07
URL:https://www.loreedelabrie.fr/evenement/ccob-microfolie-decouvrez-la-grotte-de-chauvet/
LOCATION:L’Orée de la Brie\, 1 rue Léonard de Vinci\, Brie-Comte-Robert\, 77170\, France
CATEGORIES:Micro-folie
ATTACH;FMTTYPE=image/jpeg:https://www.loreedelabrie.fr/wp-content/uploads/tribe_events/casque-realite-micro-folie.jpg
ORGANIZER;CN="L'Or%C3%A9e de la Brie":MAILTO:communaute@loreedelabrie.fr
END:VEVENT
BEGIN:VEVENT
DTSTART;TZID=Europe/Paris:20250329T103000
DTEND;TZID=Europe/Paris:20250329T103000
DTSTAMP:20260421T171513
CREATED:20250306T155551Z
LAST-MODIFIED:20250306T155551Z
UID:14712-1743244200-1743244200@www.loreedelabrie.fr
SUMMARY:[CCOB] Microfolie - Découvrez la grotte de Chauvet
DESCRIPTION:  \nInfo et réservation : microfolie@loreedelabrie.fr ou 07 88 74 36 07
URL:https://www.loreedelabrie.fr/evenement/ccob-microfolie-decouvrez-la-grotte-de-chauvet-3/
LOCATION:L’Orée de la Brie\, 1 rue Léonard de Vinci\, Brie-Comte-Robert\, 77170\, France
CATEGORIES:Micro-folie
ATTACH;FMTTYPE=image/jpeg:https://www.loreedelabrie.fr/wp-content/uploads/tribe_events/casque-realite-micro-folie.jpg
ORGANIZER;CN="L'Or%C3%A9e de la Brie":MAILTO:communaute@loreedelabrie.fr
END:VEVENT
END:VCALENDAR