BEGIN:VCALENDAR
VERSION:2.0
PRODID:-//L&#039;Orée de la Brie - ECPv6.5.1.4//NONSGML v1.0//EN
CALSCALE:GREGORIAN
METHOD:PUBLISH
X-ORIGINAL-URL:https://www.loreedelabrie.fr
X-WR-CALDESC:Évènements pour L&#039;Orée de la Brie
REFRESH-INTERVAL;VALUE=DURATION:PT1H
X-Robots-Tag:noindex
X-PUBLISHED-TTL:PT1H
BEGIN:VTIMEZONE
TZID:Europe/Paris
BEGIN:DAYLIGHT
TZOFFSETFROM:+0100
TZOFFSETTO:+0200
TZNAME:CEST
DTSTART:20240331T010000
END:DAYLIGHT
BEGIN:STANDARD
TZOFFSETFROM:+0200
TZOFFSETTO:+0100
TZNAME:CET
DTSTART:20241027T010000
END:STANDARD
END:VTIMEZONE
BEGIN:VEVENT
DTSTART;TZID=Europe/Paris:20240410T140000
DTEND;TZID=Europe/Paris:20240410T180000
DTSTAMP:20260422T121317
CREATED:20240321T112942Z
LAST-MODIFIED:20240321T130411Z
UID:12793-1712757600-1712772000@www.loreedelabrie.fr
SUMMARY:[CCOB] Micro-Folie
DESCRIPTION:  \n \n  \nLe 10 et 24 avril : des séances de casques de réalité virtuelle dans le  bâtiment des Bains Douches à Brie-Comte-Robert\, les sessions de 45 minutes sont proposées de 14h00 à 18h00. Jusqu’à 8 personnes sur inscription. \nInfos et inscription : microfolie@loreedelabrie.fr ou 07.88.74.36.07.
URL:https://www.loreedelabrie.fr/evenement/ccob-micro-folie-5/
LOCATION:Bains douches\, Place Jeanne d'Evreux\, Brie-Comte-Robert\, 77170\, France
CATEGORIES:Micro-folie
ATTACH;FMTTYPE=image/jpeg:https://www.loreedelabrie.fr/wp-content/uploads/tribe_events/micro-folie.jpg
ORGANIZER;CN="L'Or%C3%A9e de la Brie":MAILTO:communaute@loreedelabrie.fr
END:VEVENT
BEGIN:VEVENT
DTSTART;VALUE=DATE:20240418
DTEND;VALUE=DATE:20240421
DTSTAMP:20260422T121317
CREATED:20231226T102534Z
LAST-MODIFIED:20240311T110258Z
UID:12165-1713398400-1713657599@www.loreedelabrie.fr
SUMMARY:[CCOB] La Micro-Folie de l'Orée de la Brie
DESCRIPTION:La Communauté de communes de l’Orée de la Brie s’implique dans le domaine de la culture. avec la Micro-Folie. Elle est déployée sur tout le territoire de l’intercommunalité. \nIl s’agit d’un dispositif culturel innovant au service des territoires. La culture s’ouvre aux citoyens directement dans leur ville en proposant des collections d’œuvres d’art sous forme numérique. \nDotés d’une tablette et connectés à un grand écran\, vous pourrez voir\, revoir ou découvrir\, des tableaux\, des sculptures et toute autre œuvre d’art en exposition dans les grands musées de France. \nLa CCOB a adhéré au projet en fin d’année 2022 et bénéficie de subventions pour sa mise en place sur le territoire. \nCe musée itinérant et numérique propose\, entre autres\, les collections de La Villette et sera destiné aux écoles\, centres de loisirs\, associations ou encore collectivités de la CCOB et au grand public. \nInfos auprès d’Agnès Laviolette : microfolie@loreedelabrie.fr / 07 88 74 36 07
URL:https://www.loreedelabrie.fr/evenement/ccob-la-micro-folie-de-loree-de-la-brie-3/
LOCATION:Eden Cerf\, 1 rue d'Iverny\, Le Noyer aux Perdrix\, Servon\, 77170\, France
CATEGORIES:Micro-folie
ATTACH;FMTTYPE=image/jpeg:https://www.loreedelabrie.fr/wp-content/uploads/2023/04/logoMFCCOB-miseenavantsite.jpg
ORGANIZER;CN="L'Or%C3%A9e de la Brie":MAILTO:communaute@loreedelabrie.fr
END:VEVENT
BEGIN:VEVENT
DTSTART;TZID=Europe/Paris:20240424T140000
DTEND;TZID=Europe/Paris:20240424T180000
DTSTAMP:20260422T121317
CREATED:20240321T131332Z
LAST-MODIFIED:20240321T131332Z
UID:12798-1713967200-1713981600@www.loreedelabrie.fr
SUMMARY:[CCOB] Micro-Folie
DESCRIPTION:  \nLe 10 et 24 avril : des séances de casques de réalité virtuelle dans le  bâtiment des Bains Douches à Brie-Comte-Robert\, les sessions de 45 minutes sont proposées de 14h00 à 18h00. Jusqu’à 8 personnes sur inscription. \nInfos et inscription : microfolie@loreedelabrie.fr ou 07.88.74.36.07.
URL:https://www.loreedelabrie.fr/evenement/ccob-micro-folie-6/
LOCATION:Bains douches\, Place Jeanne d'Evreux\, Brie-Comte-Robert\, 77170\, France
CATEGORIES:Micro-folie
ATTACH;FMTTYPE=image/jpeg:https://www.loreedelabrie.fr/wp-content/uploads/tribe_events/micro-folie.jpg
ORGANIZER;CN="L'Or%C3%A9e de la Brie":MAILTO:communaute@loreedelabrie.fr
END:VEVENT
END:VCALENDAR