BEGIN:VCALENDAR
VERSION:2.0
PRODID:-//L&#039;Orée de la Brie - ECPv6.5.1.4//NONSGML v1.0//EN
CALSCALE:GREGORIAN
METHOD:PUBLISH
X-ORIGINAL-URL:https://www.loreedelabrie.fr
X-WR-CALDESC:Évènements pour L&#039;Orée de la Brie
REFRESH-INTERVAL;VALUE=DURATION:PT1H
X-Robots-Tag:noindex
X-PUBLISHED-TTL:PT1H
BEGIN:VTIMEZONE
TZID:Europe/Paris
BEGIN:DAYLIGHT
TZOFFSETFROM:+0100
TZOFFSETTO:+0200
TZNAME:CEST
DTSTART:20240331T010000
END:DAYLIGHT
BEGIN:STANDARD
TZOFFSETFROM:+0200
TZOFFSETTO:+0100
TZNAME:CET
DTSTART:20241027T010000
END:STANDARD
BEGIN:DAYLIGHT
TZOFFSETFROM:+0100
TZOFFSETTO:+0200
TZNAME:CEST
DTSTART:20250330T010000
END:DAYLIGHT
BEGIN:STANDARD
TZOFFSETFROM:+0200
TZOFFSETTO:+0100
TZNAME:CET
DTSTART:20251026T010000
END:STANDARD
END:VTIMEZONE
BEGIN:VEVENT
DTSTART;TZID=Europe/Paris:20241130T080000
DTEND;TZID=Europe/Paris:20250104T170000
DTSTAMP:20260422T095420
CREATED:20241203T153824Z
LAST-MODIFIED:20241203T153824Z
UID:14226-1732953600-1736010000@www.loreedelabrie.fr
SUMMARY:[BRIE-COMTE-ROBERT] Brie Conte Noël
DESCRIPTION:  \nPour que la magie de cette période de fin d’année soit complète\, la ville de Brie- Comte-Robert organise plusieurs rendez-vous pour les petits comme pour les grands. Feu d’artifice\, marché de Noël\, spectacles\, ateliers en famille… il y en aura pour tous les goûts. \nProgramme complet : https://www.briecomterobert.fr/agenda/brie-conte-noel/?fbclid=IwZXh0bgNhZW0CMTAAAR38MNCDO0zpIA8TF76s7DJu50X3FBy0HwqNqnK-IIoRmVot2tVDFkmhmrI_aem_c33kZlOfszHWlrSpVQ-Izg
URL:https://www.loreedelabrie.fr/evenement/brie-comte-robert-brie-conte-noel/
LOCATION:Brie-Comte-Robert\, Brie-Comte-Robert\, 77170\, France
CATEGORIES:Cinéma,Enfance,Illumination sapin de Noël,Marché de noël,Spectacle,Théâtre
ATTACH;FMTTYPE=image/jpeg:https://www.loreedelabrie.fr/wp-content/uploads/tribe_events/Noel.jpg
END:VEVENT
BEGIN:VEVENT
DTSTART;TZID=Europe/Paris:20241214T100000
DTEND;TZID=Europe/Paris:20241214T180000
DTSTAMP:20260422T095420
CREATED:20241119T084722Z
LAST-MODIFIED:20241119T084750Z
UID:14128-1734170400-1734199200@www.loreedelabrie.fr
SUMMARY:[SERVON] Marché de Noël
DESCRIPTION:
URL:https://www.loreedelabrie.fr/evenement/servon-telethon/
LOCATION:Salle Roger Coudert – Servon\, 15 rue de la Poste\, Servon\, 77170\, France
CATEGORIES:Marché de noël
ATTACH;FMTTYPE=image/jpeg:https://www.loreedelabrie.fr/wp-content/uploads/tribe_events/marche-de-Noel.jpg
END:VEVENT
BEGIN:VEVENT
DTSTART;TZID=Europe/Paris:20241214T100000
DTEND;TZID=Europe/Paris:20241215T180000
DTSTAMP:20260422T095420
CREATED:20241203T154735Z
LAST-MODIFIED:20241203T154735Z
UID:14230-1734170400-1734285600@www.loreedelabrie.fr
SUMMARY:[BRIE-COMTE-ROBERT] Marché de Noël
DESCRIPTION:Une vingtaine de chalets vous propose de découvrir différents mets et gourmandises\, mais aussi de faire vos derniers cadeaux. On murmure que le Père Noël sera présent pour immortaliser gratuitement le moment avec un photographe. Une boite aux lettres permettra de recueillir les courriers qui lui sont destinés. L’inauguration aura lieu samedi 14 décembre à 11h. Avec les élèves de l’école Louis-Pasteur.
URL:https://www.loreedelabrie.fr/evenement/brie-comte-robert-marche-de-noel/
LOCATION:Square Chaussy\, 6 rue du Château\, Brie-Comte-Robert\, 77170\, France
CATEGORIES:Marché de noël
ATTACH;FMTTYPE=image/jpeg:https://www.loreedelabrie.fr/wp-content/uploads/tribe_events/marche-de-Noel.jpg
END:VEVENT
BEGIN:VEVENT
DTSTART;TZID=Europe/Paris:20241214T140000
DTEND;TZID=Europe/Paris:20241215T170000
DTSTAMP:20260422T095420
CREATED:20241202T113810Z
LAST-MODIFIED:20241205T151106Z
UID:14204-1734184800-1734282000@www.loreedelabrie.fr
SUMMARY:[CHEVRY-COSSIGNY] Marché de Noël
DESCRIPTION:
URL:https://www.loreedelabrie.fr/evenement/chevry-cossigny-marche-de-noel/
LOCATION:Place du marché\, Chevry-Cossigny\, 77173\, France
CATEGORIES:Marché de noël
ATTACH;FMTTYPE=image/jpeg:https://www.loreedelabrie.fr/wp-content/uploads/tribe_events/marche-de-Noel.jpg
END:VEVENT
END:VCALENDAR