BEGIN:VCALENDAR
VERSION:2.0
PRODID:-//L&#039;Orée de la Brie - ECPv6.5.1.4//NONSGML v1.0//EN
CALSCALE:GREGORIAN
METHOD:PUBLISH
X-WR-CALNAME:L&#039;Orée de la Brie
X-ORIGINAL-URL:https://www.loreedelabrie.fr
X-WR-CALDESC:Évènements pour L&#039;Orée de la Brie
REFRESH-INTERVAL;VALUE=DURATION:PT1H
X-Robots-Tag:noindex
X-PUBLISHED-TTL:PT1H
BEGIN:VTIMEZONE
TZID:Europe/Paris
BEGIN:DAYLIGHT
TZOFFSETFROM:+0100
TZOFFSETTO:+0200
TZNAME:CEST
DTSTART:20230326T010000
END:DAYLIGHT
BEGIN:STANDARD
TZOFFSETFROM:+0200
TZOFFSETTO:+0100
TZNAME:CET
DTSTART:20231029T010000
END:STANDARD
BEGIN:DAYLIGHT
TZOFFSETFROM:+0100
TZOFFSETTO:+0200
TZNAME:CEST
DTSTART:20240331T010000
END:DAYLIGHT
BEGIN:STANDARD
TZOFFSETFROM:+0200
TZOFFSETTO:+0100
TZNAME:CET
DTSTART:20241027T010000
END:STANDARD
END:VTIMEZONE
BEGIN:VEVENT
DTSTART;VALUE=DATE:20231201
DTEND;VALUE=DATE:20240108
DTSTAMP:20260423T053254
CREATED:20231122T085120Z
LAST-MODIFIED:20231122T085120Z
UID:11909-1701388800-1704671999@www.loreedelabrie.fr
SUMMARY:[BRIE-COMTE-ROBERT] Brie Conte Noël 2023
DESCRIPTION:  \nProgramme complet : Programme+Brie+Conte+Noel  \n 
URL:https://www.loreedelabrie.fr/evenement/brie-comte-robert-brie-conte-noel-2023/
LOCATION:Brie-Comte-Robert\, Brie-Comte-Robert\, 77170\, France
CATEGORIES:Autre,Marché de noël
ATTACH;FMTTYPE=image/jpeg:https://www.loreedelabrie.fr/wp-content/uploads/tribe_events/BrieConteNoel2023-Affiche-VF.jpg
END:VEVENT
BEGIN:VEVENT
DTSTART;TZID=Europe/Paris:20231202T100000
DTEND;TZID=Europe/Paris:20231202T180000
DTSTAMP:20260423T053254
CREATED:20231005T151700Z
LAST-MODIFIED:20231011T145809Z
UID:11648-1701511200-1701540000@www.loreedelabrie.fr
SUMMARY:[SERVON] Marché de Noël
DESCRIPTION:Plus d’infos : https://www.servon.fr/ \nFeu d’artifice à 18h30
URL:https://www.loreedelabrie.fr/evenement/marche-de-noel-servon/
LOCATION:Cour de l’Orme – Servon\, 15 rue de la Poste\, Servon\, 77170
CATEGORIES:Marché de noël
ATTACH;FMTTYPE=image/jpeg:https://www.loreedelabrie.fr/wp-content/uploads/tribe_events/20552844_6287780.jpg
END:VEVENT
BEGIN:VEVENT
DTSTART;TZID=Europe/Paris:20231202T140000
DTEND;TZID=Europe/Paris:20231203T183000
DTSTAMP:20260423T053254
CREATED:20230904T093433Z
LAST-MODIFIED:20231011T121821Z
UID:11268-1701525600-1701628200@www.loreedelabrie.fr
SUMMARY:[VARENNES-JARCY] Marché de Noël
DESCRIPTION:
URL:https://www.loreedelabrie.fr/evenement/marche-de-noel-a-varennes-jarcy/
LOCATION:Gymnase Sandrine Martinet – Varennes-Jarcy\, Chemin des Aufrais\, Varennes-Jarcy\, 91480
CATEGORIES:Marché de noël
ATTACH;FMTTYPE=image/jpeg:https://www.loreedelabrie.fr/wp-content/uploads/tribe_events/20552844_6287780.jpg
END:VEVENT
END:VCALENDAR