BEGIN:VCALENDAR
VERSION:2.0
PRODID:-//L&#039;Orée de la Brie - ECPv6.5.1.4//NONSGML v1.0//EN
CALSCALE:GREGORIAN
METHOD:PUBLISH
X-WR-CALNAME:L&#039;Orée de la Brie
X-ORIGINAL-URL:https://www.loreedelabrie.fr
X-WR-CALDESC:Évènements pour L&#039;Orée de la Brie
REFRESH-INTERVAL;VALUE=DURATION:PT1H
X-Robots-Tag:noindex
X-PUBLISHED-TTL:PT1H
BEGIN:VTIMEZONE
TZID:Europe/Paris
BEGIN:DAYLIGHT
TZOFFSETFROM:+0100
TZOFFSETTO:+0200
TZNAME:CEST
DTSTART:20220327T010000
END:DAYLIGHT
BEGIN:STANDARD
TZOFFSETFROM:+0200
TZOFFSETTO:+0100
TZNAME:CET
DTSTART:20221030T010000
END:STANDARD
END:VTIMEZONE
BEGIN:VEVENT
DTSTART;TZID=Europe/Paris:20221125T183000
DTEND;TZID=Europe/Paris:20221218T180000
DTSTAMP:20260423T205722
CREATED:20221116T112110Z
LAST-MODIFIED:20230217T084755Z
UID:9417-1669401000-1671386400@www.loreedelabrie.fr
SUMMARY:Noël à Chevry-Cossigny
DESCRIPTION:
URL:https://www.loreedelabrie.fr/evenement/noel-a-chevry-cossigny/
LOCATION:Chevry-Cossigny
CATEGORIES:Marché de noël
ATTACH;FMTTYPE=image/png:https://www.loreedelabrie.fr/wp-content/uploads/tribe_events/Marche-de-Noel_Chevry-2022.png
END:VEVENT
BEGIN:VEVENT
DTSTART;TZID=Europe/Paris:20221201T080000
DTEND;TZID=Europe/Paris:20221224T170000
DTSTAMP:20260423T205722
CREATED:20221027T122933Z
LAST-MODIFIED:20230217T084744Z
UID:9376-1669881600-1671901200@www.loreedelabrie.fr
SUMMARY:Calendrier de l'Avent Géant de la CCOB
DESCRIPTION:La Communauté de communes de l’Orée de la Brie organise le grand jeu du calendrier de l’Avent géant. \nDès le 1er décembre\, chaque jour\, les élus du Conseil communautaire ouvriront une case du calendrier de l’Avent géant et poseront une question aux internautes sur la page Facebook de l’Orée de la Brie : Communauté de communes de l’Orée de la Brie | Facebook. Plusieurs thématiques sont prévues : des questions sur Noël\, sur le territoire\, de culture générale… \nLa question sera diffusée tous les matins dès 8h00. Les internautes auront jusqu’au soir 19h00 pour y répondre\, soit en commentant le post de la vidéo du matin\, soit par mail à loreedelabrie77@gmail.com. Un gagnant sera tiré au sort parmi les bonnes réponses du jour.  Il remportera un lot offert par les commerçants du territoire. \nUn super gros lot pourra également être gagné à la fin du mois pour la personne qui aura répondu avec un maximum de bonnes réponses durant tout le mois. \nAlors nous invitons les habitants du territoire à se connecter sur la page Facebook de l’Orée de la Brie tous les jours pour tenter leur chance ! De très beaux lots sont à gagner : des soins pour le corps\, des repas chez des restaurateurs du territoire\, des chocolats… \n 
URL:https://www.loreedelabrie.fr/evenement/calendrier-de-lavent-geant-de-la-ccob/
LOCATION:L’Orée de la Brie\, 1 rue Léonard de Vinci\, Brie-Comte-Robert\, 77170\, France
CATEGORIES:Marché de noël
ATTACH;FMTTYPE=image/png:https://www.loreedelabrie.fr/wp-content/uploads/tribe_events/mobiliercalendrieravent.png
ORGANIZER;CN="L'Or%C3%A9e de la Brie":MAILTO:communaute@loreedelabrie.fr
END:VEVENT
END:VCALENDAR