BEGIN:VCALENDAR
VERSION:2.0
PRODID:-//L&#039;Orée de la Brie - ECPv6.5.1.4//NONSGML v1.0//EN
CALSCALE:GREGORIAN
METHOD:PUBLISH
X-ORIGINAL-URL:https://www.loreedelabrie.fr
X-WR-CALDESC:Évènements pour L&#039;Orée de la Brie
REFRESH-INTERVAL;VALUE=DURATION:PT1H
X-Robots-Tag:noindex
X-PUBLISHED-TTL:PT1H
BEGIN:VTIMEZONE
TZID:Europe/Paris
BEGIN:DAYLIGHT
TZOFFSETFROM:+0100
TZOFFSETTO:+0200
TZNAME:CEST
DTSTART:20250330T010000
END:DAYLIGHT
BEGIN:STANDARD
TZOFFSETFROM:+0200
TZOFFSETTO:+0100
TZNAME:CET
DTSTART:20251026T010000
END:STANDARD
END:VTIMEZONE
BEGIN:VEVENT
DTSTART;VALUE=DATE:20250410
DTEND;VALUE=DATE:20250411
DTSTAMP:20260425T025648
CREATED:20250310T145538Z
LAST-MODIFIED:20250310T145538Z
UID:14727-1744243200-1744329599@www.loreedelabrie.fr
SUMMARY:[CCOB] Du Stade Vers l'Emploi
DESCRIPTION:  \n[UN JOB DATING PAS COMME LES AUTRES]\n\nFrance Travail en partenariat avec la ligue IDF de Basket\, la ville de Servon et la CCOB propose une nouvelle formule de recrutement. Le matin du jeudi 10 avril\, à la salle R. Coudert de Servon\, venez partager un match de basket sans dévoiler votre identité\, employeur ou demandeur d’emploi. C’est seulement l’après-midi\, que des jobs dating plus formalisés seront organisés. Sur inscription. Contactez France Travail de Brie-Comte-Robert.
URL:https://www.loreedelabrie.fr/evenement/ccob-du-stade-vers-lemploi/
LOCATION:Salle Roger Coudert – Servon\, 15 rue de la Poste\, Servon\, 77170\, France
CATEGORIES:Job dating
ATTACH;FMTTYPE=image/jpeg:https://www.loreedelabrie.fr/wp-content/uploads/tribe_events/Job-dating-1.jpg
ORGANIZER;CN="L'Or%C3%A9e de la Brie":MAILTO:communaute@loreedelabrie.fr
END:VEVENT
END:VCALENDAR