BEGIN:VCALENDAR
VERSION:2.0
PRODID:-//L&#039;Orée de la Brie - ECPv6.5.1.4//NONSGML v1.0//EN
CALSCALE:GREGORIAN
METHOD:PUBLISH
X-ORIGINAL-URL:https://www.loreedelabrie.fr
X-WR-CALDESC:Évènements pour L&#039;Orée de la Brie
REFRESH-INTERVAL;VALUE=DURATION:PT1H
X-Robots-Tag:noindex
X-PUBLISHED-TTL:PT1H
BEGIN:VTIMEZONE
TZID:Europe/Paris
BEGIN:DAYLIGHT
TZOFFSETFROM:+0100
TZOFFSETTO:+0200
TZNAME:CEST
DTSTART:20240331T010000
END:DAYLIGHT
BEGIN:STANDARD
TZOFFSETFROM:+0200
TZOFFSETTO:+0100
TZNAME:CET
DTSTART:20241027T010000
END:STANDARD
END:VTIMEZONE
BEGIN:VEVENT
DTSTART;TZID=Europe/Paris:20240404T100000
DTEND;TZID=Europe/Paris:20240404T140000
DTSTAMP:20260425T183400
CREATED:20240122T130917Z
LAST-MODIFIED:20240327T161149Z
UID:12269-1712224800-1712239200@www.loreedelabrie.fr
SUMMARY:[CCOB] Forum de l'emploi
DESCRIPTION:La Communauté de communes de l’Orée de la Brie organise en partenariat avec le centre commercial EDEN et France Travail un forum de l’emploi le jeudi 4 avril\, de 10h00 à 14h00\, au centre commercial EDEN Cerf à Servon\, au SpeedPark\, privatisé pour l’occasion. \nLes entreprises peuvent\, soit proposer une offre d’emploi qui sera visible par les candidats le jour du forum\, soit venir physiquement recruter leurs collaborateurs en format job dating. \nCandidats : vous cherchez un emploi dans le bassin d’activités de Brie-Comte-Robert ? N’hésitez pas à venir le jour du forum munis de vote CV et de votre lettre de motivation. \n\nPlus de 30 entreprises seront présentes ! Emportez votre CV et venez rencontrer votre futur employeur !\n \n\n\nVous recherchez un emploi dans la restauration\, la vente\, la logistique\, le transport\, la grande distribution\, la défense\, le bâtiment ou encore dans le service aux personnes? Ce salon est fait pour vous.\n\n \nEn détails\, voici la liste de entreprises :\n\n\nTRANSPORT : MAUFFREY; SNCF; KEOLIS; TRANSDEV.\nGRANDE DISTRIBUTION : LECLERC DRIVE\nDEFENSE : MARINE NATIONALE; ARMÉE DE TERRE; ARMÉE DE L’AIR\nVENTE : CHAUSSEA; ACTION; INTERSPORT; KPARK; JMT; IDKIDS.\nLOISIRS / ANIMATION : L’OREADE; KINEPOLIS\nFORMATION : AFTRAL; PHILIANCE FORMATION; OPENCLASSROOM; ACTE 1 FORMATION; IRTS; BOUGAINVILLE\nPARTENAIRES DE L’EMPLOI: MISSION LOCALE; CLUB DES CADRES; CAP EMPLOI; MAISON DE L’EMPLOI ET DE LA FORMATION; LE MERCATO EMPLOI; FRANCE TRAVAIL; STRUCTURE INFORMATION JEUNESSE DE BRIE.\nRESTAURATION : KFC SERVON; LA FABRIQUE / LA FEUILLERAIE\nMÉCANIQUE : RENAULT GROUPE.\nSERVICES AUX PERSONNES : CENTRE SERVICES; ONELA; KANGOUROU KIDS; AMBASSADE RÉCEPTION.\n\n\n \n\n\nPar ailleurs\, venez tester votre futur métier ce jour-là grâce à :\n> un casque de réalité virtuelle qui vous permettra de découvrir le métier dont vous rêvez !\n> un bus de de simulateur de conduite de Transdev !\n\n\nQuand l’intelligence artificielle est au service des demandeurs d’emploi !
URL:https://www.loreedelabrie.fr/evenement/ccob-forum-de-lemploi/
LOCATION:Eden Cerf\, 1 rue d'Iverny\, Le Noyer aux Perdrix\, Servon\, 77170\, France
CATEGORIES:Job dating
ATTACH;FMTTYPE=image/jpeg:https://www.loreedelabrie.fr/wp-content/uploads/tribe_events/Job-dating-1.jpg
ORGANIZER;CN="L'Or%C3%A9e de la Brie":MAILTO:communaute@loreedelabrie.fr
END:VEVENT
END:VCALENDAR