BEGIN:VCALENDAR
VERSION:2.0
PRODID:-//L&#039;Orée de la Brie - ECPv6.5.1.4//NONSGML v1.0//EN
CALSCALE:GREGORIAN
METHOD:PUBLISH
X-ORIGINAL-URL:https://www.loreedelabrie.fr
X-WR-CALDESC:Évènements pour L&#039;Orée de la Brie
REFRESH-INTERVAL;VALUE=DURATION:PT1H
X-Robots-Tag:noindex
X-PUBLISHED-TTL:PT1H
BEGIN:VTIMEZONE
TZID:Europe/Paris
BEGIN:DAYLIGHT
TZOFFSETFROM:+0100
TZOFFSETTO:+0200
TZNAME:CEST
DTSTART:20260329T010000
END:DAYLIGHT
BEGIN:STANDARD
TZOFFSETFROM:+0200
TZOFFSETTO:+0100
TZNAME:CET
DTSTART:20261025T010000
END:STANDARD
END:VTIMEZONE
BEGIN:VEVENT
DTSTART;TZID=Europe/Paris:20260220T190000
DTEND;TZID=Europe/Paris:20260220T220000
DTSTAMP:20260421T170506
CREATED:20260202T091543Z
LAST-MODIFIED:20260202T091543Z
UID:16653-1771614000-1771624800@www.loreedelabrie.fr
SUMMARY:[BRIE-COMTE-ROBERT] Soirée jeux ruse et fourberie
DESCRIPTION:Venez vous défier entre amis ou en famille autour d’une sélection de jeux où ruse et coups tordus feront toute la différence…  à vos risques et périls ! \nInfos au 01 60 62 64 02
URL:https://www.loreedelabrie.fr/evenement/brie-comte-robert-soiree-jeux-ruse-et-fourberie/
LOCATION:Ludothèque\, 21 place des Déportés\, Brie-Comte-Robert\, 77170\, France
CATEGORIES:Jeux
ATTACH;FMTTYPE=image/jpeg:https://www.loreedelabrie.fr/wp-content/uploads/tribe_events/Jeux.jpg
END:VEVENT
END:VCALENDAR