BEGIN:VCALENDAR
VERSION:2.0
PRODID:-//L&#039;Orée de la Brie - ECPv6.5.1.4//NONSGML v1.0//EN
CALSCALE:GREGORIAN
METHOD:PUBLISH
X-WR-CALNAME:L&#039;Orée de la Brie
X-ORIGINAL-URL:https://www.loreedelabrie.fr
X-WR-CALDESC:Évènements pour L&#039;Orée de la Brie
REFRESH-INTERVAL;VALUE=DURATION:PT1H
X-Robots-Tag:noindex
X-PUBLISHED-TTL:PT1H
BEGIN:VTIMEZONE
TZID:Europe/Paris
BEGIN:DAYLIGHT
TZOFFSETFROM:+0100
TZOFFSETTO:+0200
TZNAME:CEST
DTSTART:20250330T010000
END:DAYLIGHT
BEGIN:STANDARD
TZOFFSETFROM:+0200
TZOFFSETTO:+0100
TZNAME:CET
DTSTART:20251026T010000
END:STANDARD
END:VTIMEZONE
BEGIN:VEVENT
DTSTART;VALUE=DATE:20250531
DTEND;VALUE=DATE:20250602
DTSTAMP:20260422T054109
CREATED:20250515T113855Z
LAST-MODIFIED:20250515T113855Z
UID:15107-1748649600-1748822399@www.loreedelabrie.fr
SUMMARY:[BRIE-COMTE-ROBERT] Foire aux plantes et aux fleurs de la fête des roses
DESCRIPTION:
URL:https://www.loreedelabrie.fr/evenement/brie-comte-robert-foire-aux-plantes-et-aux-fleurs-de-la-fete-des-roses/
LOCATION:Brie-Comte-Robert\, Brie-Comte-Robert\, 77170\, France
CATEGORIES:Festival,Jeux
ATTACH;FMTTYPE=image/jpeg:https://www.loreedelabrie.fr/wp-content/uploads/tribe_events/logo-comite-des-roses.jpg
END:VEVENT
END:VCALENDAR