BEGIN:VCALENDAR
VERSION:2.0
PRODID:-//L&#039;Orée de la Brie - ECPv6.5.1.4//NONSGML v1.0//EN
CALSCALE:GREGORIAN
METHOD:PUBLISH
X-ORIGINAL-URL:https://www.loreedelabrie.fr
X-WR-CALDESC:Évènements pour L&#039;Orée de la Brie
REFRESH-INTERVAL;VALUE=DURATION:PT1H
X-Robots-Tag:noindex
X-PUBLISHED-TTL:PT1H
BEGIN:VTIMEZONE
TZID:Europe/Paris
BEGIN:DAYLIGHT
TZOFFSETFROM:+0100
TZOFFSETTO:+0200
TZNAME:CEST
DTSTART:20250330T010000
END:DAYLIGHT
BEGIN:STANDARD
TZOFFSETFROM:+0200
TZOFFSETTO:+0100
TZNAME:CET
DTSTART:20251026T010000
END:STANDARD
END:VTIMEZONE
BEGIN:VEVENT
DTSTART;VALUE=DATE:20250305
DTEND;VALUE=DATE:20250313
DTSTAMP:20260422T112050
CREATED:20250305T134231Z
LAST-MODIFIED:20250305T134231Z
UID:14635-1741132800-1741823999@www.loreedelabrie.fr
SUMMARY:[BRIE-COMTE-ROBERT] Les semaines du jeu
DESCRIPTION:Les Semaines du jeu sont de retour les 5\, 7\, 8 et 12 mars ainsi que pendant une nocturne le 7 mars avec des animations pour tous et à tout âge et encore plus de surprises ! \n\nPour le plaisir des petits\, des enfants\, des ados et des adultes\, retrouvez plus de 600 jeux ainsi que des animations proposées tel qu’un jeu d’immersion\, des jeux d’arcades\, des jeux vidéos ainsi qu’un espace de drone ! \nBuvette sur place \nGrand public :\n\nmercredi 5 et 12 mars de 9h à 18h\nvendredi 7 mars de 16h30 à 22h\nsamedi 8 mars de 9h à 18h\n\nEspace motricité petite-enfance :\n\nmercredi 5 et 12 mars de 10h à 12h et de 15h à 17h\nsamedi 8 mars de10h à 12h et de 15h à 17h\n\nJeu d’immersion « le voleur d’étoiles »\nInscrivez-vous dès à présent pour le jeu d’immersion « le voleur d’étoiles »\, remontez le temps dans les années 80 et retrouvez le voleur d’étoiles. Le compte à rebours est lancé ! \n\nInscription par mail semainesdujeu@briecomterobert.fr\n5\, 7\, 8\, 12 mars\nEquipe de 3 à 5 personnes (à partir de 5 ans)\nSession de 30 minutes
URL:https://www.loreedelabrie.fr/evenement/brie-comte-robert-les-semaines-du-jeu-2/
LOCATION:salle de spectacles Le Safran\, 80 avenue Victor Hugo\, Brie-Comte-Robert\, 77170\, France
CATEGORIES:Enfance,Jeux
ATTACH;FMTTYPE=image/jpeg:https://www.loreedelabrie.fr/wp-content/uploads/tribe_events/Jeux.jpg
END:VEVENT
END:VCALENDAR