BEGIN:VCALENDAR
VERSION:2.0
PRODID:-//L&#039;Orée de la Brie - ECPv6.5.1.4//NONSGML v1.0//EN
CALSCALE:GREGORIAN
METHOD:PUBLISH
X-WR-CALNAME:L&#039;Orée de la Brie
X-ORIGINAL-URL:https://www.loreedelabrie.fr
X-WR-CALDESC:Évènements pour L&#039;Orée de la Brie
REFRESH-INTERVAL;VALUE=DURATION:PT1H
X-Robots-Tag:noindex
X-PUBLISHED-TTL:PT1H
BEGIN:VTIMEZONE
TZID:Europe/Paris
BEGIN:DAYLIGHT
TZOFFSETFROM:+0100
TZOFFSETTO:+0200
TZNAME:CEST
DTSTART:20240331T010000
END:DAYLIGHT
BEGIN:STANDARD
TZOFFSETFROM:+0200
TZOFFSETTO:+0100
TZNAME:CET
DTSTART:20241027T010000
END:STANDARD
END:VTIMEZONE
BEGIN:VEVENT
DTSTART;VALUE=DATE:20240708
DTEND;VALUE=DATE:20240817
DTSTAMP:20260423T000500
CREATED:20240409T085422Z
LAST-MODIFIED:20240712T101748Z
UID:12983-1720396800-1723852799@www.loreedelabrie.fr
SUMMARY:[BRIE-COMTE-ROBERT] Brie plage
DESCRIPTION:
URL:https://www.loreedelabrie.fr/evenement/brie-comte-robert-brie-plage/
LOCATION:Parc de la mairie\, 2 Rue de Verdun\, Brie-Comte-Robert\, 77170\, France
CATEGORIES:Jeux
ATTACH;FMTTYPE=image/jpeg:https://www.loreedelabrie.fr/wp-content/uploads/tribe_events/Plage-urbaine-2.jpg
END:VEVENT
END:VCALENDAR