BEGIN:VCALENDAR
VERSION:2.0
PRODID:-//L&#039;Orée de la Brie - ECPv6.5.1.4//NONSGML v1.0//EN
CALSCALE:GREGORIAN
METHOD:PUBLISH
X-ORIGINAL-URL:https://www.loreedelabrie.fr
X-WR-CALDESC:Évènements pour L&#039;Orée de la Brie
REFRESH-INTERVAL;VALUE=DURATION:PT1H
X-Robots-Tag:noindex
X-PUBLISHED-TTL:PT1H
BEGIN:VTIMEZONE
TZID:Europe/Paris
BEGIN:DAYLIGHT
TZOFFSETFROM:+0100
TZOFFSETTO:+0200
TZNAME:CEST
DTSTART:20250330T010000
END:DAYLIGHT
BEGIN:STANDARD
TZOFFSETFROM:+0200
TZOFFSETTO:+0100
TZNAME:CET
DTSTART:20251026T010000
END:STANDARD
END:VTIMEZONE
BEGIN:VEVENT
DTSTART;TZID=Europe/Paris:20251005T130000
DTEND;TZID=Europe/Paris:20251005T130000
DTSTAMP:20260421T212045
CREATED:20250910T132727Z
LAST-MODIFIED:20250910T134338Z
UID:15713-1759669200-1759669200@www.loreedelabrie.fr
SUMMARY:[VARENNES-JARCY] Quizz
DESCRIPTION:
URL:https://www.loreedelabrie.fr/evenement/quizz/
LOCATION:Salle des fêtes Gérard Josselin\, 14 rue de la Libération\, Varennes-Jarcy\, 91480
CATEGORIES:Culture,Jeux
ATTACH;FMTTYPE=image/jpeg:https://www.loreedelabrie.fr/wp-content/uploads/tribe_events/jeux-olympiques-de-lesprit-AVC.jpg
END:VEVENT
BEGIN:VEVENT
DTSTART;TZID=Europe/Paris:20251011T203000
DTEND;TZID=Europe/Paris:20251011T203000
DTSTAMP:20260421T212045
CREATED:20251001T133001Z
LAST-MODIFIED:20251001T133001Z
UID:15922-1760214600-1760214600@www.loreedelabrie.fr
SUMMARY:[VARENNES-JARCY] Challenge musical
DESCRIPTION:
URL:https://www.loreedelabrie.fr/evenement/varennes-jarcy-challenge-musical-2/
LOCATION:Salle des fêtes Gérard Josselin\, 14 rue de la Libération\, Varennes-Jarcy\, 91480
CATEGORIES:Concert,Jeux,Show
ATTACH;FMTTYPE=image/jpeg:https://www.loreedelabrie.fr/wp-content/uploads/tribe_events/festival.jpg
END:VEVENT
BEGIN:VEVENT
DTSTART;VALUE=DATE:20251020
DTEND;VALUE=DATE:20251104
DTSTAMP:20260421T212045
CREATED:20251020T124719Z
LAST-MODIFIED:20251020T124719Z
UID:16041-1760918400-1762214399@www.loreedelabrie.fr
SUMMARY:[L'ORÉADE] En mode halloween
DESCRIPTION:  \n C’EST LES VACANCES \n\nDu 20 octobre au 3 novembre\, L’Oréade se transforme pour vous faire vivre des vacances fun\, sportives et terriblement amusantes ! \n\n AU PROGRAMME :\n Animations spéciales Halloween\n Jeux aquatiques pour toute la famille\n Défis frissonnants dans le bassin\n Surprise sucrée pour les plus courageux !\n\nQue vous soyez là pour vous détendre\, vous défouler ou simplement passer un bon moment en famille\, L’Oréade est the place to be pendant les vacances ! \n\n Venez déguisés le 29 octobre pour fêter halloween avec nous\, ambiance garantie… et qui sait\, peut-être que les esprits de l’eau auront une surprise pour vous !\n\nN’hésitez pas à taguez vos amis avec qui vous allez venir vous éclater ! 
URL:https://www.loreedelabrie.fr/evenement/loreade-en-mode-halloween/
LOCATION:L’Oréade\, 4 avenue du Général de Gaulle\, Brie-Comte-Robert\, 77170\, France
CATEGORIES:Autre,Enfance,Jeux,L'Oréade,Natation
ATTACH;FMTTYPE=image/jpeg:https://www.loreedelabrie.fr/wp-content/uploads/tribe_events/10346788_18027894.jpg
END:VEVENT
END:VCALENDAR