BEGIN:VCALENDAR
VERSION:2.0
PRODID:-//L&#039;Orée de la Brie - ECPv6.5.1.4//NONSGML v1.0//EN
CALSCALE:GREGORIAN
METHOD:PUBLISH
X-WR-CALNAME:L&#039;Orée de la Brie
X-ORIGINAL-URL:https://www.loreedelabrie.fr
X-WR-CALDESC:Évènements pour L&#039;Orée de la Brie
REFRESH-INTERVAL;VALUE=DURATION:PT1H
X-Robots-Tag:noindex
X-PUBLISHED-TTL:PT1H
BEGIN:VTIMEZONE
TZID:Europe/Paris
BEGIN:DAYLIGHT
TZOFFSETFROM:+0100
TZOFFSETTO:+0200
TZNAME:CEST
DTSTART:20250330T010000
END:DAYLIGHT
BEGIN:STANDARD
TZOFFSETFROM:+0200
TZOFFSETTO:+0100
TZNAME:CET
DTSTART:20251026T010000
END:STANDARD
END:VTIMEZONE
BEGIN:VEVENT
DTSTART;TZID=Europe/Paris:20250701T190000
DTEND;TZID=Europe/Paris:20250701T190000
DTSTAMP:20260422T012601
CREATED:20250611T081123Z
LAST-MODIFIED:20250701T092234Z
UID:15256-1751396400-1751396400@www.loreedelabrie.fr
SUMMARY:[CHEVRY-COSSIGNY] Terrasses d'été
DESCRIPTION:  \n 𝐋𝐞𝐬 𝐓𝐞𝐫𝐫𝐚𝐬𝐬𝐞𝐬 𝐝’𝐄́𝐭𝐞́ 𝐬𝐨𝐧𝐭 𝐝𝐞 𝐫𝐞𝐭𝐨𝐮𝐫 𝐚̀ 𝐂𝐡𝐞𝐯𝐫𝐲-𝐂𝐨𝐬𝐬𝐢𝐠𝐧𝐲 ! \nRendez-vous pour trois soirées conviviales et festives\, dans une ambiance détendue\, en plein air !\nAu programme : animations ludiques\, food-trucks gourmands et bonne humeur garantie ! \n\n 𝐌𝐚𝐫𝐝𝐢 24 𝐣𝐮𝐢𝐧 – 𝐝𝐞̀𝐬 𝟏𝟗𝐡 – 𝐏𝐚𝐫𝐜 𝐝𝐞𝐬 𝐒𝐩𝐨𝐫𝐭𝐬\n Soirée sportive : tournoi de pétanque\, jeux d’adresse et défis sportifs pour tous les âges !\n\n 𝐌𝐚𝐫𝐝𝐢 𝟏𝐞𝐫 𝐣𝐮𝐢𝐥𝐥𝐞𝐭 – 𝐝𝐞̀𝐬 𝟏𝟗𝐡 – 𝐂𝐨𝐬𝐬𝐢𝐠𝐧𝐲\n Balade contée : laissez-vous embarquer dans l’imaginaire avec un départ à 20h30. Sans réservation.\n\n 𝐌𝐚𝐫𝐝𝐢 𝟖 𝐣𝐮𝐢𝐥𝐥𝐞𝐭 – 𝐝𝐞̀𝐬 𝟏𝟗𝐡 – 𝐏𝐚𝐫𝐜 𝐝𝐞𝐬 𝐅𝐫𝐞̀𝐫𝐞𝐬 𝐋𝐮𝐦𝐢𝐞̀𝐫𝐞\n Jeux géants en plein air pour petits et grands !\n\nAnimations gratuites – Food-trucks sur place\n\n Venez entre amis\, en famille ou entre voisins… L’été commence ici\, à Chevry-Cossigny ! 
URL:https://www.loreedelabrie.fr/evenement/chevry-cossigny-terrasses-dete-2/
LOCATION:Chevry-Cossigny
CATEGORIES:Jeux,Lecture
ATTACH;FMTTYPE=image/jpeg:https://www.loreedelabrie.fr/wp-content/uploads/tribe_events/terrasses-dete-annule.jpg
END:VEVENT
BEGIN:VEVENT
DTSTART;TZID=Europe/Paris:20250704T190000
DTEND;TZID=Europe/Paris:20250704T220000
DTSTAMP:20260422T012601
CREATED:20250624T075345Z
LAST-MODIFIED:20250624T075345Z
UID:15349-1751655600-1751666400@www.loreedelabrie.fr
SUMMARY:[BRIE-COMTE-ROBERT] Soirée jeux - Ambiance estivale
DESCRIPTION:  \nC’est le moment de préparer l’été en toute convivialité. Venez passer une soirée détente autour de jeux d’ambiance variés !\n\nAu programme de la soirée ? Time’s up\, traitres à bord\, Canardage\, Taco chat bouc cheese pizza\, Just one\, Chiche ou pois chiche et bien plus encore… Fous rires garantis entre amis ou en famille !\n\nÀ 20h\, venez vous affronter lors du grand jeu collectif Foxy ! Qui se souviendra de tout ce qu’il a vu et remportera la partie ?\n\n Vendredi 4 juillet\n De 19h à 22h\n Ludothèque – L’Atelier (21 place des Déportés)\n Buffet participatif\n Dès 6 ans\n Entrée gratuite
URL:https://www.loreedelabrie.fr/evenement/brie-comte-robert-soiree-jeux-ambiance-estivale/
LOCATION:Ludothèque\, 21 place des Déportés\, Brie-Comte-Robert\, 77170\, France
CATEGORIES:Jeux
ATTACH;FMTTYPE=image/jpeg:https://www.loreedelabrie.fr/wp-content/uploads/tribe_events/Jeux.jpg
END:VEVENT
BEGIN:VEVENT
DTSTART;TZID=Europe/Paris:20250707T134500
DTEND;TZID=Europe/Paris:20250814T184500
DTSTAMP:20260422T012601
CREATED:20250625T072609Z
LAST-MODIFIED:20250625T072609Z
UID:15358-1751895900-1755197100@www.loreedelabrie.fr
SUMMARY:[BRIE-COMTE-ROBERT] Brie Plage
DESCRIPTION:Profitez de l’été autrement avec Brie Plage \n \nDu 7 juillet au 14 août\, le parc de la mairie se transforme en plage artificiel !\n \n\n\n Du lundi au vendredi de 13h45 à 18h45\n \n Des animations gratuites pour petits et grands\, tous les après‑midis de l’été : sports\, jeux\, ateliers\, projections en plein air et bien plus encore…\n \n Découvrez le programme de votre été !\n\n  \n           \n 
URL:https://www.loreedelabrie.fr/evenement/brie-comte-robert-brie-plage-2/
LOCATION:Parc de la mairie\, 2 Rue de Verdun\, Brie-Comte-Robert\, 77170\, France
CATEGORIES:Cinéma,Jardin,Jeux,Sport
ATTACH;FMTTYPE=image/jpeg:https://www.loreedelabrie.fr/wp-content/uploads/tribe_events/Plage-urbaine-2.jpg
END:VEVENT
BEGIN:VEVENT
DTSTART;TZID=Europe/Paris:20250708T190000
DTEND;TZID=Europe/Paris:20250708T190000
DTSTAMP:20260422T012601
CREATED:20250611T083440Z
LAST-MODIFIED:20250611T083440Z
UID:15258-1752001200-1752001200@www.loreedelabrie.fr
SUMMARY:[CHEVRY-COSSIGNY] Terrasses d'été
DESCRIPTION:  \n 𝐋𝐞𝐬 𝐓𝐞𝐫𝐫𝐚𝐬𝐬𝐞𝐬 𝐝’𝐄́𝐭𝐞́ 𝐬𝐨𝐧𝐭 𝐝𝐞 𝐫𝐞𝐭𝐨𝐮𝐫 𝐚̀ 𝐂𝐡𝐞𝐯𝐫𝐲-𝐂𝐨𝐬𝐬𝐢𝐠𝐧𝐲 ! \nRendez-vous pour trois soirées conviviales et festives\, dans une ambiance détendue\, en plein air !\nAu programme : animations ludiques\, food-trucks gourmands et bonne humeur garantie ! \n\n 𝐌𝐚𝐫𝐝𝐢 24 𝐣𝐮𝐢𝐧 – 𝐝𝐞̀𝐬 𝟏𝟗𝐡 – 𝐏𝐚𝐫𝐜 𝐝𝐞𝐬 𝐒𝐩𝐨𝐫𝐭𝐬\n Soirée sportive : tournoi de pétanque\, jeux d’adresse et défis sportifs pour tous les âges !\n\n 𝐌𝐚𝐫𝐝𝐢 𝟏𝐞𝐫 𝐣𝐮𝐢𝐥𝐥𝐞𝐭 – 𝐝𝐞̀𝐬 𝟏𝟗𝐡 – 𝐂𝐨𝐬𝐬𝐢𝐠𝐧𝐲\n Balade contée : laissez-vous embarquer dans l’imaginaire avec un départ à 20h30. Sans réservation.\n\n 𝐌𝐚𝐫𝐝𝐢 𝟖 𝐣𝐮𝐢𝐥𝐥𝐞𝐭 – 𝐝𝐞̀𝐬 𝟏𝟗𝐡 – 𝐏𝐚𝐫𝐜 𝐝𝐞𝐬 𝐅𝐫𝐞̀𝐫𝐞𝐬 𝐋𝐮𝐦𝐢𝐞̀𝐫𝐞\n Jeux géants en plein air pour petits et grands !\n\nAnimations gratuites – Food-trucks sur place\n\n Venez entre amis\, en famille ou entre voisins… L’été commence ici\, à Chevry-Cossigny ! 
URL:https://www.loreedelabrie.fr/evenement/chevry-cossigny-terrasses-dete-3/
LOCATION:Parc des Frères Lumières\, rue des Frères Lumières\, Chevry-Cossigny\, 77173
CATEGORIES:Jeux
ATTACH;FMTTYPE=image/jpeg:https://www.loreedelabrie.fr/wp-content/uploads/tribe_events/festival-ou-autres-exterieur.jpg
END:VEVENT
BEGIN:VEVENT
DTSTART;VALUE=DATE:20250716
DTEND;VALUE=DATE:20250717
DTSTAMP:20260422T012601
CREATED:20250611T131244Z
LAST-MODIFIED:20250613T082949Z
UID:15268-1752624000-1752710399@www.loreedelabrie.fr
SUMMARY:[INTERCO'GO] Spéciale Jeux d'eau 6-10 ans
DESCRIPTION:
URL:https://www.loreedelabrie.fr/evenement/intercogo-speciale-jeux-deau-6-10-ans/
CATEGORIES:Jeux,L'interco'GO
ATTACH;FMTTYPE=image/png:https://www.loreedelabrie.fr/wp-content/uploads/wysijap/Intercogo1Audrey.png
ORGANIZER;CN="L'Or%C3%A9e de la Brie":MAILTO:communaute@loreedelabrie.fr
END:VEVENT
BEGIN:VEVENT
DTSTART;VALUE=DATE:20250717
DTEND;VALUE=DATE:20250718
DTSTAMP:20260422T012601
CREATED:20250611T130910Z
LAST-MODIFIED:20250613T082633Z
UID:15265-1752710400-1752796799@www.loreedelabrie.fr
SUMMARY:[INTERCO'GO] Spéciale Jeux d'eau 11-17 ans
DESCRIPTION:
URL:https://www.loreedelabrie.fr/evenement/intercogo-speciale-jeux-deau-11-17-ans/
CATEGORIES:Jeux,L'interco'GO
ATTACH;FMTTYPE=image/png:https://www.loreedelabrie.fr/wp-content/uploads/wysijap/Intercogo1Audrey.png
ORGANIZER;CN="L'Or%C3%A9e de la Brie":MAILTO:communaute@loreedelabrie.fr
END:VEVENT
END:VCALENDAR