BEGIN:VCALENDAR
VERSION:2.0
PRODID:-//L&#039;Orée de la Brie - ECPv6.5.1.4//NONSGML v1.0//EN
CALSCALE:GREGORIAN
METHOD:PUBLISH
X-WR-CALNAME:L&#039;Orée de la Brie
X-ORIGINAL-URL:https://www.loreedelabrie.fr
X-WR-CALDESC:Évènements pour L&#039;Orée de la Brie
REFRESH-INTERVAL;VALUE=DURATION:PT1H
X-Robots-Tag:noindex
X-PUBLISHED-TTL:PT1H
BEGIN:VTIMEZONE
TZID:Europe/Paris
BEGIN:DAYLIGHT
TZOFFSETFROM:+0100
TZOFFSETTO:+0200
TZNAME:CEST
DTSTART:20250330T010000
END:DAYLIGHT
BEGIN:STANDARD
TZOFFSETFROM:+0200
TZOFFSETTO:+0100
TZNAME:CET
DTSTART:20251026T010000
END:STANDARD
END:VTIMEZONE
BEGIN:VEVENT
DTSTART;TZID=Europe/Paris:20250207T190000
DTEND;TZID=Europe/Paris:20250207T210000
DTSTAMP:20260422T124348
CREATED:20250204T090254Z
LAST-MODIFIED:20250204T091103Z
UID:14455-1738954800-1738962000@www.loreedelabrie.fr
SUMMARY:[BRIE-COMTE-ROBERT] Intersection quizz polar
DESCRIPTION:Vous êtes coupable de ne lire que des romans policiers et des thrillers ? \nVous n’en lisez jamais et êtes totalement innocent dans ce domaine ? \nVous pensez être un expert en thriller ? Vous êtes peut-être un néophyte en roman noir ? \nPeu importe\, la ville vous propose un quizz autour du polar (films\, bandes dessinées\, romans et musique) dans une atmosphère chaleureuse\, ludique et amusante. \nRéservation dès le 7 janvier au 01 60 62 64 39 \n  \nhttps://www.briecomterobert.fr/agenda/intersection-2/
URL:https://www.loreedelabrie.fr/evenement/brie-comte-robert-intersection-quizz-polar/
LOCATION:Médiathèque de Brie-Comte-Robert\, Place des Déportés\, Brie-Comte-Robert\, 77170\, France
CATEGORIES:Jeux
ATTACH;FMTTYPE=image/jpeg:https://www.loreedelabrie.fr/wp-content/uploads/tribe_events/jeux-olympiques-de-lesprit-AVC.jpg
END:VEVENT
BEGIN:VEVENT
DTSTART;TZID=Europe/Paris:20250208T140000
DTEND;TZID=Europe/Paris:20250209T180000
DTSTAMP:20260422T124348
CREATED:20250116T094835Z
LAST-MODIFIED:20250116T110611Z
UID:14388-1739023200-1739124000@www.loreedelabrie.fr
SUMMARY:[CCOB] L'Orée Game's Days
DESCRIPTION:  \nLa Communauté de communes de l’Orée de la Brie organise son premier salon gaming : l’Orée Game’s Days\, les 8 et 9 février\, au gymnase Blaise Pascal de Brie-Comte-Robert. \nAu programme : \n> tournoi avec lots à gagner : Super Smash Bros\, Just dance\, FC 25 (et non 24)\, Mario Kart 8. \n> Mais aussi : Scène Gaming & Esport – Bornes d’arcade – Rétro Gaming Casques – Réalité virtuelle – Free Play – Lan Party. \n> Exposition et conférence sur les métiers des jeux vidéo. \nDate : samedi 8/02 : 14h>18h\nDimanche 9/02 : 10h>18h \n\nLieu : gymnase Blaise Pascal : 4 All. Commandant Guesnet 77170 Brie-Comte-Robert \n\nTarifs : Billet samedi : 2 € \nBillet dimanche : 3 €\nBillet 2 jours : 4 €\nGratuit pour les moins de 6 ans \nGUEST : Présence d’un joueur pro ! \nProgrammation : \nProgrammation samedi :\n• 15h00 : début du tournoi : Super Smash Bros (32 slots)\n• 17h30 : finale du tournoi : Super Smash Bros \nProgrammation Dimanche :\n• 11h00 : début du tournoi : FC 25 (32 slots)\n• 14h00 : début du tournoi : Mario Kart 8 (32 slots)\n• 15h00 : conférence métiers du JV (45minutes)\n• 16h30 : finale du tournoi : FC 25\n• 17h30 : finale du tournoi : Mario Kart 8 \nChaque compétition est organisée sur la dernière version du jeu avec l’intégralité des personnages disponibles débloqués. \n9 ESPACES POUR LE PLUS GRAND PLAISIR ! \nEspace Esport :\nPS5 : FC25\nSwitch : MK \nEspace Free Play :\nVenez découvrir notre espace Free Play\, un lieu dédié au jeu et au divertissement ! Espace équipé de 8 PS4 et de 8 Nintendo Switch. Cet espace vous offre une expérience de jeu diversifiée et immersive.  \n\nPLAYSTATION 4\nPlongez dans des aventures palpitantes et des jeux à couper le souffle avec les 8 PS4. Affrontez vos amis ou explorez des mondes fantastiques en solo avec des titres emblématiques tels que Dragon Ball FighterZ\, Naruto Shippuden: Ultimate Ninja Storm 4\, Street Fighter V\, NBA 2K24 et FC24. \n\nNINTENDO SWITCH\nDécouvrez la flexibilité et le plaisir de jouer sur Nintendo Switch avec nos 8 consoles. Profitez de jeux amusants et colorés tels que Mario Kart 8 Deluxe\, Super Smash Bros. Ultimate\, Mario Strikers: Battle League\, Mario & Sonic aux Jeux Olympiques et bien d’autres\, parfaits pour tous les âges. \nEspace Bornes d’arcade :\nRevivez la magie des jeux d’arcade avec notre espace dédié ! Plongez dans l’univers rétro des bornes d’arcade et redécouvrez des classiques intemporels. Que vous soyez un nostalgique des années 80 ou un joueur curieux\, les bornes sont conçues pour offrir des moments de pur divertissement. Défiez vos amis ou jouez en solo pour atteindre le meilleur score. 1000 jeux. \nEspace Rétro Gaming :\nPlongez dans l’univers des années passées avec notre espace Rétro Gaming ! Revivez les moments magiques de votre enfance en jouant sur des consoles classiques qui trônaient autrefois dans nos salons. Redécouvrez les jeux qui ont marqué l’histoire du jeu vidéo et offrez-vous une dose de nostalgie. Que vous soyez un ancien gamer ou un passionné curieux de découvrir les légendes du passé\, les consoles rétro vous garantiront des heures de divertissement authentique. NES\, Super Nintendo\, Mégadrive\, Playstation 1\, WII\, Game Cube\, Xbox. \nEspace Réalité Virtuelle :\nPlongez votre public dans des mondes virtuels captivants où ils pourront jouer et interagir comme jamais auparavant. L’équipement garantit une expérience immersive pour tous\, des débutants aux passionnés et ce\, quelque soit l’âge. Avec une variété de jeux adaptés à tous les goûts\, chaque participant trouvera son bonheur. Animation Beat Saber le samedi et Rollers Coaster (Montagnes Russes) le dimanche. \nEspace Simulateur Automobile : \nPlongez dans l’excitation de la course avec les simulateurs automobile. Affrontez jusqu’à trois autres pilotes sur des circuits emblématiques pour des courses intenses. Que vous soyez débutant ou un pilote chevronné\, le simulateur vous offrira une expérience immersive. Relevez le défi et vivez l’adrénaline de la Formule 1 à chaque instant ! \nEspace Just Danse Géant :\nEntrez dans la danse avec notre espace Just Dance ! Faites monter l’ambiance et laissez-vous emporter par le rythme de l’écran géant. Que vous soyez jeune ou moins jeune\, débutant ou danseur confirmé\, cet espace est conçu pour faire bouger tout le monde. Choisissez vos morceaux préférés et dansez en solo ou en groupe pour des moments de pur plaisir et d’énergie. \nEspace Lan Party :\nEntrez dans l’univers ultime du jeu avec notre espace PC Gamers ! Équipé de 10 ordinateurs de haute performance\, cet espace vous offre l’opportunité de plonger dans des jeux populaires tels que Fortnite\, Rocket League. Que vous soyez un compétiteur acharné ou un joueur occasionnel\, nos PC de pointe garantissent une expérience de jeu fluide et immersive. \nExposition et Conférence sur les métiers du jeu vidéo : \nExplorez l’univers fascinant des carrières dans le jeu vidéo avec notre espace Exposition sur les Métiers du Jeu Vidéo. Cet espace est dédié à la découverte des nombreux métiers qui composent l’industrie du jeu vidéo\, offrant une vue d’ensemble complète et inspirante. Grâce à divers visuels attractifs et informatifs\, vous pourrez en apprendre davantage sur des professions telles que développeur\, game designer\, graphiste\, testeur\, scénariste\, et bien d’autres.\nPour appuyer cette exposition\, nous organisons une conférence le dimanche (15h00) sur scène\, animée par un professionnel de l’industrie du jeu vidéo. Cette conférence sera une occasion unique d’entendre des témoignages inspirants\, de poser des questions et de recevoir des conseils précieux sur les différentes carrières possibles dans ce domaine dynamique et en constante évolution.
URL:https://www.loreedelabrie.fr/evenement/ccob-loree-games-days/
LOCATION:Complexe sportif Blaise Pascal\, 1 allée Commandant Guesnet\, Brie-Comte-Robert\, 77170\, France
CATEGORIES:Enfance,Exposition,Jeux,Orientation jeunesse,Salon
ATTACH;FMTTYPE=image/jpeg:https://www.loreedelabrie.fr/wp-content/uploads/tribe_events/jeu-video.jpg
ORGANIZER;CN="L'Or%C3%A9e de la Brie":MAILTO:communaute@loreedelabrie.fr
END:VEVENT
BEGIN:VEVENT
DTSTART;TZID=Europe/Paris:20250208T150000
DTEND;TZID=Europe/Paris:20250208T150000
DTSTAMP:20260422T124348
CREATED:20250107T162902Z
LAST-MODIFIED:20250107T162902Z
UID:14335-1739026800-1739026800@www.loreedelabrie.fr
SUMMARY:[VARENNES-JARCY] ROLLER PARTY FUN
DESCRIPTION:
URL:https://www.loreedelabrie.fr/evenement/varennes-jarcy-roller-party-fun-2/
LOCATION:Gymnase Sandrine Martinet – Varennes-Jarcy\, Chemin des Aufrais\, Varennes-Jarcy\, 91480
CATEGORIES:Jeux
ATTACH;FMTTYPE=image/jpeg:https://www.loreedelabrie.fr/wp-content/uploads/tribe_events/Roller.jpg
END:VEVENT
BEGIN:VEVENT
DTSTART;TZID=Europe/Paris:20250214T190000
DTEND;TZID=Europe/Paris:20250214T220000
DTSTAMP:20260422T124348
CREATED:20250204T090957Z
LAST-MODIFIED:20250204T090957Z
UID:14457-1739559600-1739570400@www.loreedelabrie.fr
SUMMARY:[BRIE-COMTE-ROBERT] Soirée jeux
DESCRIPTION:Comme chaque vendredi de veille de vacances scolaires\, la ludothèque organise une soirée jeux ! \n\nVenez découvrir une sélection parfaite pour les amoureux du jeux ! \nTout au long de la soirée\, venez découvrir les coups de coeur de la ludothèque ! \nProfitez de parties amusantes ou endiablées sur les jeux Les charlatans de Belcastel\, L’île des chats\, Flamecraft\, Dorfromantik\, Cascadia\, MLEM space agency\, Abyss\, The island\, Sur les traces de Darwin… \nApportez un plat à faire découvrir\, les boissons sont offertes ! \n  \nhttps://www.briecomterobert.fr/agenda/soiree-jeux/
URL:https://www.loreedelabrie.fr/evenement/brie-comte-robert-soiree-jeux-3/
LOCATION:Ludothèque\, 21 place des Déportés\, Brie-Comte-Robert\, 77170\, France
CATEGORIES:Jeux
ATTACH;FMTTYPE=image/jpeg:https://www.loreedelabrie.fr/wp-content/uploads/tribe_events/jeux-olympiques-de-lesprit-AVC.jpg
END:VEVENT
END:VCALENDAR