BEGIN:VCALENDAR
VERSION:2.0
PRODID:-//L&#039;Orée de la Brie - ECPv6.5.1.4//NONSGML v1.0//EN
CALSCALE:GREGORIAN
METHOD:PUBLISH
X-WR-CALNAME:L&#039;Orée de la Brie
X-ORIGINAL-URL:https://www.loreedelabrie.fr
X-WR-CALDESC:Évènements pour L&#039;Orée de la Brie
REFRESH-INTERVAL;VALUE=DURATION:PT1H
X-Robots-Tag:noindex
X-PUBLISHED-TTL:PT1H
BEGIN:VTIMEZONE
TZID:Europe/Paris
BEGIN:DAYLIGHT
TZOFFSETFROM:+0100
TZOFFSETTO:+0200
TZNAME:CEST
DTSTART:20240331T010000
END:DAYLIGHT
BEGIN:STANDARD
TZOFFSETFROM:+0200
TZOFFSETTO:+0100
TZNAME:CET
DTSTART:20241027T010000
END:STANDARD
BEGIN:DAYLIGHT
TZOFFSETFROM:+0100
TZOFFSETTO:+0200
TZNAME:CEST
DTSTART:20250330T010000
END:DAYLIGHT
BEGIN:STANDARD
TZOFFSETFROM:+0200
TZOFFSETTO:+0100
TZNAME:CET
DTSTART:20251026T010000
END:STANDARD
END:VTIMEZONE
BEGIN:VEVENT
DTSTART;VALUE=DATE:20241221
DTEND;VALUE=DATE:20250105
DTSTAMP:20260422T141056
CREATED:20241203T112150Z
LAST-MODIFIED:20241211T152110Z
UID:14217-1734739200-1736035199@www.loreedelabrie.fr
SUMMARY:[CCOB] Village animé
DESCRIPTION:Pour la quatrième année consécutive\, la Communauté de communes de l’Orée de la Brie vous propose un village de Noël sur le parvis de l’ancienne gare à Brie-Comte-Robert. \nFan de luge et de manège ? Les festivités de fin d’année de la CCOB vous accueilleront du samedi 21 décembre 2024 au samedi 4 janvier 2025. \nAu programme : \n> Descente en luge de 27 m \n> Manège de chaises volantes \n> Showboat (parcours d’activités pour enfant) \n> Stand de Churros \nCes activités vous seront proposées dans un décor de Noël où vous pourrez croiser des cerfs\, un bonhomme de neige et prendre la pause dans le traineau du Père Noël. \nCet événement familial et festif est un moment incontournable dans les animations de fin d’année du territoire et est ouvert à tous ! \nTarifs activités (Chaises volantes\, luge – 3 descentes\, showboat) : 2 € \nHoraires d’ouverture :\n–             14h00 – 18h30 : les lundis\, jeudis\, vendredis\, samedis et dimanches. \n–             14h00 – 16h00 : les mardis 24 et 31 décembre 2024. \n–             15h00 – 18h30 : les mercredis 25 décembre 2024 et 1er janvier 2025. \n  \nUn sapin géant de 7 m marquera l’entrée le village de Noël de la CCOB. \n 
URL:https://www.loreedelabrie.fr/evenement/ccob-village-anime/
LOCATION:L’Orée de la Brie\, 1 rue Léonard de Vinci\, Brie-Comte-Robert\, 77170\, France
CATEGORIES:Enfance,Jeux
ATTACH;FMTTYPE=image/jpeg:https://www.loreedelabrie.fr/wp-content/uploads/tribe_events/Noel.jpg
ORGANIZER;CN="L'Or%C3%A9e de la Brie":MAILTO:communaute@loreedelabrie.fr
END:VEVENT
END:VCALENDAR