BEGIN:VCALENDAR
VERSION:2.0
PRODID:-//L&#039;Orée de la Brie - ECPv6.5.1.4//NONSGML v1.0//EN
CALSCALE:GREGORIAN
METHOD:PUBLISH
X-WR-CALNAME:L&#039;Orée de la Brie
X-ORIGINAL-URL:https://www.loreedelabrie.fr
X-WR-CALDESC:Évènements pour L&#039;Orée de la Brie
REFRESH-INTERVAL;VALUE=DURATION:PT1H
X-Robots-Tag:noindex
X-PUBLISHED-TTL:PT1H
BEGIN:VTIMEZONE
TZID:Europe/Paris
BEGIN:DAYLIGHT
TZOFFSETFROM:+0100
TZOFFSETTO:+0200
TZNAME:CEST
DTSTART:20240331T010000
END:DAYLIGHT
BEGIN:STANDARD
TZOFFSETFROM:+0200
TZOFFSETTO:+0100
TZNAME:CET
DTSTART:20241027T010000
END:STANDARD
END:VTIMEZONE
BEGIN:VEVENT
DTSTART;TZID=Europe/Paris:20241023T100000
DTEND;TZID=Europe/Paris:20241023T180000
DTSTAMP:20260422T195041
CREATED:20241021T143001Z
LAST-MODIFIED:20241021T143001Z
UID:14053-1729677600-1729706400@www.loreedelabrie.fr
SUMMARY:[CHEVRY-COSSIGNY] Journée rétrogaming
DESCRIPTION:
URL:https://www.loreedelabrie.fr/evenement/chevry-cossigny-journee-retrogaming/
LOCATION:Médiathèque de Chevry-Cossigny\, 9 rue Jean Delsol\, Chevry-Cossigny\, 77173\, France
CATEGORIES:Jeux
ATTACH;FMTTYPE=image/jpeg:https://www.loreedelabrie.fr/wp-content/uploads/tribe_events/Jeux.jpg
END:VEVENT
BEGIN:VEVENT
DTSTART;TZID=Europe/Paris:20241031T180000
DTEND;TZID=Europe/Paris:20241031T180000
DTSTAMP:20260422T195041
CREATED:20241009T091757Z
LAST-MODIFIED:20241009T091757Z
UID:13980-1730397600-1730397600@www.loreedelabrie.fr
SUMMARY:[CHEVRY-COSSIGNY] La chasse
DESCRIPTION:  \n  \n𝗢𝘀𝗲𝗿𝗲𝘇-𝘃𝗼𝘂𝘀 𝘀𝘂𝗿𝘃𝗶𝘃𝗿𝗲 𝗮̀ 𝗹𝗮 𝗻𝘂𝗶𝘁 𝗹𝗮 𝗽𝗹𝘂𝘀 𝘁𝗲𝗿𝗿𝗶𝗳𝗶𝗮𝗻𝘁𝗲 𝗱𝗲 𝗖𝗵𝗲𝘃𝗿𝘆-𝗖𝗼𝘀𝘀𝗶𝗴𝗻𝘆 ? \nLe jeudi 31 octobre\, plongez dans un parcours nocturne de 90 minutes où chaque pas pourrait être le dernier… Dans l’obscurité totale\, des créatures effrayantes vous traqueront sans relâche. Oserez-vous les affronter ? \nVotre mission : résoudre des énigmes diaboliques avant que la nuit ne vous engloutisse à jamais… \n𝘼̂𝙢𝙚𝙨 𝙨𝙚𝙣𝙨𝙞𝙗𝙡𝙚𝙨 𝙨’𝙖𝙗𝙨𝙩𝙚𝙣𝙞𝙧 : accessible dès 14 ans\, avec un adulte pour protéger vos arrières. \n𝗥𝗲́𝘀𝗲𝗿𝘃𝗮𝘁𝗶𝗼𝗻 𝗲𝗻 𝗹𝗶𝗴𝗻𝗲 𝗼𝗯𝗹𝗶𝗴𝗮𝘁𝗼𝗶𝗿𝗲 – les places disparaissent aussi vite que votre courage… https://blackgargoyle.fr/ \nà partir de 18€/Chasseur
URL:https://www.loreedelabrie.fr/evenement/chevry-cossigny-la-chasse/
LOCATION:Chevry-Cossigny
CATEGORIES:Jeux
ATTACH;FMTTYPE=image/jpeg:https://www.loreedelabrie.fr/wp-content/uploads/tribe_events/escape-game.jpg
END:VEVENT
BEGIN:VEVENT
DTSTART;TZID=Europe/Paris:20241031T203000
DTEND;TZID=Europe/Paris:20241031T235900
DTSTAMP:20260422T195041
CREATED:20241021T141504Z
LAST-MODIFIED:20241021T141504Z
UID:14046-1730406600-1730419140@www.loreedelabrie.fr
SUMMARY:[VARENNES-JARCY] Halloween
DESCRIPTION:Parc de la Feuilleraie \nRestauration sur place. \nPour les collégiens et jusqu’à 25 ans.
URL:https://www.loreedelabrie.fr/evenement/varennes-jarcy-halloween/
LOCATION:La Feuilleraie Varennes-Jarcy\, 1 rue de Mandres\, Varennes-Jarcy\, 91480\, France
CATEGORIES:Autre,Jeux
ATTACH;FMTTYPE=image/jpeg:https://www.loreedelabrie.fr/wp-content/uploads/tribe_events/escape-game.jpg
END:VEVENT
END:VCALENDAR