BEGIN:VCALENDAR
VERSION:2.0
PRODID:-//L&#039;Orée de la Brie - ECPv6.5.1.4//NONSGML v1.0//EN
CALSCALE:GREGORIAN
METHOD:PUBLISH
X-ORIGINAL-URL:https://www.loreedelabrie.fr
X-WR-CALDESC:Évènements pour L&#039;Orée de la Brie
REFRESH-INTERVAL;VALUE=DURATION:PT1H
X-Robots-Tag:noindex
X-PUBLISHED-TTL:PT1H
BEGIN:VTIMEZONE
TZID:Europe/Paris
BEGIN:DAYLIGHT
TZOFFSETFROM:+0100
TZOFFSETTO:+0200
TZNAME:CEST
DTSTART:20240331T010000
END:DAYLIGHT
BEGIN:STANDARD
TZOFFSETFROM:+0200
TZOFFSETTO:+0100
TZNAME:CET
DTSTART:20241027T010000
END:STANDARD
END:VTIMEZONE
BEGIN:VEVENT
DTSTART;TZID=Europe/Paris:20240706T140000
DTEND;TZID=Europe/Paris:20240707T180000
DTSTAMP:20260423T000347
CREATED:20240627T120441Z
LAST-MODIFIED:20240627T120441Z
UID:13436-1720274400-1720375200@www.loreedelabrie.fr
SUMMARY:[VARENNES-JARCY] Varen'Plage
DESCRIPTION:
URL:https://www.loreedelabrie.fr/evenement/varennes-jarcy-varenplage/
LOCATION:Stade\, 3 rue de Brie\, Varennes-Jarcy\, 91480\, France
CATEGORIES:Jeux
ATTACH;FMTTYPE=image/jpeg:https://www.loreedelabrie.fr/wp-content/uploads/tribe_events/Plage-urbaine-2.jpg
END:VEVENT
BEGIN:VEVENT
DTSTART;VALUE=DATE:20240708
DTEND;VALUE=DATE:20240817
DTSTAMP:20260423T000347
CREATED:20240409T085422Z
LAST-MODIFIED:20240712T101748Z
UID:12983-1720396800-1723852799@www.loreedelabrie.fr
SUMMARY:[BRIE-COMTE-ROBERT] Brie plage
DESCRIPTION:
URL:https://www.loreedelabrie.fr/evenement/brie-comte-robert-brie-plage/
LOCATION:Parc de la mairie\, 2 Rue de Verdun\, Brie-Comte-Robert\, 77170\, France
CATEGORIES:Jeux
ATTACH;FMTTYPE=image/jpeg:https://www.loreedelabrie.fr/wp-content/uploads/tribe_events/Plage-urbaine-2.jpg
END:VEVENT
BEGIN:VEVENT
DTSTART;TZID=Europe/Paris:20240720T140000
DTEND;TZID=Europe/Paris:20240720T180000
DTSTAMP:20260423T000347
CREATED:20240628T102734Z
LAST-MODIFIED:20240719T124230Z
UID:13510-1721484000-1721498400@www.loreedelabrie.fr
SUMMARY:[SERVON] L'Estivale
DESCRIPTION:  \n\n Ne manquez pas L’Estival ! \n\n\n Samedi 20 juillet\, rejoignez-les pour une journée de fun et de détente.\n\n\n Programme :\n14h-21h – Jeux d’extérieur pour petits et grands en accès libre :\n\n\nTir à l’arc \nMölkky \nTennis de table avec l’AMICALE PONGISTES CHEVRIARDS \nBadminton \nMorpions\nÉchecs et Mikado géants \n14h-22h30 – Food trucks sucrés et salés\, buvette \n\n\n21h30 – Projection sur grand écran du film « Jumanji : Bienvenue dans la Jungle » \n\n\nVenez nombreux pour partager un moment convivial et ludique en famille ou entre amis !
URL:https://www.loreedelabrie.fr/evenement/servon-lestivale/
LOCATION:Parc du 14 juillet\, 15 rue de la poste\, Servon\, 77170\, France
CATEGORIES:Cinéma,Jeux
ATTACH;FMTTYPE=image/jpeg:https://www.loreedelabrie.fr/wp-content/uploads/tribe_events/cine-plein-air.jpg
END:VEVENT
END:VCALENDAR