BEGIN:VCALENDAR
VERSION:2.0
PRODID:-//L&#039;Orée de la Brie - ECPv6.5.1.4//NONSGML v1.0//EN
CALSCALE:GREGORIAN
METHOD:PUBLISH
X-WR-CALNAME:L&#039;Orée de la Brie
X-ORIGINAL-URL:https://www.loreedelabrie.fr
X-WR-CALDESC:Évènements pour L&#039;Orée de la Brie
REFRESH-INTERVAL;VALUE=DURATION:PT1H
X-Robots-Tag:noindex
X-PUBLISHED-TTL:PT1H
BEGIN:VTIMEZONE
TZID:Europe/Paris
BEGIN:DAYLIGHT
TZOFFSETFROM:+0100
TZOFFSETTO:+0200
TZNAME:CEST
DTSTART:20240331T010000
END:DAYLIGHT
BEGIN:STANDARD
TZOFFSETFROM:+0200
TZOFFSETTO:+0100
TZNAME:CET
DTSTART:20241027T010000
END:STANDARD
END:VTIMEZONE
BEGIN:VEVENT
DTSTART;TZID=Europe/Paris:20240405T080000
DTEND;TZID=Europe/Paris:20240405T170000
DTSTAMP:20260423T040512
CREATED:20240321T135329Z
LAST-MODIFIED:20240326T103859Z
UID:12803-1712304000-1712336400@www.loreedelabrie.fr
SUMMARY:[BRIE-COMTE-ROBERT] Soirée jeux
DESCRIPTION:Comme chaque vendredi de veille de vacances scolaires\, la ludothèque organise une soirée jeux ! \nVenez le découvrir en participant à la prochaine soirée jeux de la ludothèque. \nApportez un plat à faire découvrir\, les boissons sont offertes ! \nOuvert à tous / Sans inscription
URL:https://www.loreedelabrie.fr/evenement/brie-comte-robert-soiree-jeux/
LOCATION:Ludothèque\, 21 place des Déportés\, Brie-Comte-Robert\, 77170\, France
CATEGORIES:Jeux
ATTACH;FMTTYPE=image/jpeg:https://www.loreedelabrie.fr/wp-content/uploads/tribe_events/Jeux.jpg
END:VEVENT
BEGIN:VEVENT
DTSTART;TZID=Europe/Paris:20240417T143000
DTEND;TZID=Europe/Paris:20240417T163000
DTSTAMP:20260423T040512
CREATED:20240322T092222Z
LAST-MODIFIED:20240322T092222Z
UID:12823-1713364200-1713371400@www.loreedelabrie.fr
SUMMARY:[BRIE-COMTE-ROBERT] Tournoi de jeux vidéo - Just Dance
DESCRIPTION:Enfants contre parents. Enchaînez les chorégraphies sur des chansons sur lesquelles vous voulez danser\, suivez les pas de danse en rythme pour cumuler un maximum de points. Vous pouvez même faire une chorégraphie en duo. Et surtout amusez-vous ! \nRéservation au 01.60.62.64.39.
URL:https://www.loreedelabrie.fr/evenement/brie-comte-robert-tournoi-de-jeux-video-just-dance/
LOCATION:Médiathèque de Brie-Comte-Robert\, Place des Déportés\, Brie-Comte-Robert\, 77170\, France
CATEGORIES:Jeux
ATTACH;FMTTYPE=image/jpeg:https://www.loreedelabrie.fr/wp-content/uploads/tribe_events/Jeux.jpg
END:VEVENT
END:VCALENDAR