BEGIN:VCALENDAR
VERSION:2.0
PRODID:-//L&#039;Orée de la Brie - ECPv6.5.1.4//NONSGML v1.0//EN
CALSCALE:GREGORIAN
METHOD:PUBLISH
X-ORIGINAL-URL:https://www.loreedelabrie.fr
X-WR-CALDESC:Évènements pour L&#039;Orée de la Brie
REFRESH-INTERVAL;VALUE=DURATION:PT1H
X-Robots-Tag:noindex
X-PUBLISHED-TTL:PT1H
BEGIN:VTIMEZONE
TZID:Europe/Paris
BEGIN:DAYLIGHT
TZOFFSETFROM:+0100
TZOFFSETTO:+0200
TZNAME:CEST
DTSTART:20240331T010000
END:DAYLIGHT
BEGIN:STANDARD
TZOFFSETFROM:+0200
TZOFFSETTO:+0100
TZNAME:CET
DTSTART:20241027T010000
END:STANDARD
END:VTIMEZONE
BEGIN:VEVENT
DTSTART;TZID=Europe/Paris:20240301T200000
DTEND;TZID=Europe/Paris:20240302T230000
DTSTAMP:20260423T051357
CREATED:20240129T105855Z
LAST-MODIFIED:20240227T102742Z
UID:12313-1709323200-1709420400@www.loreedelabrie.fr
SUMMARY:[BRIE-COMTE-ROBERT] Full Moon Sports
DESCRIPTION:  \nLa Full Moon Sports revient pour une 2ème édition ! \nTentez une expérience sportive dans une salle plongée dans le noir\, avec des équipements et marquages au sol fluorescents. \nAu programme : 6 sessions de 2h vous permettront de pratiquer tennis de table\, football\, badminton\, basket-ball\, tennis\, hockey\, tir à l’arc et d’autres jeux divers. \nEt NOUVEAU cette année : une initiation au handisport avec du basket fauteuil et du volley-ball assis. \nUne expérience sportive et festive à vivre entre amis ou en famille ! \nInscription obligatoire à partir du lundi 5 février sur https://www.briecomterobert.fr/agenda/full-moon-sports-2/ \nSalle de spectacles Le Safran \nVendredi 1er mars\, 20h00 / Samedi 2 mars 10h00 – 13h00 – 15h30 – 18h00 – 20h30 \nGratuit \nA partir de 6 ans – présence d’un responsable légal obligatoire 
URL:https://www.loreedelabrie.fr/evenement/brie-comte-robert-full-moon-sports/
LOCATION:salle de spectacles Le Safran\, 80 avenue Victor Hugo\, Brie-Comte-Robert\, 77170\, France
CATEGORIES:Jeux
ATTACH;FMTTYPE=image/jpeg:https://www.loreedelabrie.fr/wp-content/uploads/tribe_events/jeux-sportifs.jpg
END:VEVENT
BEGIN:VEVENT
DTSTART;VALUE=DATE:20240306
DTEND;VALUE=DATE:20240314
DTSTAMP:20260423T051357
CREATED:20240208T104716Z
LAST-MODIFIED:20240208T104716Z
UID:12384-1709683200-1710374399@www.loreedelabrie.fr
SUMMARY:[BRIE-COMTE-ROBERT] Les semaines du jeu
DESCRIPTION:Les Semaines du jeu sont de retour du 6 au 13 mars avec des animations pour tous et à tout âge et encore plus de surprises ! \n\nPour le plaisir des petits\, des enfants\, des ados et des adultes\, retrouvez plus de 600 jeux ainsi que des animations proposées tel que des jeux d’aventures\, un cluedo immersif ou encore un défi géant de dominos ! \n\nmercredi 6 et 13 mars de 10h à 19h\nvendredi 8 mars de 16h30 à 22h\nsamedi 9 mars de 10h à 19h
URL:https://www.loreedelabrie.fr/evenement/brie-comte-robert-les-semaines-du-jeu/
CATEGORIES:Jeux
ATTACH;FMTTYPE=image/jpeg:https://www.loreedelabrie.fr/wp-content/uploads/tribe_events/Jeux.jpg
END:VEVENT
END:VCALENDAR