BEGIN:VCALENDAR
VERSION:2.0
PRODID:-//L&#039;Orée de la Brie - ECPv6.5.1.4//NONSGML v1.0//EN
CALSCALE:GREGORIAN
METHOD:PUBLISH
X-WR-CALNAME:L&#039;Orée de la Brie
X-ORIGINAL-URL:https://www.loreedelabrie.fr
X-WR-CALDESC:Évènements pour L&#039;Orée de la Brie
REFRESH-INTERVAL;VALUE=DURATION:PT1H
X-Robots-Tag:noindex
X-PUBLISHED-TTL:PT1H
BEGIN:VTIMEZONE
TZID:Europe/Paris
BEGIN:DAYLIGHT
TZOFFSETFROM:+0100
TZOFFSETTO:+0200
TZNAME:CEST
DTSTART:20260329T010000
END:DAYLIGHT
BEGIN:STANDARD
TZOFFSETFROM:+0200
TZOFFSETTO:+0100
TZNAME:CET
DTSTART:20261025T010000
END:STANDARD
END:VTIMEZONE
BEGIN:VEVENT
DTSTART;TZID=Europe/Paris:20260225T143000
DTEND;TZID=Europe/Paris:20260225T153000
DTSTAMP:20260421T141555
CREATED:20260202T110355Z
LAST-MODIFIED:20260202T110355Z
UID:16674-1772029800-1772033400@www.loreedelabrie.fr
SUMMARY:[CHEVRY-COSSIGNY] Atelier création d’une grainothèque
DESCRIPTION:  \nEt si on semait ensemble l’avenir ? \nLa Marmite lance sa grainothèque et vous invite à un atelier convivial pour tout savoir sur les graines et les semences  \nAu programme : \n Pourquoi les semences sont si précieuses \n Comment les semer et les conserver \n Et surtout… comment partager ses graines \n Venez avec vos graines (ou juste votre curiosité !) pour aider à remplir la toute première grainothèque de la Marmite  \n  \nRéservation : lamarmite@chevry-cossigny.fr / 01.83.85.98.21
URL:https://www.loreedelabrie.fr/evenement/chevry-cossigny-atelier-creation-dune-grainotheque/
LOCATION:La Marmite – Chevry-Cossigny\, rue Jean Delsol\, Chevry-Cossigny\, 77173\, France
CATEGORIES:Jardin
ATTACH;FMTTYPE=image/jpeg:https://www.loreedelabrie.fr/wp-content/uploads/tribe_events/jardinage.jpg
END:VEVENT
END:VCALENDAR