BEGIN:VCALENDAR
VERSION:2.0
PRODID:-//L&#039;Orée de la Brie - ECPv6.5.1.4//NONSGML v1.0//EN
CALSCALE:GREGORIAN
METHOD:PUBLISH
X-ORIGINAL-URL:https://www.loreedelabrie.fr
X-WR-CALDESC:Évènements pour L&#039;Orée de la Brie
REFRESH-INTERVAL;VALUE=DURATION:PT1H
X-Robots-Tag:noindex
X-PUBLISHED-TTL:PT1H
BEGIN:VTIMEZONE
TZID:Europe/Paris
BEGIN:DAYLIGHT
TZOFFSETFROM:+0100
TZOFFSETTO:+0200
TZNAME:CEST
DTSTART:20260329T010000
END:DAYLIGHT
BEGIN:STANDARD
TZOFFSETFROM:+0200
TZOFFSETTO:+0100
TZNAME:CET
DTSTART:20261025T010000
END:STANDARD
END:VTIMEZONE
BEGIN:VEVENT
DTSTART;TZID=Europe/Paris:20260328T150000
DTEND;TZID=Europe/Paris:20260328T170000
DTSTAMP:20260421T122858
CREATED:20260317T111522Z
LAST-MODIFIED:20260317T111522Z
UID:17034-1774710000-1774717200@www.loreedelabrie.fr
SUMMARY:[CHEVRY-COSSIGNY] Balade nature " À la découverte des plantes sauvages"
DESCRIPTION:  \n[ACTIVITÉ NATURE]\nEnvie de partir à la découverte de votre environnement ?\nEnvie d’en apprendre plus sur ce qui vous entoure ?\n\nParticipez à notre “balade découverte des plantes sauvages”\, le samedi 28 mars\, de 15h à 17h\, animée par Matthieu.\n\nC’est gratuit\, c’est familial\, et c’est une nouvelle activité du centre socioculturel.
URL:https://www.loreedelabrie.fr/evenement/chevry-cossigny-balade-nature-a-la-decouverte-des-plantes-sauvages/
LOCATION:La Marmite – Chevry-Cossigny\, rue Jean Delsol\, Chevry-Cossigny\, 77173\, France
CATEGORIES:Atelier,Jardin
ATTACH;FMTTYPE=image/jpeg:https://www.loreedelabrie.fr/wp-content/uploads/tribe_events/balade-nature.jpg
END:VEVENT
END:VCALENDAR