BEGIN:VCALENDAR
VERSION:2.0
PRODID:-//L&#039;Orée de la Brie - ECPv6.5.1.4//NONSGML v1.0//EN
CALSCALE:GREGORIAN
METHOD:PUBLISH
X-ORIGINAL-URL:https://www.loreedelabrie.fr
X-WR-CALDESC:Évènements pour L&#039;Orée de la Brie
REFRESH-INTERVAL;VALUE=DURATION:PT1H
X-Robots-Tag:noindex
X-PUBLISHED-TTL:PT1H
BEGIN:VTIMEZONE
TZID:Europe/Paris
BEGIN:DAYLIGHT
TZOFFSETFROM:+0100
TZOFFSETTO:+0200
TZNAME:CEST
DTSTART:20250330T010000
END:DAYLIGHT
BEGIN:STANDARD
TZOFFSETFROM:+0200
TZOFFSETTO:+0100
TZNAME:CET
DTSTART:20251026T010000
END:STANDARD
END:VTIMEZONE
BEGIN:VEVENT
DTSTART;TZID=Europe/Paris:20250524T140000
DTEND;TZID=Europe/Paris:20250524T183000
DTSTAMP:20260422T041740
CREATED:20250429T091508Z
LAST-MODIFIED:20250429T091508Z
UID:15019-1748095200-1748111400@www.loreedelabrie.fr
SUMMARY:[BRIE-COMTE-ROBERT] Animation à la Friche
DESCRIPTION:Vous avez un savoir-faire artistique ou manuel à partager ? Mosaïque\, cyanotype\, peinture\, sculpture… \nSamedi 24 mai\, l’association Les Défricheurs organise un événement “Art et Ateliers au Jardin”\, une journée dédiée à la créativité et à la transmission des savoirs. Ils recherchent des passionnés prêts à animer un atelier et à partager leur technique avec le public. \nIntéressé(e) ? Contactez dès maintenant l’association Les Défricheurs à l’adresse suivante : lafricheduvaudoy@ecomail-asso.com 
URL:https://www.loreedelabrie.fr/evenement/brie-comte-robert-animation-a-la-friche/
LOCATION:La Friche du Vaudoy\, 5 Rue du Parc des Sports\, Brie-Comte-Robert\, 77170\, France
CATEGORIES:Associatif,Jardin
ATTACH;FMTTYPE=image/jpeg:https://www.loreedelabrie.fr/wp-content/uploads/tribe_events/troc-plantes.jpg
END:VEVENT
BEGIN:VEVENT
DTSTART;TZID=Europe/Paris:20250524T150000
DTEND;TZID=Europe/Paris:20250524T170000
DTSTAMP:20260422T041740
CREATED:20250407T092104Z
LAST-MODIFIED:20250407T092104Z
UID:14930-1748098800-1748106000@www.loreedelabrie.fr
SUMMARY:[CHEVRY-COSSIGNY] Trokédon Végétal
DESCRIPTION:  \n 𝐓𝐫𝐨𝐜 & 𝐃𝐨𝐧 𝐝𝐞 𝐏𝐥𝐚𝐧𝐭𝐞𝐬 – 𝟐𝐞 𝐞́𝐝𝐢𝐭𝐢𝐨𝐧 !\nLe Conseil des Sages\, en partenariat avec l’association @ecossiyourte\, vous invite à un moment convivial et écologique autour des plantes !\n\n Samedi 24 mai 2025 de 15h à 17h\nPlace du Marché – Chevry-Cossigny\n\nVenez nombreux pour troquer\, donner ou collecter :\n Plantes\n Boutures\n Graines\n Pots de fleurs\n\nUn événement ouvert à toutes et à tous\, que vous ayez la main verte ou simplement l’envie de partager.
URL:https://www.loreedelabrie.fr/evenement/chevry-cossigny-trokedon-vegetal-2/
LOCATION:Place du marché\, Chevry-Cossigny\, 77173\, France
CATEGORIES:Jardin
ATTACH;FMTTYPE=image/jpeg:https://www.loreedelabrie.fr/wp-content/uploads/tribe_events/troc-plantes.jpg
END:VEVENT
END:VCALENDAR