BEGIN:VCALENDAR
VERSION:2.0
PRODID:-//L&#039;Orée de la Brie - ECPv6.5.1.4//NONSGML v1.0//EN
CALSCALE:GREGORIAN
METHOD:PUBLISH
X-WR-CALNAME:L&#039;Orée de la Brie
X-ORIGINAL-URL:https://www.loreedelabrie.fr
X-WR-CALDESC:Évènements pour L&#039;Orée de la Brie
REFRESH-INTERVAL;VALUE=DURATION:PT1H
X-Robots-Tag:noindex
X-PUBLISHED-TTL:PT1H
BEGIN:VTIMEZONE
TZID:Europe/Paris
BEGIN:DAYLIGHT
TZOFFSETFROM:+0100
TZOFFSETTO:+0200
TZNAME:CEST
DTSTART:20260329T010000
END:DAYLIGHT
BEGIN:STANDARD
TZOFFSETFROM:+0200
TZOFFSETTO:+0100
TZNAME:CET
DTSTART:20261025T010000
END:STANDARD
END:VTIMEZONE
BEGIN:VEVENT
DTSTART;VALUE=DATE:20260411
DTEND;VALUE=DATE:20260412
DTSTAMP:20260419T224828
CREATED:20260401T101700Z
LAST-MODIFIED:20260401T101700Z
UID:17186-1775865600-1775951999@www.loreedelabrie.fr
SUMMARY:[BRIE-COMTE-ROBERT] Les semaines du jeu
DESCRIPTION:  \nHoraires d’ouverture\nTout public : \n\nMercredis 8\, 15 avril et samedi 11 avril : 10h à 19h\n\nPetite enfance : \n\nMercredis 8 et 15 avril : 10h à 12h\, 15h à 17h\nSamedi 11 avril : 10h à 12h\, 15h à 17h\n\nEspace handicap : \n\nMercredis 8 et 15 avril : 14h à 15h\n\nBuvette sur place \nJeux d’énigmes\nRésolvez des énigmes pour parvenir à élucider le mystère de la boîte. \n\nÉquipe de 3 à 5 personnes avec au moins un adulte.\nÉnigmes pour enfant : à partir de 6 ans\nÉnigmes pour ado/adulte : à partir de 12 ans\nDurée : 1 heure\n\nSur inscription : semainesdujeu@briecomterobert.fr ou au 01 60 62 64 02
URL:https://www.loreedelabrie.fr/evenement/brie-comte-robert-les-semaines-du-jeu-4/
LOCATION:salle de spectacles Le Safran\, 80 avenue Victor Hugo\, Brie-Comte-Robert\, 77170\, France
CATEGORIES:Enfance,Jeux
ATTACH;FMTTYPE=image/jpeg:https://www.loreedelabrie.fr/wp-content/uploads/tribe_events/Jeux.jpg
END:VEVENT
BEGIN:VEVENT
DTSTART;TZID=Europe/Paris:20260411T103000
DTEND;TZID=Europe/Paris:20260411T103000
DTSTAMP:20260419T224828
CREATED:20260410T073754Z
LAST-MODIFIED:20260410T073754Z
UID:17521-1775903400-1775903400@www.loreedelabrie.fr
SUMMARY:[CHEVRY-COSSIGNY]
DESCRIPTION:  \nUn “atelier lectures” pour les 3-6 ans  à partir de 10h30\, dans lequel des lectures relatives à Pâques seront proposées aux enfants. \nEnvie de venir ? C’est sur inscriptions !\n01.83.85.98.21\nlamarmite@chevry-cossigny.frl
URL:https://www.loreedelabrie.fr/evenement/chevry-cossigny/
LOCATION:La Marmite – Chevry-Cossigny\, rue Jean Delsol\, Chevry-Cossigny\, 77173\, France
CATEGORIES:Enfance,Lecture
ATTACH;FMTTYPE=image/jpeg:https://www.loreedelabrie.fr/wp-content/uploads/tribe_events/lecture-enfants.jpg
END:VEVENT
END:VCALENDAR