BEGIN:VCALENDAR
VERSION:2.0
PRODID:-//L&#039;Orée de la Brie - ECPv6.5.1.4//NONSGML v1.0//EN
CALSCALE:GREGORIAN
METHOD:PUBLISH
X-WR-CALNAME:L&#039;Orée de la Brie
X-ORIGINAL-URL:https://www.loreedelabrie.fr
X-WR-CALDESC:Évènements pour L&#039;Orée de la Brie
REFRESH-INTERVAL;VALUE=DURATION:PT1H
X-Robots-Tag:noindex
X-PUBLISHED-TTL:PT1H
BEGIN:VTIMEZONE
TZID:Europe/Paris
BEGIN:DAYLIGHT
TZOFFSETFROM:+0100
TZOFFSETTO:+0200
TZNAME:CEST
DTSTART:20260329T010000
END:DAYLIGHT
BEGIN:STANDARD
TZOFFSETFROM:+0200
TZOFFSETTO:+0100
TZNAME:CET
DTSTART:20261025T010000
END:STANDARD
END:VTIMEZONE
BEGIN:VEVENT
DTSTART;VALUE=DATE:20260304
DTEND;VALUE=DATE:20260307
DTSTAMP:20260420T000726
CREATED:20260212T133738Z
LAST-MODIFIED:20260212T133738Z
UID:16720-1772582400-1772841599@www.loreedelabrie.fr
SUMMARY:[Les amis du Vieux Château] Vacances au château
DESCRIPTION:  \nLes inscriptions sont ouvertes !\nNous avons hâte d’accueillir vos jeunes princesses et chevaliers !\n\nPour ces futures vacances\, nous proposons plusieurs ateliers ludiques et immersifs pour les enfants\, à partir de 5 ans :\nExplorez l’histoire en s’amusant !\n\nInscriptions et renseignements : \npar téléphone au 01 64 05 63 31 ou par mail à mediation.pedagogie@amisduvieuxchateau.org
URL:https://www.loreedelabrie.fr/evenement/les-amis-du-vieux-chateau-vacances-au-chateau/
LOCATION:Vieux Château\, Brie-Comte-Robert\, 77170\, France
CATEGORIES:Activités manuelles,Associatif,Atelier,Enfance,Jeux
ATTACH;FMTTYPE=image/jpeg:https://www.loreedelabrie.fr/wp-content/uploads/tribe_events/logo-amis-du-vieux-chateau.jpg
ORGANIZER;CN="Les Amis du Vieux Ch%C3%A2teau":MAILTO:contact@amisduvieuxchateau.org
END:VEVENT
END:VCALENDAR