BEGIN:VCALENDAR
VERSION:2.0
PRODID:-//L&#039;Orée de la Brie - ECPv6.5.1.4//NONSGML v1.0//EN
CALSCALE:GREGORIAN
METHOD:PUBLISH
X-ORIGINAL-URL:https://www.loreedelabrie.fr
X-WR-CALDESC:Évènements pour L&#039;Orée de la Brie
REFRESH-INTERVAL;VALUE=DURATION:PT1H
X-Robots-Tag:noindex
X-PUBLISHED-TTL:PT1H
BEGIN:VTIMEZONE
TZID:Europe/Paris
BEGIN:DAYLIGHT
TZOFFSETFROM:+0100
TZOFFSETTO:+0200
TZNAME:CEST
DTSTART:20250330T010000
END:DAYLIGHT
BEGIN:STANDARD
TZOFFSETFROM:+0200
TZOFFSETTO:+0100
TZNAME:CET
DTSTART:20251026T010000
END:STANDARD
END:VTIMEZONE
BEGIN:VEVENT
DTSTART;TZID=Europe/Paris:20251015T160000
DTEND;TZID=Europe/Paris:20251015T170000
DTSTAMP:20260420T172923
CREATED:20251001T093642Z
LAST-MODIFIED:20251001T093642Z
UID:15890-1760544000-1760547600@www.loreedelabrie.fr
SUMMARY:[CCOB/OCTOBRE ROSE] Zumba rose
DESCRIPTION:
URL:https://www.loreedelabrie.fr/evenement/ccob-octobre-rose-zumba-rose/
LOCATION:Parking Hyper U\, Rue Gustave Eiffel ZI DE LA HAIE PASSART\, Brie-Comte-Robert\, 77170\, France
CATEGORIES:Bien-être,Danse,Prévention
ATTACH;FMTTYPE=image/jpeg:https://www.loreedelabrie.fr/wp-content/uploads/tribe_events/zumba-rose.jpg
ORGANIZER;CN="L'Or%C3%A9e de la Brie":MAILTO:communaute@loreedelabrie.fr
END:VEVENT
END:VCALENDAR