BEGIN:VCALENDAR
VERSION:2.0
PRODID:-//L&#039;Orée de la Brie - ECPv6.5.1.4//NONSGML v1.0//EN
CALSCALE:GREGORIAN
METHOD:PUBLISH
X-ORIGINAL-URL:https://www.loreedelabrie.fr
X-WR-CALDESC:Évènements pour L&#039;Orée de la Brie
REFRESH-INTERVAL;VALUE=DURATION:PT1H
X-Robots-Tag:noindex
X-PUBLISHED-TTL:PT1H
BEGIN:VTIMEZONE
TZID:Europe/Paris
BEGIN:DAYLIGHT
TZOFFSETFROM:+0100
TZOFFSETTO:+0200
TZNAME:CEST
DTSTART:20250330T010000
END:DAYLIGHT
BEGIN:STANDARD
TZOFFSETFROM:+0200
TZOFFSETTO:+0100
TZNAME:CET
DTSTART:20251026T010000
END:STANDARD
END:VTIMEZONE
BEGIN:VEVENT
DTSTART;TZID=Europe/Paris:20251013T191500
DTEND;TZID=Europe/Paris:20251013T201500
DTSTAMP:20260420T172926
CREATED:20251001T134954Z
LAST-MODIFIED:20251001T134954Z
UID:15925-1760382900-1760386500@www.loreedelabrie.fr
SUMMARY:[SERVON/OCTOBRE ROSE] Flash mob
DESCRIPTION:Flash Mob en Rose : Bougez pour la bonne cause ! 💗 \nEnfilez vos plus beaux vêtements roses et rejoignez-nous pour un Flash Mob. \nEn partenariat avec l’association DanS’ervon\, venez partager un moment festif\, convivial et engagé. Que vous soyez danseur confirmé ou débutant\, l’essentiel est de s’amuser ensemble ! \nAu programme : ✨ Une chorégraphie accessible à tous 💃 De la bonne humeur et de l’énergie positive 🎀 Un message de prévention qui nous unit \n🎉 Entrée gratuite – Pensez à vous habiller en rose ! \nVenez nombreux\, seul(e)\, en famille ou entre amis. Plus on est de fous\, plus on danse ! \n  \n \n  \n 
URL:https://www.loreedelabrie.fr/evenement/servon-octobre-rose-flash-mob/
LOCATION:Mairie de Servon\, Servon\, France
CATEGORIES:Danse,Octobre Rose
ATTACH;FMTTYPE=image/jpeg:https://www.loreedelabrie.fr/wp-content/uploads/tribe_events/Prevention.jpg
END:VEVENT
END:VCALENDAR