BEGIN:VCALENDAR
VERSION:2.0
PRODID:-//L&#039;Orée de la Brie - ECPv6.5.1.4//NONSGML v1.0//EN
CALSCALE:GREGORIAN
METHOD:PUBLISH
X-WR-CALNAME:L&#039;Orée de la Brie
X-ORIGINAL-URL:https://www.loreedelabrie.fr
X-WR-CALDESC:Évènements pour L&#039;Orée de la Brie
REFRESH-INTERVAL;VALUE=DURATION:PT1H
X-Robots-Tag:noindex
X-PUBLISHED-TTL:PT1H
BEGIN:VTIMEZONE
TZID:Europe/Paris
BEGIN:DAYLIGHT
TZOFFSETFROM:+0100
TZOFFSETTO:+0200
TZNAME:CEST
DTSTART:20250330T010000
END:DAYLIGHT
BEGIN:STANDARD
TZOFFSETFROM:+0200
TZOFFSETTO:+0100
TZNAME:CET
DTSTART:20251026T010000
END:STANDARD
END:VTIMEZONE
BEGIN:VEVENT
DTSTART;TZID=Europe/Paris:20250627T220000
DTEND;TZID=Europe/Paris:20250628T020000
DTSTAMP:20260420T233041
CREATED:20250624T092250Z
LAST-MODIFIED:20250624T092250Z
UID:15352-1751061600-1751076000@www.loreedelabrie.fr
SUMMARY:[EDEN] Soirée Zouk Love
DESCRIPTION:  \n VENDREDI 27 JUIN – AU BUREAU SERVON\n22h – 02h\n SOIRÉE ZOUK LOVE \n\nPlace à la sensualité\, à la chaleur des îles et aux good vibes tropicales !\nViens vibrer au rythme du zouk\, du kompa et des sons qui font chavirer les cœurs \n\nAmbiance love\, lumières tamisées et dancefloor enflammé \nRamène ta moitié… ou viens en trouver une \n\n Au Bureau Servon\n Vendredi 27 Juin\n 22h – 02h
URL:https://www.loreedelabrie.fr/evenement/eden-soiree-zouk-love/
LOCATION:Eden Cerf\, 1 rue d'Iverny\, Le Noyer aux Perdrix\, Servon\, 77170\, France
CATEGORIES:Danse
ATTACH;FMTTYPE=image/jpeg:https://www.loreedelabrie.fr/wp-content/uploads/tribe_events/danse.jpg
END:VEVENT
END:VCALENDAR