BEGIN:VCALENDAR
VERSION:2.0
PRODID:-//L&#039;Orée de la Brie - ECPv6.5.1.4//NONSGML v1.0//EN
CALSCALE:GREGORIAN
METHOD:PUBLISH
X-WR-CALNAME:L&#039;Orée de la Brie
X-ORIGINAL-URL:https://www.loreedelabrie.fr
X-WR-CALDESC:Évènements pour L&#039;Orée de la Brie
REFRESH-INTERVAL;VALUE=DURATION:PT1H
X-Robots-Tag:noindex
X-PUBLISHED-TTL:PT1H
BEGIN:VTIMEZONE
TZID:Europe/Paris
BEGIN:DAYLIGHT
TZOFFSETFROM:+0100
TZOFFSETTO:+0200
TZNAME:CEST
DTSTART:20250330T010000
END:DAYLIGHT
BEGIN:STANDARD
TZOFFSETFROM:+0200
TZOFFSETTO:+0100
TZNAME:CET
DTSTART:20251026T010000
END:STANDARD
END:VTIMEZONE
BEGIN:VEVENT
DTSTART;VALUE=DATE:20250621
DTEND;VALUE=DATE:20250622
DTSTAMP:20260420T233043
CREATED:20250603T131123Z
LAST-MODIFIED:20250616T083130Z
UID:15194-1750464000-1750550399@www.loreedelabrie.fr
SUMMARY:[BRIE-COMTE-ROBERT] Fête de la musique
DESCRIPTION:La Fête de la musique est un événement participatif\, festif et collectif. Vivons ensemble la musique. Rejoignons-nous au centre- ville pour faire la fête ! \nAu programme : concerts de la scène locale\, concert de clôture\, spectacle musical jeune public et participations d’associations de la ville. \nMédiathèque\n11h : mon petit théâtre de comptines\n0 – 6 ans / sur inscription au 01 60 62 64 39 \nUn spectacle musical et interactif qui revisite les comptines traditionnelles avec marionnettes et jeux sonores. \nChâteau\nRapatriement à la salle de spectacles Le Safran en cas de mauvais temps \n18h à 23h30 : Concerts pour tous\nBombos St André (défilé centre-ville)\nLes percussionnistes de l’association Franco- Portugaise de l’Orée de la Brie vous transportent au cœur du Portugal avec leurs tambours traditionnels pour enflammer les rues. \nBye Boy\nBye Boy mêle mélodies accrocheuses et voix incandescente. Inspiré par le rock britannique\, le groupe livre une énergie fougueuse et mélancolique\, portée par des refrains éclatants et des riffs tranchants. \nScène ouverte\nDes chanteurs et chanteuses locaux revisitent des morceaux modernes avec style et personnalité. \nAir Dynamics\nGroupe seine-et-marnais aux reprises percutantes\, Air Dynamics revisite les grands classiques pop\, rock et soul. \nNoflipe\nGroupe francilien aux influences hip-hop\, funk\, rock et jazz\, NoFlipe réunit sept musiciens aux alter egos hauts en couleur. Avec une énergie scénique débordante et un univers visuel original\, ils livrent un show aussi rythmé que singulier. \nPlace Gauthier\nRapatriement à la salle de spectacles Le Safran en cas de mauvais temps \n20h : Orchestre d’Harmonie Briard\nComposé d’une trentaine de musiciens\, l’Orchestre d’Harmonie Briard propose un répertoire allant de la variété à la musique classique en passant par le jazz\, la musique de film et la comédie musicale. \nÉglise Saint-Étienne\nAvec l’association les Amis de l’Orgue de Brie \n10h à 12h30 : Tribune libre\nLibre accès à l’orgue pour voir\, écouter\, jouer… \n21h : Concert d’orgue\nAvec les chœurs grégoriens (direction JF Heyer)\, organiste Afonso Torres
URL:https://www.loreedelabrie.fr/evenement/brie-comte-robert-fete-de-la-musique-2/
LOCATION:Brie-Comte-Robert\, Brie-Comte-Robert\, 77170\, France
CATEGORIES:Concert,Danse,Festival,Fête de la musique
ATTACH;FMTTYPE=image/jpeg:https://www.loreedelabrie.fr/wp-content/uploads/tribe_events/festival.jpg
END:VEVENT
BEGIN:VEVENT
DTSTART;TZID=Europe/Paris:20250621T190000
DTEND;TZID=Europe/Paris:20250621T190000
DTSTAMP:20260420T233043
CREATED:20250616T083047Z
LAST-MODIFIED:20250616T083152Z
UID:15293-1750532400-1750532400@www.loreedelabrie.fr
SUMMARY:[CHEVRY-COSSIGNY] Fête de la musique
DESCRIPTION:  \n Fête de la musique ! \n\nSamedi 21 juin\, retrouvons-nous tous ensemble pour célébrer la fête de la musique à Chevry-Cossigny dans le parc de la Marmite ! \n\nÀ partir de 19h\, laissez-vous emporter par une soirée rythmée et pleine de surprises : \n\n Mas ouvrira le bal avec son rap percutant\, suivi par Lordnesss\, qui fera vous fera vibrer avec ses sons shattas. \n\n À 21h\, place à Damé\, ancien talent de The Voice\, qui vous fera voyager à travers son univers Pop et son EP « Cœur Immense » aux ambiances sensibles et pleines de sincérité ! \n\n Et pour clôturer cette belle soirée\, venez donner de la voix lors d’un karaoké ouvert à tous ! \n\n Sur place\, régalez-vous avec les savoureuses pizzas cuites au feu de bois de lapastrypizz et les douceurs sucrées de gourmandises_idf 
URL:https://www.loreedelabrie.fr/evenement/chevry-cossigny-fete-de-la-musique-2/
LOCATION:Parc de la Marmite\, Chevry-Cossigny\, 77173
CATEGORIES:Concert,Danse,Festival,Fête de la musique
ATTACH;FMTTYPE=image/jpeg:https://www.loreedelabrie.fr/wp-content/uploads/tribe_events/festival.jpg
END:VEVENT
END:VCALENDAR