BEGIN:VCALENDAR
VERSION:2.0
PRODID:-//L&#039;Orée de la Brie - ECPv6.5.1.4//NONSGML v1.0//EN
CALSCALE:GREGORIAN
METHOD:PUBLISH
X-ORIGINAL-URL:https://www.loreedelabrie.fr
X-WR-CALDESC:Évènements pour L&#039;Orée de la Brie
REFRESH-INTERVAL;VALUE=DURATION:PT1H
X-Robots-Tag:noindex
X-PUBLISHED-TTL:PT1H
BEGIN:VTIMEZONE
TZID:Europe/Paris
BEGIN:DAYLIGHT
TZOFFSETFROM:+0100
TZOFFSETTO:+0200
TZNAME:CEST
DTSTART:20240331T010000
END:DAYLIGHT
BEGIN:STANDARD
TZOFFSETFROM:+0200
TZOFFSETTO:+0100
TZNAME:CET
DTSTART:20241027T010000
END:STANDARD
END:VTIMEZONE
BEGIN:VEVENT
DTSTART;VALUE=DATE:20241014
DTEND;VALUE=DATE:20241021
DTSTAMP:20260421T114452
CREATED:20240919T072101Z
LAST-MODIFIED:20240919T072101Z
UID:13822-1728864000-1729468799@www.loreedelabrie.fr
SUMMARY:[CCOB] Octobre Rose 2024
DESCRIPTION:L’Orée de la Brie s’associe à Octobre Rose en toute (SEIN)plicité ! \nComme de nombreuses collectivités\, la Communauté de communes de l’Orée de la Brie participe à la campagne de lutte contre le cancer du sein qui se déroulera en octobre. \nOctobre Rose est une occasion de mettre en lumière les personnes qui combattent cette maladie\, d’intensifier l’information et la sensibilisation et de réunir des fonds pour aider les chercheurs et les soignants. \nCette année encore\, l’Orée de la Brie\, en partenariat avec ses communes membres\, s’associe à cette cause en vous proposant un programme du 14 au 20 octobre 2024 :  \n> Lundi 14/10 : les agents de la Communauté de communes de l’Orée de la Brie et des communes membres montrent l’exemple et s’habillent de rose ! \n\n> Mardi 15/10 : \n1- Les agents de la Communauté de communes de l’Orée de la Brie et des communes membres peuvent bénéficier d’un stand de prévention qui sera proposé à la mairie de Brie-Comte-Robert : information\, démonstration d’autopalpation… \n2- Flash Mob de 19h15 à 20h15 salle Roger Coudert à Servon. En partenariat avec l’association DanS’ervon et les Majorettes. Venez habillés de rose ! Gratuit. \nMercredi 16/10 : \n1- Zumba rose ! De 16h00 à 17h00 sur le parking d’Hyper U à Brie-Comte-Robert. Gratuit. \n2- En partenariat avec l’association Adonis\, la ville de Chevry-Cossigny organise un salon d’information et de prévention à la Marmite. Dépistage organisé par une sage-femme. \n> Vendredi 18/10 : marche des poussettes roses. 9h30. Chemin des roses. Départ de la CCOB (1\, place de la gare à Brie). Ouvert à tous. Collation prévue pour les enfants. Gratuit. \n> Samedi 19/10 :\n1- Stand de prévention à Hyper U – Vente de goodies dont les bracelets pour la marche et l’accès au village rose.  \n2- Zumba rose ! De 14h00 à 15h00 à Eden Cerf. Venez habillés de rose ! \n3- Vente d’objets roses à la Ressource’Brie tout le mois d’octobre. Les fonds du samedi 19/10 seront reversés entièrement à l’association Ruban Rose. \nDimanche 20/10 : 10h00. Marche de 5 km à travers Brie. Départ et arrivée à la CCOB (1\, place de la gare à Brie). Nouveau trajet 2024. Participation de 5€ contre remise d’un bracelet donnant l’accès au village rose de la CCOB.  \n \nVillage rose de la marche le dimanche 20/10 (ouvert de 9h00 à 13h00) : accès 5€. Petit déjeuner offert par Hyper U de Brie et apéritif offert par Episol. Les fonds seront reversés à l’association Ruban Rose (https://www.cancerdusein.org/). Vente de goodies. Présence de plusieurs stands d’information et de prévention :\n– Hôpital de Forcilles présentant son centre de sénologie\, le 1er en Seine-et-Marne ;  \n– le Comité de dépistage des cancers de Seine-et-Marne ;\n– la Maison Zen-et-Marne présentant des ateliers proposés dans le cadre de la consolidation de la maladie ;\n– l’association ADONIS qui propose de la prévention\, de l’information sur le cancer du sein avec un buste d’autopalpation ;\n– et la Ressource’Brie qui proposera à la vente des objets roses dont les fonds seront reversés à l’association Ruban Rose. \n  \nMais aussi : \n> La Micro-Folie\, le musée numérique de la CCOB\, vous accueille à l’office de commerce et à la Marmite de Chevry-Cossigny pour découvrir une collection “Le sein dans l’art”. \n> Une collecte de soutiens-gorge est organisée à la CCOB\, à la mairie de Chevry-Cossigny et à l’office de commerce de Brie tout le mois d’octobre. Les sous-vêtements seront donnés à une association qui aide les femmes dans le besoin. À cette occasion\, elles recevront une information préventive sur le dépistage.  \n> Ateliers rubans roses à Varennes-Jarcy : les enfants du périscolaire s’impliquent. Venez admirer leur travail dans les arbres\, devant la mairie et près des écoles. \n> LES BRACELETS DE LA MARCHE ET LES OBJETS PROMOTIONNELS SONT EN VENTE À LA CCOB DÈS LE 01/10. LE BÉNÉFICE EST REVERSÉ À L’ASSOCIATION RUBAN ROSE.  \n 
URL:https://www.loreedelabrie.fr/evenement/ccob-octobre-rose-2024/
LOCATION:L’Orée de la Brie\, 1 rue Léonard de Vinci\, Brie-Comte-Robert\, 77170\, France
CATEGORIES:Associatif,Danse,Prévention
ATTACH;FMTTYPE=image/jpeg:https://www.loreedelabrie.fr/wp-content/uploads/2024/07/afficheoctobrerose2024VDEF.jpg
ORGANIZER;CN="L'Or%C3%A9e de la Brie":MAILTO:communaute@loreedelabrie.fr
END:VEVENT
BEGIN:VEVENT
DTSTART;TZID=Europe/Paris:20241015T191500
DTEND;TZID=Europe/Paris:20241015T201500
DTSTAMP:20260421T114452
CREATED:20241003T100644Z
LAST-MODIFIED:20241003T100644Z
UID:13957-1729019700-1729023300@www.loreedelabrie.fr
SUMMARY:[SERVON] Flash Mob
DESCRIPTION:  \nFlash Mob de 19h15 à 20h15 salle Roger Coudert à Servon. En partenariat avec l’association DanS’ervon et les Majorettes. Venez habillés de rose ! Gratuit.
URL:https://www.loreedelabrie.fr/evenement/servon-flash-mob/
LOCATION:Salle Roger Coudert – Servon\, 15 rue de la Poste\, Servon\, 77170\, France
CATEGORIES:Danse,Prévention
ATTACH;FMTTYPE=image/jpeg:https://www.loreedelabrie.fr/wp-content/uploads/2024/07/afficheoctobrerose2024VDEF.jpg
END:VEVENT
END:VCALENDAR