BEGIN:VCALENDAR
VERSION:2.0
PRODID:-//L&#039;Orée de la Brie - ECPv6.5.1.4//NONSGML v1.0//EN
CALSCALE:GREGORIAN
METHOD:PUBLISH
X-ORIGINAL-URL:https://www.loreedelabrie.fr
X-WR-CALDESC:Évènements pour L&#039;Orée de la Brie
REFRESH-INTERVAL;VALUE=DURATION:PT1H
X-Robots-Tag:noindex
X-PUBLISHED-TTL:PT1H
BEGIN:VTIMEZONE
TZID:Europe/Paris
BEGIN:DAYLIGHT
TZOFFSETFROM:+0100
TZOFFSETTO:+0200
TZNAME:CEST
DTSTART:20250330T010000
END:DAYLIGHT
BEGIN:STANDARD
TZOFFSETFROM:+0200
TZOFFSETTO:+0100
TZNAME:CET
DTSTART:20251026T010000
END:STANDARD
END:VTIMEZONE
BEGIN:VEVENT
DTSTART;TZID=Europe/Paris:20250315T193000
DTEND;TZID=Europe/Paris:20250315T193000
DTSTAMP:20260421T022931
CREATED:20250211T125654Z
LAST-MODIFIED:20250211T125654Z
UID:14539-1742067000-1742067000@www.loreedelabrie.fr
SUMMARY:[SERVON] Diner dansant
DESCRIPTION:
URL:https://www.loreedelabrie.fr/evenement/servon-diner-dansant/
LOCATION:Salle Roger Coudert – Servon\, 15 rue de la Poste\, Servon\, 77170\, France
CATEGORIES:Danse
ATTACH;FMTTYPE=image/jpeg:https://www.loreedelabrie.fr/wp-content/uploads/tribe_events/danse.jpg
END:VEVENT
BEGIN:VEVENT
DTSTART;TZID=Europe/Paris:20250322T200000
DTEND;TZID=Europe/Paris:20250322T200000
DTSTAMP:20260421T022931
CREATED:20250211T132610Z
LAST-MODIFIED:20250211T133212Z
UID:14551-1742673600-1742673600@www.loreedelabrie.fr
SUMMARY:[SERVON] Fête de la Saint-Patrick "Les Sales Tiques"
DESCRIPTION:  \nLes Sales Tiques\, un groupe celtique qui a du chien\, enflammera la scène avec leurs sonorités entraînantes et authentiques.\nPour sublimer ce concert\, ils seront accompagnés de quatre danseuses et danseurs talentueux ainsi que d’un pipe band écossais.\nCe ne sont pas moins de 14 artistes sur scène qui vous offriront un spectacle époustouflant\, mêlant musique traditionnelle et énergie festive. \nLa soirée se déroulera sous la forme d’un dîner concert aux couleurs irlandaises\, pour allier plaisir gustatif et ambiance conviviale. \nNe manquez pas cette soirée exceptionnelle et venez célébrer la Saint Patrick à Servon dans une ambiance chaleureuse et spectaculaire ! \nOuverture des portes 19h00 – début du concert 20h00 \nRéservation conseillée en ligne : https://www.oandb.fr/fr/event/fete-de-la-saint-patrick-samedi-22-mars-2025 \nTarifs :\nDîner + concert adulte placement à table : 30€\nDîner + concert -14ans placement à table : 15€ \nConcert adulte placement libre assis : 15€\nConcert -14ans placement libre assis : gratuit \nVous souhaitez être placé avec vos amis (réservé aux billets « dîner + concert ») mais vous n’avez pas réservé au même nom ?\nMerci de contacter Clarysse au 01 64 05 11 58 ou à animation@servon.fr \n  \nRestauration Le Servonnais :\nBœuf à l’Irlandaise \nBrownie ou tarte aux pommes
URL:https://www.loreedelabrie.fr/evenement/servon-fete-de-la-saint-patrick-les-sales-tiques/
LOCATION:Salle Roger Coudert – Servon\, 15 rue de la Poste\, Servon\, 77170\, France
CATEGORIES:Concert,Danse
ATTACH;FMTTYPE=image/jpeg:https://www.loreedelabrie.fr/wp-content/uploads/tribe_events/Concert.jpg
END:VEVENT
BEGIN:VEVENT
DTSTART;TZID=Europe/Paris:20250330T120000
DTEND;TZID=Europe/Paris:20250330T190000
DTSTAMP:20260421T022931
CREATED:20250217T100553Z
LAST-MODIFIED:20250217T100553Z
UID:14596-1743336000-1743361200@www.loreedelabrie.fr
SUMMARY:[VARENNES-JARCY] Repas & thé dansant
DESCRIPTION:
URL:https://www.loreedelabrie.fr/evenement/varennes-jarcy-repas-the-dansant-2/
LOCATION:Gymnase Sandrine Martinet – Varennes-Jarcy\, Chemin des Aufrais\, Varennes-Jarcy\, 91480
CATEGORIES:Danse
ATTACH;FMTTYPE=image/jpeg:https://www.loreedelabrie.fr/wp-content/uploads/tribe_events/danse.jpg
END:VEVENT
BEGIN:VEVENT
DTSTART;TZID=Europe/Paris:20250330T140000
DTEND;TZID=Europe/Paris:20250330T190000
DTSTAMP:20260421T022931
CREATED:20250204T084026Z
LAST-MODIFIED:20250204T084026Z
UID:14451-1743343200-1743361200@www.loreedelabrie.fr
SUMMARY:[VARENNES-JARCY] Bal Country & Line Dance
DESCRIPTION:
URL:https://www.loreedelabrie.fr/evenement/varennes-jarcy-bal-country-line-dance/
LOCATION:Mairie de Varennes-Jarcy\, place Astride Briand\, Varennes-Jarcy\, 91480\, France
CATEGORIES:Danse
ATTACH;FMTTYPE=image/jpeg:https://www.loreedelabrie.fr/wp-content/uploads/tribe_events/danse.jpg
END:VEVENT
END:VCALENDAR