BEGIN:VCALENDAR
VERSION:2.0
PRODID:-//L&#039;Orée de la Brie - ECPv6.5.1.4//NONSGML v1.0//EN
CALSCALE:GREGORIAN
METHOD:PUBLISH
X-ORIGINAL-URL:https://www.loreedelabrie.fr
X-WR-CALDESC:Évènements pour L&#039;Orée de la Brie
REFRESH-INTERVAL;VALUE=DURATION:PT1H
X-Robots-Tag:noindex
X-PUBLISHED-TTL:PT1H
BEGIN:VTIMEZONE
TZID:Europe/Paris
BEGIN:DAYLIGHT
TZOFFSETFROM:+0100
TZOFFSETTO:+0200
TZNAME:CEST
DTSTART:20250330T010000
END:DAYLIGHT
BEGIN:STANDARD
TZOFFSETFROM:+0200
TZOFFSETTO:+0100
TZNAME:CET
DTSTART:20251026T010000
END:STANDARD
END:VTIMEZONE
BEGIN:VEVENT
DTSTART;TZID=Europe/Paris:20250208T203000
DTEND;TZID=Europe/Paris:20250208T203000
DTSTAMP:20260421T035724
CREATED:20250116T104046Z
LAST-MODIFIED:20250116T104046Z
UID:14395-1739046600-1739046600@www.loreedelabrie.fr
SUMMARY:[SERVON] Soirée dansante
DESCRIPTION:
URL:https://www.loreedelabrie.fr/evenement/servon-soiree-dansante-3/
LOCATION:Salle Roger Coudert – Servon\, 15 rue de la Poste\, Servon\, 77170\, France
CATEGORIES:Danse
ATTACH;FMTTYPE=image/jpeg:https://www.loreedelabrie.fr/wp-content/uploads/tribe_events/danse.jpg
END:VEVENT
END:VCALENDAR