BEGIN:VCALENDAR
VERSION:2.0
PRODID:-//L&#039;Orée de la Brie - ECPv6.5.1.4//NONSGML v1.0//EN
CALSCALE:GREGORIAN
METHOD:PUBLISH
X-ORIGINAL-URL:https://www.loreedelabrie.fr
X-WR-CALDESC:Évènements pour L&#039;Orée de la Brie
REFRESH-INTERVAL;VALUE=DURATION:PT1H
X-Robots-Tag:noindex
X-PUBLISHED-TTL:PT1H
BEGIN:VTIMEZONE
TZID:Europe/Paris
BEGIN:DAYLIGHT
TZOFFSETFROM:+0100
TZOFFSETTO:+0200
TZNAME:CEST
DTSTART:20240331T010000
END:DAYLIGHT
BEGIN:STANDARD
TZOFFSETFROM:+0200
TZOFFSETTO:+0100
TZNAME:CET
DTSTART:20241027T010000
END:STANDARD
END:VTIMEZONE
BEGIN:VEVENT
DTSTART;TZID=Europe/Paris:20241120T160000
DTEND;TZID=Europe/Paris:20241120T160000
DTSTAMP:20260421T083836
CREATED:20241120T155235Z
LAST-MODIFIED:20241120T155235Z
UID:14145-1732118400-1732118400@www.loreedelabrie.fr
SUMMARY:[VARENNES-JARCY] Rencontres chorégraphiques
DESCRIPTION:
URL:https://www.loreedelabrie.fr/evenement/varennes-jarcy-rencontres-choregraphiques/
LOCATION:Gymnase Sandrine Martinet – Varennes-Jarcy\, Chemin des Aufrais\, Varennes-Jarcy\, 91480
CATEGORIES:Danse
ATTACH;FMTTYPE=image/jpeg:https://www.loreedelabrie.fr/wp-content/uploads/tribe_events/danse-pour-tous.jpg
END:VEVENT
BEGIN:VEVENT
DTSTART;TZID=Europe/Paris:20241123T190000
DTEND;TZID=Europe/Paris:20241123T200000
DTSTAMP:20260421T083836
CREATED:20241009T094109Z
LAST-MODIFIED:20241015T124542Z
UID:13984-1732388400-1732392000@www.loreedelabrie.fr
SUMMARY:[CCOB ET CHEVRY-COSSIGNY]
DESCRIPTION:  \nUn concert pour une belle cause ! ️\nRejoignez-nous pour un concert caritatif exceptionnel avec Emma Daumas\, au profit de l’association Le Hérisson et des personnes en situation de handicap.\nPremières parties : Mister Tree – Coconut Beaches\nPlacement libre – debout\nBar avec boissons et gourmandises\nOuverture des portes à 19h00\n \nBilletterie :\n \nhttps://www.helloasso.com/associations/association-le-herisson/evenements/concert-emma-daumas?fbclid=IwY2xjawFzLihleHRuA2FlbQIxMAABHc-5dnBiu9NtBfHen3Hhvu0wecgY0ObBfyG3VdMlQlzQxkTY6UVyQTOdSw_aem_tfXEImMSQNC_hfAftNYfRg
URL:https://www.loreedelabrie.fr/evenement/ccob-et-chevry-cossigny/
LOCATION:La Marmite – Chevry-Cossigny\, rue Jean Delsol\, Chevry-Cossigny\, 77173\, France
CATEGORIES:Associatif,Concert,Danse,Show
ATTACH;FMTTYPE=image/jpeg:https://www.loreedelabrie.fr/wp-content/uploads/tribe_events/Concert.jpg
END:VEVENT
END:VCALENDAR