BEGIN:VCALENDAR
VERSION:2.0
PRODID:-//L&#039;Orée de la Brie - ECPv6.5.1.4//NONSGML v1.0//EN
CALSCALE:GREGORIAN
METHOD:PUBLISH
X-WR-CALNAME:L&#039;Orée de la Brie
X-ORIGINAL-URL:https://www.loreedelabrie.fr
X-WR-CALDESC:Évènements pour L&#039;Orée de la Brie
REFRESH-INTERVAL;VALUE=DURATION:PT1H
X-Robots-Tag:noindex
X-PUBLISHED-TTL:PT1H
BEGIN:VTIMEZONE
TZID:Europe/Paris
BEGIN:DAYLIGHT
TZOFFSETFROM:+0100
TZOFFSETTO:+0200
TZNAME:CEST
DTSTART:20240331T010000
END:DAYLIGHT
BEGIN:STANDARD
TZOFFSETFROM:+0200
TZOFFSETTO:+0100
TZNAME:CET
DTSTART:20241027T010000
END:STANDARD
END:VTIMEZONE
BEGIN:VEVENT
DTSTART;TZID=Europe/Paris:20240504T133000
DTEND;TZID=Europe/Paris:20240504T133000
DTSTAMP:20260421T174450
CREATED:20240408T083320Z
LAST-MODIFIED:20240408T083320Z
UID:12962-1714829400-1714829400@www.loreedelabrie.fr
SUMMARY:[VARENNES-JARCY] Interbreak
DESCRIPTION:
URL:https://www.loreedelabrie.fr/evenement/varennes-jarcy-interbreak/
LOCATION:Gymnase Sandrine Martinet – Varennes-Jarcy\, Chemin des Aufrais\, Varennes-Jarcy\, 91480
CATEGORIES:Danse
ATTACH;FMTTYPE=image/jpeg:https://www.loreedelabrie.fr/wp-content/uploads/tribe_events/danse-pour-tous.jpg
END:VEVENT
BEGIN:VEVENT
DTSTART;TZID=Europe/Paris:20240512T140000
DTEND;TZID=Europe/Paris:20240512T180000
DTSTAMP:20260421T174450
CREATED:20240418T082046Z
LAST-MODIFIED:20240418T082046Z
UID:13025-1715522400-1715536800@www.loreedelabrie.fr
SUMMARY:[VARENNES-JARCY] Dance country
DESCRIPTION:
URL:https://www.loreedelabrie.fr/evenement/varennes-jarcy-dance-country/
LOCATION:Salle des fêtes à Varennes-Jarcy
CATEGORIES:Danse
ATTACH;FMTTYPE=image/jpeg:https://www.loreedelabrie.fr/wp-content/uploads/tribe_events/danse-pour-tous.jpg
END:VEVENT
BEGIN:VEVENT
DTSTART;TZID=Europe/Paris:20240518T100000
DTEND;TZID=Europe/Paris:20240518T153000
DTSTAMP:20260421T174450
CREATED:20240411T093245Z
LAST-MODIFIED:20240411T093245Z
UID:13015-1716026400-1716046200@www.loreedelabrie.fr
SUMMARY:[BRIE-COMTE-ROBERT] La danse pour tous
DESCRIPTION:Atelier familles\nEnfants\, parents\, tatas\, tontons\, mamies\, papis… partagez un moment ludique\, créatif et convivial. \nSamedi 18 mai\, 10h\nTout public / durée 1h \nAtelier jam\nQuel que soit ton niveau\, viens danser. Découvre ta capacité à créer ! \nJauge limitée à 26 participants ! \nSamedi 18 mai\, 14h30\nTout public / durée 1h \nRenseignement au 01 60 62 64 12
URL:https://www.loreedelabrie.fr/evenement/brie-comte-robert-la-danse-pour-tous-2/
LOCATION:salle de spectacles Le Safran\, 80 avenue Victor Hugo\, Brie-Comte-Robert\, 77170\, France
CATEGORIES:Danse
ATTACH;FMTTYPE=image/jpeg:https://www.loreedelabrie.fr/wp-content/uploads/tribe_events/danse-pour-tous.jpg
END:VEVENT
BEGIN:VEVENT
DTSTART;TZID=Europe/Paris:20240518T150000
DTEND;TZID=Europe/Paris:20240518T183000
DTSTAMP:20260421T174450
CREATED:20240418T084222Z
LAST-MODIFIED:20240418T084222Z
UID:13033-1716044400-1716057000@www.loreedelabrie.fr
SUMMARY:[BRIE-COMTE-ROBERT] Ballet au cinéma - Le lac des cygnes
DESCRIPTION:  \nPour adultes et adolescents. \nDurée 3h20.
URL:https://www.loreedelabrie.fr/evenement/brie-comte-robert-ballet-au-cinema-le-lac-des-cygnes/
LOCATION:Cinéma les 4 vents – Brie-Comte-Robert\, 80 rue du Général Leclerc\, Brie-Comte-Robert\, 77170\, France
CATEGORIES:Cinéma,Danse
ATTACH;FMTTYPE=image/jpeg:https://www.loreedelabrie.fr/wp-content/uploads/tribe_events/Cinema.jpg
END:VEVENT
END:VCALENDAR