BEGIN:VCALENDAR
VERSION:2.0
PRODID:-//L&#039;Orée de la Brie - ECPv6.5.1.4//NONSGML v1.0//EN
CALSCALE:GREGORIAN
METHOD:PUBLISH
X-WR-CALNAME:L&#039;Orée de la Brie
X-ORIGINAL-URL:https://www.loreedelabrie.fr
X-WR-CALDESC:Évènements pour L&#039;Orée de la Brie
REFRESH-INTERVAL;VALUE=DURATION:PT1H
X-Robots-Tag:noindex
X-PUBLISHED-TTL:PT1H
BEGIN:VTIMEZONE
TZID:Europe/Paris
BEGIN:DAYLIGHT
TZOFFSETFROM:+0100
TZOFFSETTO:+0200
TZNAME:CEST
DTSTART:20260329T010000
END:DAYLIGHT
BEGIN:STANDARD
TZOFFSETFROM:+0200
TZOFFSETTO:+0100
TZNAME:CET
DTSTART:20261025T010000
END:STANDARD
END:VTIMEZONE
BEGIN:VEVENT
DTSTART;VALUE=DATE:20260124
DTEND;VALUE=DATE:20260202
DTSTAMP:20260420T223918
CREATED:20260119T104907Z
LAST-MODIFIED:20260119T104929Z
UID:16579-1769212800-1769990399@www.loreedelabrie.fr
SUMMARY:[CHEVRY-COSSIGNY] Salon des beaux-arts
DESCRIPTION:  \n  \n Salon des Beaux-Arts 2026 \n Du 24 janvier au 1er février\, rejoignez-nous pour un rendez-vous artistique incontournable ! Une semaine exceptionnelle où la créativité et le talent s’exposent sous toutes leurs formes. \n Au programme :\n Vernissage : Samedi 24 janvier à 10h\n Nocturne & Live Painting : Mardi 27 janvier à 19h
URL:https://www.loreedelabrie.fr/evenement/chevry-cossigny-salon-des-beaux-arts-2/
LOCATION:La Marmite – Chevry-Cossigny\, rue Jean Delsol\, Chevry-Cossigny\, 77173\, France
CATEGORIES:Culture,Exposition,Salon
ATTACH;FMTTYPE=image/jpeg:https://www.loreedelabrie.fr/wp-content/uploads/tribe_events/Exposition.jpg
END:VEVENT
BEGIN:VEVENT
DTSTART;TZID=Europe/Paris:20260128T100000
DTEND;TZID=Europe/Paris:20260128T120000
DTSTAMP:20260420T223918
CREATED:20260107T145928Z
LAST-MODIFIED:20260107T145928Z
UID:16520-1769594400-1769601600@www.loreedelabrie.fr
SUMMARY:[CCOB][MICRO-FOLIE] Venez découvrir les casques de réalité virtuelle
DESCRIPTION:
URL:https://www.loreedelabrie.fr/evenement/ccobmicro-folie-venez-decouvrir-les-casques-de-realite-virtuelle-4/
LOCATION:L’Orée de la Brie\, 1 rue Léonard de Vinci\, Brie-Comte-Robert\, 77170\, France
CATEGORIES:Culture,Micro-folie
ATTACH;FMTTYPE=image/png:https://www.loreedelabrie.fr/wp-content/uploads/tribe_events/micro-folie.jpg-2.png
ORGANIZER;CN="L'Or%C3%A9e de la Brie":MAILTO:communaute@loreedelabrie.fr
END:VEVENT
BEGIN:VEVENT
DTSTART;TZID=Europe/Paris:20260128T143000
DTEND;TZID=Europe/Paris:20260128T160000
DTSTAMP:20260420T223918
CREATED:20260107T142938Z
LAST-MODIFIED:20260107T145733Z
UID:16511-1769610600-1769616000@www.loreedelabrie.fr
SUMMARY:[CCOB][MICRO-FOLIE] L'art urbain
DESCRIPTION:  \n📍 Venez découvrir la Micro-Folie à L’Orée de la Brie\n  \nLa Micro-Folie vous accueille dans un espace entièrement dédié\, au siège de l’intercommunalité.\nInstallez-vous confortablement\, prenez une tablette et laissez-vous transporter au cœur des plus grands musées du monde. \nChaque semaine\, place aux Mercredis Culture !\n🕹️ Le matin\, enfilez un casque de réalité virtuelle pour vivre une expérience immersive unique au plus près des chefs-d’œuvre.\n🎨 L’après-midi\, explorez le musée interactif : partez à la découverte d’œuvres fascinantes grâce aux tablettes et à la grande projection. \nUn rendez-vous régulier pour apprendre\, s’émerveiller et partager la culture autrement — seul\, en famille ou entre amis ! \n  \n🤝 Vous souhaitez accueillir la Micro-Folie ?\n  \nÉcoles\, centres de loisirs\, associations ou collectivités :\ncontactez-nous pour organiser une escale culturelle dans votre structure. \n📩 microfolie@loreedelabrie.fr\n📞 07 88 74 36 07
URL:https://www.loreedelabrie.fr/evenement/ccobmicro-folie-lart-urbain-4/
LOCATION:L’Orée de la Brie\, 1 rue Léonard de Vinci\, Brie-Comte-Robert\, 77170\, France
CATEGORIES:Culture,Micro-folie
ATTACH;FMTTYPE=image/png:https://www.loreedelabrie.fr/wp-content/uploads/tribe_events/micro-folie.jpg-2.png
ORGANIZER;CN="L'Or%C3%A9e de la Brie":MAILTO:communaute@loreedelabrie.fr
END:VEVENT
END:VCALENDAR