BEGIN:VCALENDAR
VERSION:2.0
PRODID:-//L&#039;Orée de la Brie - ECPv6.5.1.4//NONSGML v1.0//EN
CALSCALE:GREGORIAN
METHOD:PUBLISH
X-WR-CALNAME:L&#039;Orée de la Brie
X-ORIGINAL-URL:https://www.loreedelabrie.fr
X-WR-CALDESC:Évènements pour L&#039;Orée de la Brie
REFRESH-INTERVAL;VALUE=DURATION:PT1H
X-Robots-Tag:noindex
X-PUBLISHED-TTL:PT1H
BEGIN:VTIMEZONE
TZID:Europe/Paris
BEGIN:DAYLIGHT
TZOFFSETFROM:+0100
TZOFFSETTO:+0200
TZNAME:CEST
DTSTART:20250330T010000
END:DAYLIGHT
BEGIN:STANDARD
TZOFFSETFROM:+0200
TZOFFSETTO:+0100
TZNAME:CET
DTSTART:20251026T010000
END:STANDARD
END:VTIMEZONE
BEGIN:VEVENT
DTSTART;TZID=Europe/Paris:20250314T110000
DTEND;TZID=Europe/Paris:20250323T190000
DTSTAMP:20260421T195734
CREATED:20250305T154335Z
LAST-MODIFIED:20250305T154335Z
UID:14647-1741950000-1742756400@www.loreedelabrie.fr
SUMMARY:[VARENNES-JARCY] Salon de peinture 20ème édition
DESCRIPTION:
URL:https://www.loreedelabrie.fr/evenement/varennes-jarcy-salon-de-peinture-20eme-edition/
LOCATION:Salle des fêtes Gérard Josselin\, 14 rue de la Libération\, Varennes-Jarcy\, 91480
CATEGORIES:Culture,Exposition
ATTACH;FMTTYPE=image/jpeg:https://www.loreedelabrie.fr/wp-content/uploads/tribe_events/peinture.jpg
END:VEVENT
END:VCALENDAR