BEGIN:VCALENDAR
VERSION:2.0
PRODID:-//L&#039;Orée de la Brie - ECPv6.5.1.4//NONSGML v1.0//EN
CALSCALE:GREGORIAN
METHOD:PUBLISH
X-ORIGINAL-URL:https://www.loreedelabrie.fr
X-WR-CALDESC:Évènements pour L&#039;Orée de la Brie
REFRESH-INTERVAL;VALUE=DURATION:PT1H
X-Robots-Tag:noindex
X-PUBLISHED-TTL:PT1H
BEGIN:VTIMEZONE
TZID:Europe/Paris
BEGIN:DAYLIGHT
TZOFFSETFROM:+0100
TZOFFSETTO:+0200
TZNAME:CEST
DTSTART:20240331T010000
END:DAYLIGHT
BEGIN:STANDARD
TZOFFSETFROM:+0200
TZOFFSETTO:+0100
TZNAME:CET
DTSTART:20241027T010000
END:STANDARD
END:VTIMEZONE
BEGIN:VEVENT
DTSTART;TZID=Europe/Paris:20241108T190000
DTEND;TZID=Europe/Paris:20241108T203000
DTSTAMP:20260422T030009
CREATED:20241011T131452Z
LAST-MODIFIED:20241011T131452Z
UID:13993-1731092400-1731097800@www.loreedelabrie.fr
SUMMARY:[BRIE-COMTE-ROBERT] Caféminste
DESCRIPTION:Ce café culture donne l’occasion de se rencontrer autour de ressources culturelles apportées par les différents participants. Livre\, film\, podcast\, série\, pièce de théâtre… tout élément peut être partagé tant que cela aborde un sujet lié aux enjeux féministes et LGBTQIA+. En partenariat avec le planning familial. \n  \nRéservation dès le 8 octobre au 01 60 62 64 39
URL:https://www.loreedelabrie.fr/evenement/brie-comte-robert-cafeminste/
LOCATION:Médiathèque de Brie-Comte-Robert\, Place des Déportés\, Brie-Comte-Robert\, 77170\, France
CATEGORIES:Culture
ATTACH;FMTTYPE=image/jpeg:https://www.loreedelabrie.fr/wp-content/uploads/tribe_events/discussion.jpg
END:VEVENT
END:VCALENDAR