BEGIN:VCALENDAR
VERSION:2.0
PRODID:-//L&#039;Orée de la Brie - ECPv6.5.1.4//NONSGML v1.0//EN
CALSCALE:GREGORIAN
METHOD:PUBLISH
X-WR-CALNAME:L&#039;Orée de la Brie
X-ORIGINAL-URL:https://www.loreedelabrie.fr
X-WR-CALDESC:Évènements pour L&#039;Orée de la Brie
REFRESH-INTERVAL;VALUE=DURATION:PT1H
X-Robots-Tag:noindex
X-PUBLISHED-TTL:PT1H
BEGIN:VTIMEZONE
TZID:Europe/Paris
BEGIN:DAYLIGHT
TZOFFSETFROM:+0100
TZOFFSETTO:+0200
TZNAME:CEST
DTSTART:20240331T010000
END:DAYLIGHT
BEGIN:STANDARD
TZOFFSETFROM:+0200
TZOFFSETTO:+0100
TZNAME:CET
DTSTART:20241027T010000
END:STANDARD
END:VTIMEZONE
BEGIN:VEVENT
DTSTART;TZID=Europe/Paris:20240409T093000
DTEND;TZID=Europe/Paris:20240409T123000
DTSTAMP:20260422T111939
CREATED:20240321T150408Z
LAST-MODIFIED:20240321T150408Z
UID:12812-1712655000-1712665800@www.loreedelabrie.fr
SUMMARY:[BRIE-COMTE-ROBERT] Atelier vidéo marionnettes
DESCRIPTION:Le cinéma est un peu magique. Il sait donner du mouvement à une marionnette qui\, sans marionnettiste\, en est dépourvue. Et si le cinéma allait encore plus loin en donnant vie à la marionnette… Lors de cet atelier vidéo avec Fabrice Baynaud\, programmateur du cinéma Les 4 Vents\, tout est possible. Trois heures de tournage\, quelques heures de montage… et le tour est joué. À partir de 10 ans. \nLe film réalisé sera projeté ensuite au cinéma Les 4 Vents en première partie de la séance du vendredi 12 avril\, 14h – 3 €
URL:https://www.loreedelabrie.fr/evenement/brie-comte-robert-atelier-video-marionnettes/
LOCATION:Médiathèque de Brie-Comte-Robert\, Place des Déportés\, Brie-Comte-Robert\, 77170\, France
CATEGORIES:Cinéma,Culture
ATTACH;FMTTYPE=image/jpeg:https://www.loreedelabrie.fr/wp-content/uploads/tribe_events/culture.jpg
END:VEVENT
END:VCALENDAR