BEGIN:VCALENDAR
VERSION:2.0
PRODID:-//L&#039;Orée de la Brie - ECPv6.5.1.4//NONSGML v1.0//EN
CALSCALE:GREGORIAN
METHOD:PUBLISH
X-WR-CALNAME:L&#039;Orée de la Brie
X-ORIGINAL-URL:https://www.loreedelabrie.fr
X-WR-CALDESC:Évènements pour L&#039;Orée de la Brie
REFRESH-INTERVAL;VALUE=DURATION:PT1H
X-Robots-Tag:noindex
X-PUBLISHED-TTL:PT1H
BEGIN:VTIMEZONE
TZID:Europe/Paris
BEGIN:DAYLIGHT
TZOFFSETFROM:+0100
TZOFFSETTO:+0200
TZNAME:CEST
DTSTART:20240331T010000
END:DAYLIGHT
BEGIN:STANDARD
TZOFFSETFROM:+0200
TZOFFSETTO:+0100
TZNAME:CET
DTSTART:20241027T010000
END:STANDARD
END:VTIMEZONE
BEGIN:VEVENT
DTSTART;TZID=Europe/Paris:20240306T140000
DTEND;TZID=Europe/Paris:20240306T180000
DTSTAMP:20260422T124951
CREATED:20240215T151102Z
LAST-MODIFIED:20240215T153810Z
UID:12495-1709733600-1709748000@www.loreedelabrie.fr
SUMMARY:[CCOB] Micro-folie
DESCRIPTION:Micro-Folie\, munis d’un casque VR vous pourrez voir\, revoir ou découvrir\, des tableaux\, des sculptures et tout autre œuvre d’art en exposition dans les grands musées de France. \nCréneaux de 30 minutes.  \nInfos et inscription : microfolie@loreedelabrie.fr ou 07 88 74 36 07.
URL:https://www.loreedelabrie.fr/evenement/ccob-micro-folie/
LOCATION:Bains douches\, Place Jeanne d'Evreux\, Brie-Comte-Robert\, 77170\, France
CATEGORIES:Culture
ATTACH;FMTTYPE=image/jpeg:https://www.loreedelabrie.fr/wp-content/uploads/tribe_events/micro-folie.jpg
ORGANIZER;CN="L'Or%C3%A9e de la Brie":MAILTO:communaute@loreedelabrie.fr
END:VEVENT
END:VCALENDAR