BEGIN:VCALENDAR
VERSION:2.0
PRODID:-//L&#039;Orée de la Brie - ECPv6.5.1.4//NONSGML v1.0//EN
CALSCALE:GREGORIAN
METHOD:PUBLISH
X-ORIGINAL-URL:https://www.loreedelabrie.fr
X-WR-CALDESC:Évènements pour L&#039;Orée de la Brie
REFRESH-INTERVAL;VALUE=DURATION:PT1H
X-Robots-Tag:noindex
X-PUBLISHED-TTL:PT1H
BEGIN:VTIMEZONE
TZID:Europe/Paris
BEGIN:DAYLIGHT
TZOFFSETFROM:+0100
TZOFFSETTO:+0200
TZNAME:CEST
DTSTART:20260329T010000
END:DAYLIGHT
BEGIN:STANDARD
TZOFFSETFROM:+0200
TZOFFSETTO:+0100
TZNAME:CET
DTSTART:20261025T010000
END:STANDARD
END:VTIMEZONE
BEGIN:VEVENT
DTSTART;VALUE=DATE:20260124
DTEND;VALUE=DATE:20260202
DTSTAMP:20260420T210337
CREATED:20260119T104907Z
LAST-MODIFIED:20260119T104929Z
UID:16579-1769212800-1769990399@www.loreedelabrie.fr
SUMMARY:[CHEVRY-COSSIGNY] Salon des beaux-arts
DESCRIPTION:  \n  \n Salon des Beaux-Arts 2026 \n Du 24 janvier au 1er février\, rejoignez-nous pour un rendez-vous artistique incontournable ! Une semaine exceptionnelle où la créativité et le talent s’exposent sous toutes leurs formes. \n Au programme :\n Vernissage : Samedi 24 janvier à 10h\n Nocturne & Live Painting : Mardi 27 janvier à 19h
URL:https://www.loreedelabrie.fr/evenement/chevry-cossigny-salon-des-beaux-arts-2/
LOCATION:La Marmite – Chevry-Cossigny\, rue Jean Delsol\, Chevry-Cossigny\, 77173\, France
CATEGORIES:Culture,Exposition,Salon
ATTACH;FMTTYPE=image/jpeg:https://www.loreedelabrie.fr/wp-content/uploads/tribe_events/Exposition.jpg
END:VEVENT
BEGIN:VEVENT
DTSTART;TZID=Europe/Paris:20260204T100000
DTEND;TZID=Europe/Paris:20260204T120000
DTSTAMP:20260420T210337
CREATED:20260130T150420Z
LAST-MODIFIED:20260130T150420Z
UID:16636-1770199200-1770206400@www.loreedelabrie.fr
SUMMARY:[CCOB][MICRO-FOLIE] Casques VR
DESCRIPTION:
URL:https://www.loreedelabrie.fr/evenement/ccobmicro-folie-casques-vr/
LOCATION:L’Orée de la Brie\, 1 rue Léonard de Vinci\, Brie-Comte-Robert\, 77170\, France
CATEGORIES:Culture,Micro-folie
ATTACH;FMTTYPE=image/png:https://www.loreedelabrie.fr/wp-content/uploads/tribe_events/micro-folie.jpg-2.png
ORGANIZER;CN="L'Or%C3%A9e de la Brie":MAILTO:communaute@loreedelabrie.fr
END:VEVENT
BEGIN:VEVENT
DTSTART;TZID=Europe/Paris:20260204T143000
DTEND;TZID=Europe/Paris:20260204T173000
DTSTAMP:20260420T210337
CREATED:20260130T150113Z
LAST-MODIFIED:20260130T150307Z
UID:16634-1770215400-1770226200@www.loreedelabrie.fr
SUMMARY:[CCOB][MICRO-FOLIE] L'impressionnisme
DESCRIPTION:
URL:https://www.loreedelabrie.fr/evenement/ccobmicro-folie/
LOCATION:L’Orée de la Brie\, 1 rue Léonard de Vinci\, Brie-Comte-Robert\, 77170\, France
CATEGORIES:Culture,Micro-folie
ATTACH;FMTTYPE=image/png:https://www.loreedelabrie.fr/wp-content/uploads/tribe_events/micro-folie.jpg-2.png
ORGANIZER;CN="L'Or%C3%A9e de la Brie":MAILTO:communaute@loreedelabrie.fr
END:VEVENT
BEGIN:VEVENT
DTSTART;VALUE=DATE:20260207
DTEND;VALUE=DATE:20260209
DTSTAMP:20260420T210337
CREATED:20251217T084622Z
LAST-MODIFIED:20251217T084622Z
UID:16417-1770422400-1770595199@www.loreedelabrie.fr
SUMMARY:[CCOB] L'Orée Game's Days
DESCRIPTION:Retrouvez la nouvelle édition de notre salon du jeu vidéo. \nInfos à venir.
URL:https://www.loreedelabrie.fr/evenement/ccob-loree-games-days-2/
LOCATION:Complexe sportif Blaise Pascal\, 1 allée Commandant Guesnet\, Brie-Comte-Robert\, 77170\, France
CATEGORIES:Culture,Enfance,Jeux,Salon
ATTACH;FMTTYPE=image/jpeg:https://www.loreedelabrie.fr/wp-content/uploads/tribe_events/jeu-video.jpg
ORGANIZER;CN="L'Or%C3%A9e de la Brie":MAILTO:communaute@loreedelabrie.fr
END:VEVENT
BEGIN:VEVENT
DTSTART;TZID=Europe/Paris:20260211T100000
DTEND;TZID=Europe/Paris:20260211T120000
DTSTAMP:20260420T210337
CREATED:20260202T083633Z
LAST-MODIFIED:20260202T083633Z
UID:16641-1770804000-1770811200@www.loreedelabrie.fr
SUMMARY:[CCOB][MICRO-FOLIE] Casque VR
DESCRIPTION:
URL:https://www.loreedelabrie.fr/evenement/ccobmicro-folie-casque-vr/
LOCATION:L’Orée de la Brie\, 1 rue Léonard de Vinci\, Brie-Comte-Robert\, 77170\, France
CATEGORIES:Culture,Micro-folie
ATTACH;FMTTYPE=image/png:https://www.loreedelabrie.fr/wp-content/uploads/tribe_events/micro-folie.jpg-2.png
ORGANIZER;CN="L'Or%C3%A9e de la Brie":MAILTO:communaute@loreedelabrie.fr
END:VEVENT
BEGIN:VEVENT
DTSTART;TZID=Europe/Paris:20260211T143000
DTEND;TZID=Europe/Paris:20260211T173000
DTSTAMP:20260420T210337
CREATED:20260202T083407Z
LAST-MODIFIED:20260202T083407Z
UID:16639-1770820200-1770831000@www.loreedelabrie.fr
SUMMARY:[CCOB][MICRO-FOLIE] L'impressionnisme
DESCRIPTION:
URL:https://www.loreedelabrie.fr/evenement/ccobmicro-folie-limpressionnisme/
LOCATION:L’Orée de la Brie\, 1 rue Léonard de Vinci\, Brie-Comte-Robert\, 77170\, France
CATEGORIES:Culture,Micro-folie
ATTACH;FMTTYPE=image/png:https://www.loreedelabrie.fr/wp-content/uploads/tribe_events/micro-folie.jpg-2.png
ORGANIZER;CN="L'Or%C3%A9e de la Brie":MAILTO:communaute@loreedelabrie.fr
END:VEVENT
BEGIN:VEVENT
DTSTART;TZID=Europe/Paris:20260218T143000
DTEND;TZID=Europe/Paris:20260218T173000
DTSTAMP:20260420T210337
CREATED:20260202T084359Z
LAST-MODIFIED:20260202T084359Z
UID:16643-1771425000-1771435800@www.loreedelabrie.fr
SUMMARY:[CCOB][MICRO-FOLIE] L'impressionnisme
DESCRIPTION:
URL:https://www.loreedelabrie.fr/evenement/ccobmicro-folie-limpressionnisme-2/
LOCATION:L’Orée de la Brie\, 1 rue Léonard de Vinci\, Brie-Comte-Robert\, 77170\, France
CATEGORIES:Culture,Micro-folie
ATTACH;FMTTYPE=image/png:https://www.loreedelabrie.fr/wp-content/uploads/tribe_events/micro-folie.jpg-2.png
ORGANIZER;CN="L'Or%C3%A9e de la Brie":MAILTO:communaute@loreedelabrie.fr
END:VEVENT
BEGIN:VEVENT
DTSTART;TZID=Europe/Paris:20260223T133000
DTEND;TZID=Europe/Paris:20260224T173000
DTSTAMP:20260420T210337
CREATED:20260202T084922Z
LAST-MODIFIED:20260217T130201Z
UID:16645-1771853400-1771954200@www.loreedelabrie.fr
SUMMARY:[CCOB][MICRO-FOLIE] L'histoire du Studio Ghibli
DESCRIPTION:
URL:https://www.loreedelabrie.fr/evenement/ccobmicro-folie-lhistoire-du-studio-ghibli/
LOCATION:L’Orée de la Brie\, 1 rue Léonard de Vinci\, Brie-Comte-Robert\, 77170\, France
CATEGORIES:Culture,Micro-folie
ATTACH;FMTTYPE=image/png:https://www.loreedelabrie.fr/wp-content/uploads/tribe_events/micro-folie.jpg-2.png
ORGANIZER;CN="L'Or%C3%A9e de la Brie":MAILTO:communaute@loreedelabrie.fr
END:VEVENT
BEGIN:VEVENT
DTSTART;TZID=Europe/Paris:20260226T133000
DTEND;TZID=Europe/Paris:20260226T173000
DTSTAMP:20260420T210337
CREATED:20260217T130545Z
LAST-MODIFIED:20260217T130545Z
UID:16738-1772112600-1772127000@www.loreedelabrie.fr
SUMMARY:[CCOB][MICRO-FOLIE] L'histoire du Studio Ghibli
DESCRIPTION:
URL:https://www.loreedelabrie.fr/evenement/ccobmicro-folie-lhistoire-du-studio-ghibli-3/
LOCATION:L’Orée de la Brie\, 1 rue Léonard de Vinci\, Brie-Comte-Robert\, 77170\, France
CATEGORIES:Culture,Micro-folie
ATTACH;FMTTYPE=image/png:https://www.loreedelabrie.fr/wp-content/uploads/tribe_events/micro-folie.jpg-2.png
ORGANIZER;CN="L'Or%C3%A9e de la Brie":MAILTO:communaute@loreedelabrie.fr
END:VEVENT
BEGIN:VEVENT
DTSTART;TZID=Europe/Paris:20260227T203000
DTEND;TZID=Europe/Paris:20260301T203000
DTSTAMP:20260420T210337
CREATED:20260202T111750Z
LAST-MODIFIED:20260216T104500Z
UID:16677-1772224200-1772397000@www.loreedelabrie.fr
SUMMARY:[CCOB] La fête du théâtre
DESCRIPTION:  \nAprès 2 ans d’absence (dernière édition en 2023)\, la fête du théâtre de la Communauté de communes de l’Orée de la Brie et de la Compagnie « À tour de Rôle » fait son grand retour. \nElle aura lieu les 27\, 28 février et le 1er mars ainsi que les 6\, 7 et 8 mars sur les communes de Brie-Comte-Robert\, Chevry-Cossigny et Varennes-Jarcy. \nPour la commune de Brie-Comte-Robert\, le rendez-vous est fixé soit au Potomak\, soit à l’auditorium Claude Tournier. Pour Chevry-Cossigny\, les représentations auront lieu à la salle de spectacle La Marmite et pour Varennes-Jarcy\, ce sera la salle des fêtes Gérard Josselin qui verra le rideau rouge se lever. \nHoraires des représentations (1 représentation par jour) : \nLes vendredis 27/02 et 06/03 et les samedis 28/02 et 07/03 : 20h30 \nLes dimanches 1er et 8 mars : 15h30 \nEntrée libre\nRémunération au chapeau \n  \nFetedutheatreprogramme \n  \n \n 
URL:https://www.loreedelabrie.fr/evenement/ccob-la-fete-du-theatre/
CATEGORIES:Culture,Théâtre
ATTACH;FMTTYPE=image/jpeg:https://www.loreedelabrie.fr/wp-content/uploads/tribe_events/Theatre.jpg
ORGANIZER;CN="L'Or%C3%A9e de la Brie":MAILTO:communaute@loreedelabrie.fr
END:VEVENT
END:VCALENDAR